From mboxrd@z Thu Jan 1 00:00:00 1970 Return-Path: Received: from mails.dpdk.org (mails.dpdk.org [217.70.189.124]) by inbox.dpdk.org (Postfix) with ESMTP id AC00048875 for ; Tue, 30 Sep 2025 22:47:55 +0200 (CEST) Received: from mails.dpdk.org (localhost [127.0.0.1]) by mails.dpdk.org (Postfix) with ESMTP id A73C0400EF; Tue, 30 Sep 2025 22:47:55 +0200 (CEST) Received: from mail-il1-f228.google.com (mail-il1-f228.google.com [209.85.166.228]) by mails.dpdk.org (Postfix) with ESMTP id 394AD400EF for ; Tue, 30 Sep 2025 22:47:54 +0200 (CEST) Received: by mail-il1-f228.google.com with SMTP id e9e14a558f8ab-42861442e8eso19440025ab.2 for ; Tue, 30 Sep 2025 13:47:54 -0700 (PDT) DKIM-Signature: v=1; a=rsa-sha256; c=relaxed/relaxed; d=iol.unh.edu; s=unh-iol; t=1759265273; x=1759870073; darn=dpdk.org; h=cc:to:from:subject:message-id:date:from:to:cc:subject:date :message-id:reply-to; bh=KOHlpHL354fKw9KEiYtgL9GECHNTxExwlh4ItZGu2WU=; b=Jhcq86HT1vWs+Pc+5iphZsDs26EwYb9ngrE4UwKTL5WvObvX1lTKWmOlbRytZJMIVP woo8Pf1fQU/v0A94b3NfLRwqDy0acmh+XkyUsg4DsvXsgG58UVQGsdv8vcQoyBo644Tp njKNsU8G4oWteVvytNBBS3vwoa1IlVK8U5GnQ= X-Google-DKIM-Signature: v=1; a=rsa-sha256; c=relaxed/relaxed; d=1e100.net; s=20230601; t=1759265273; x=1759870073; h=cc:to:from:subject:message-id:date:x-gm-message-state:from:to:cc :subject:date:message-id:reply-to; bh=KOHlpHL354fKw9KEiYtgL9GECHNTxExwlh4ItZGu2WU=; b=l0OBSrrQyvkYX4g0s/IlTVAhGWyiT4ReMYKSuoSrMMf3DHTTdhX7G+Ld/eCDdsyXvw /tq6+LsMiPS5kapjPwno9a3K1znDkiJmxuPfttAGR8Qu8Sl0GJVE7KvK7SwDRb3v0jca NRWAQPQRc2FPMFzZzRX7aKFU5gU4ztLvRvWWSqnrli09At46o4LXIKOnjzCzqfLqX+3j ODVTjIPAndwRI6UAb0so4XJIzspn+Ylotx1tAJjE6/CdkSzXPkt9t7fy5i15w0iYzhFF R52zapnF4M7ZEMLJ+nfnn1V5aXekmHEfMj9Mym4vFf7Ghl32ju33lkRfJY5g5drP/1bF zhrw== X-Gm-Message-State: AOJu0Yxhu7zdiDEy7KLG2xWPe7xL8VPvTA/5p0mxGoLeYn6PrZAubNow eMgpEZXGzUElV9M1wuSIdZ/QLbrDipu2spmEOxIxdk46KXENUu0IMSwrdO15t1Su7nK7JFuBjmt l4/RVcT+eszkqf9TmjFm3U/Z4QzB19YK+5dnvYLChuV5V X-Gm-Gg: ASbGnctjUJK0cd0lurIrSvD46vvjg7egkgEaQQW3OfClOU8MfqHWWP02IuXpc3kk3Mt 6Y+EjuWRlul8GlSLONtdINaOMLyUn8L0aiEOsAeIU8n8QD9dMcmgcB+ft/6OZavYWGGk8XUxpwU 4Z65bx68f+wSmAasYYwSoehUWXZckMi69YWLMt4lVZWJCUPdOe5aiNqwqgYvMJuXJOa3Jdpfs7x LA00DxeO29hV7V5DLHyxj3eK5EQ497S3QB2Cv/Hz+9Vrr+aaPa+8SOAIDHlg7QJOqVUVcv3H8R+ /NvdY5NWLH3YZaK1K6lU97yyaqJYkyGN4ekThW8EJu+9PEOfRFVf7Ip/28gQnsZs7Gf34or2SIK 4PQ== X-Google-Smtp-Source: AGHT+IF14qpKaExl3HypFEX/9rKMHWgKG+3wFBiVDtnuXUscQ6mmPviNCDdHhZlvONdlw4L1Z2XhPtH5JcZT X-Received: by 2002:a05:6e02:b21:b0:42d:7e2c:78b8 with SMTP id e9e14a558f8ab-42d815abbfdmr19285195ab.2.1759265273459; Tue, 30 Sep 2025 13:47:53 -0700 (PDT) Received: from postal.iol.unh.edu (postal.iol.unh.edu. [132.177.123.84]) by smtp-relay.gmail.com with ESMTPS id e9e14a558f8ab-425bf6d5023sm11471205ab.24.2025.09.30.13.47.53 (version=TLS1_2 cipher=ECDHE-ECDSA-AES128-GCM-SHA256 bits=128/128); Tue, 30 Sep 2025 13:47:53 -0700 (PDT) X-Relaying-Domain: iol.unh.edu Date: Tue, 30 Sep 2025 13:47:53 -0700 (PDT) Message-ID: <68dc41f9.050a0220.355782.48d5SMTPIN_ADDED_MISSING@mx.google.com> Received: from [172.21.0.2] (unknown [172.18.0.240]) by postal.iol.unh.edu (Postfix) with ESMTP id 1E781604D420; Tue, 30 Sep 2025 16:47:53 -0400 (EDT) Subject: |SUCCESS| [GIT MASTER] 8fafc107475f8456cf90cbb7e805236aafa6d547 From: dpdklab@iol.unh.edu To: Test Report Cc: dpdk-test-reports@iol.unh.edu, Akhil Goyal Content-Type: text/plain X-BeenThere: test-report@dpdk.org X-Mailman-Version: 2.1.29 Precedence: list List-Id: automatic DPDK test reports List-Unsubscribe: , List-Archive: List-Post: List-Help: List-Subscribe: , Errors-To: test-report-bounces@dpdk.org _Testing PASS_ Branch: dpdk-next-crypto 8fafc107475f8456cf90cbb7e805236aafa6d547 --> testing pass Upstream job id: Windows-Compile-DPDK-Native#31336 Test environment and result as below: +---------------------+--------------------+-------------------+-------------------------+----------------------+ | Environment | dpdk_meson_compile | dpdk_msvc_compile | dpdk_llvm_clang_compile | dpdk_mingw64_compile | +=====================+====================+===================+=========================+======================+ | Ubuntu 20.04 | PASS | SKIPPED | SKIPPED | SKIPPED | +---------------------+--------------------+-------------------+-------------------------+----------------------+ | FreeBSD 14.2 | PASS | SKIPPED | SKIPPED | SKIPPED | +---------------------+--------------------+-------------------+-------------------------+----------------------+ | Windows Server 2022 | SKIPPED | PASS | PASS | PASS | +---------------------+--------------------+-------------------+-------------------------+----------------------+ Ubuntu 20.04 Kernel: 4.19 Compiler: gcc gcc (Ubuntu 9.4.0-1ubuntu1~20.04.2) 9.4.0 FreeBSD 14.2 Kernel: 14.2-RELEASE Compiler: clang 18.1.6 Windows Server 2022 Kernel: 10.0.20348.2031 Compiler: clang 15.0.7, gcc 14.1.0 (MinGW), and MSVC VS 19.39.33521 To view detailed results, visit: https://lab.dpdk.org/results/dashboard/tarballs/35065/ UNH-IOL DPDK Community Lab To manage your email subscriptions, visit: https://lab.dpdk.org/results/dashboard/preferences/subscriptions/