From mboxrd@z Thu Jan 1 00:00:00 1970 Return-Path: Received: from mails.dpdk.org (mails.dpdk.org [217.70.189.124]) by inbox.dpdk.org (Postfix) with ESMTP id D222648875 for ; Tue, 30 Sep 2025 22:57:36 +0200 (CEST) Received: from mails.dpdk.org (localhost [127.0.0.1]) by mails.dpdk.org (Postfix) with ESMTP id B1395400EF; Tue, 30 Sep 2025 22:57:36 +0200 (CEST) Received: from mail-oa1-f100.google.com (mail-oa1-f100.google.com [209.85.160.100]) by mails.dpdk.org (Postfix) with ESMTP id 9EF3C400EF for ; Tue, 30 Sep 2025 22:57:35 +0200 (CEST) Received: by mail-oa1-f100.google.com with SMTP id 586e51a60fabf-32bd4f1b671so222592fac.0 for ; Tue, 30 Sep 2025 13:57:35 -0700 (PDT) DKIM-Signature: v=1; a=rsa-sha256; c=relaxed/relaxed; d=iol.unh.edu; s=unh-iol; t=1759265855; x=1759870655; darn=dpdk.org; h=cc:to:from:subject:message-id:date:from:to:cc:subject:date :message-id:reply-to; bh=DXVgZ5Wqz+3JOn9vWJT2rvksMlYuX/ko0rijAD3wTs4=; b=HhZQxv494lEwHASh75RjqZgUQnHtjnGbdgNw4bcE0ml6B5veH+OXrqFFGi70jMO2QZ CyJZN3ELjjpXF73TEvkeITskDHJvt+vBkxhN8rPqQodFzInXqx1PDFqZ4hJeg4XYQBF9 UISLB81MAfczsJRbXbRoWuHHXQiagrS2Z1B38= X-Google-DKIM-Signature: v=1; a=rsa-sha256; c=relaxed/relaxed; d=1e100.net; s=20230601; t=1759265855; x=1759870655; h=cc:to:from:subject:message-id:date:x-gm-message-state:from:to:cc :subject:date:message-id:reply-to; bh=DXVgZ5Wqz+3JOn9vWJT2rvksMlYuX/ko0rijAD3wTs4=; b=cYm6IubCQRHfX6pVazjNLAcUVVoKYjNZrafWgGjCzl3PKsGjz6QnHjpyAB+O1u6/J5 R3a70x16LTw1Vucz6HVU6+fL5+S786m41qavLnInifDE//pSdCnQWbsyh+5NirjxOWiA mxog8vlzz3JHP1fWSXcb1/ZBe+uvh3s/IwsULeCTQ/Z/NHm2MjDolOummbxOWXJ4bGhQ gVdQS2qzOfK0ftomIMQyd8AOUk3Hwreszt127VD/ADBuVU54ABo7pXObfxI+bAzQwgu8 Nq1ePtzgkyrNJWTQRWOcP1ldSp8apHPqFX33oQagUT6SNChv6zJ3Lpl1QzBqRy/06P+w RQ6w== X-Gm-Message-State: AOJu0Yznq5qsyuF5fhCUQLssyleHxCZGUO6aycvq841szjCimBeNPGj5 zBjHSbZSmpong7UfgXiFh/pjhWZRla/YMB0gDeS7YrBHjFMqLGCt0a5JdBuZIXcXil21SGCGX9D NPJ+Bv/LW93MRnUCFkFtGt/8okYxZJi3DmUYUrLCip7Tm X-Gm-Gg: ASbGncsGvmQh/CrLkrEojRBs2+DKO3I0oD6E/BleOTsjTGh57KMhadwgKsJ3bKdarEK zgqb7K3wYS/CxWMaIysAcDcvwr81rCt/mRO1DuJUBxnRYckpREWNKA/UNsCLXRw7RoqzxK/EdEY KnRwR+tbO83UVqkUVCReeCwTqjTYMQdhJdQfcW0aw+nQPV/Efo5Ngu3x4uuWzPrfDliMeaQnxwi tzxda5GT5bT3PS3xlxWV+aUQWMwf+18jXfVThOgzaaKoHKrDv8qX3qollgO7ud94o5iFy7p840r 1tK6dZew1b/E7tJbiQJ0k9v6JF3MiKMCHG/12Xz5vRwtXkcHOEHVnRtnciTdDjeWs8ht2SvkjfP iXA== X-Google-Smtp-Source: AGHT+IG8lsas7Niop1V+pt325jAIaBt1PHkd55y2cWMc5ip2Qv3Lh/oZley69Rs4SVM37+vD9pilIjXkC17G X-Received: by 2002:a05:6870:71ce:b0:331:7220:f4c4 with SMTP id 586e51a60fabf-38cd3adbea6mr3159132fac.13.1759265854839; Tue, 30 Sep 2025 13:57:34 -0700 (PDT) Received: from postal.iol.unh.edu (postal.iol.unh.edu. [132.177.123.84]) by smtp-relay.gmail.com with ESMTPS id 586e51a60fabf-36fbbd60661sm963437fac.12.2025.09.30.13.57.34 (version=TLS1_2 cipher=ECDHE-ECDSA-AES128-GCM-SHA256 bits=128/128); Tue, 30 Sep 2025 13:57:34 -0700 (PDT) X-Relaying-Domain: iol.unh.edu Date: Tue, 30 Sep 2025 13:57:34 -0700 (PDT) Message-ID: <68dc443e.050a0220.e0d1a.a3e3SMTPIN_ADDED_MISSING@mx.google.com> Received: from [172.21.0.2] (unknown [172.18.0.240]) by postal.iol.unh.edu (Postfix) with ESMTP id 5B2A1604D420; Tue, 30 Sep 2025 16:57:34 -0400 (EDT) Subject: |SUCCESS| [GIT MASTER] 8fafc107475f8456cf90cbb7e805236aafa6d547 From: dpdklab@iol.unh.edu To: Test Report Cc: dpdk-test-reports@iol.unh.edu, Akhil Goyal Content-Type: text/plain X-BeenThere: test-report@dpdk.org X-Mailman-Version: 2.1.29 Precedence: list List-Id: automatic DPDK test reports List-Unsubscribe: , List-Archive: List-Post: List-Help: List-Subscribe: , Errors-To: test-report-bounces@dpdk.org _Testing PASS_ Branch: dpdk-next-crypto 8fafc107475f8456cf90cbb7e805236aafa6d547 --> testing pass Upstream job id: Generic-VM-Unit-Test-DPDK#31505 Test environment and result as below: +-------------------------------+----------------+ | Environment | dpdk_unit_test | +===============================+================+ | CentOS Stream 9 | PASS | +-------------------------------+----------------+ | CentOS Stream 10 | PASS | +-------------------------------+----------------+ | Debian GNU/Linux 12 | PASS | +-------------------------------+----------------+ | Fedora Linux 41 | PASS | +-------------------------------+----------------+ | Fedora Linux 40 | PASS | +-------------------------------+----------------+ | Fedora Linux 42 | PASS | +-------------------------------+----------------+ | Red Hat Enterprise Linux 8.10 | PASS | +-------------------------------+----------------+ | Ubuntu 20.04 | PASS | +-------------------------------+----------------+ | Ubuntu 22.04 | PASS | +-------------------------------+----------------+ | Red Hat Enterprise Linux 9.5 | PASS | +-------------------------------+----------------+ | Ubuntu 24.04 | PASS | +-------------------------------+----------------+ | Windows Server 2022 | PASS | +-------------------------------+----------------+ CentOS Stream 9 Kernel: 5.15 Compiler: gcc gcc (GCC) 11.5.0 20240719 (Red Hat 11.5.0-11) CentOS Stream 10 Kernel: 5.15 Compiler: gcc gcc (GCC) 14.2.1 20250110 (Red Hat 14.2.1-8) Debian GNU/Linux 12 Kernel: 5.15 Compiler: gcc gcc (Debian 12.2.0-14+deb12u1) 12.2.0 Fedora Linux 41 Kernel: 5.15 Compiler: gcc gcc (GCC) 14.3.1 20250523 (Red Hat 14.3.1-1) Fedora Linux 40 Kernel: 5.15 Compiler: clang gcc (GCC) 14.2.1 20240912 (Red Hat 14.2.1-3) Fedora Linux 42 Kernel: 5.15 Compiler: gcc gcc (GCC) 15.2.1 20250808 (Red Hat 15.2.1-1) Red Hat Enterprise Linux 8.10 Kernel: 5.15 Compiler: gcc gcc (GCC) 8.5.0 20210514 (Red Hat 8.5.0-22) Ubuntu 20.04 Kernel: 5.15 Compiler: gcc gcc (Ubuntu 9.4.0-1ubuntu1~20.04.2) 9.4.0 Ubuntu 22.04 Kernel: 5.15 Compiler: gcc gcc (Ubuntu 11.4.0-1ubuntu1~22.04) 11.4.0 Red Hat Enterprise Linux 9.5 Kernel: 5.15 Compiler: gcc gcc (GCC) 11.5.0 20240719 (Red Hat 11.5.0-2) Ubuntu 24.04 Kernel: 5.15 Compiler: gcc gcc (Ubuntu 13.3.0-6ubuntu2~24.04) 13.3.0 Windows Server 2022 Kernel: 10.0.20348.2031 Compiler: clang 15.0.7, gcc 14.1.0 (MinGW), and MSVC VS 19.39.33521 To view detailed results, visit: https://lab.dpdk.org/results/dashboard/tarballs/35065/ UNH-IOL DPDK Community Lab To manage your email subscriptions, visit: https://lab.dpdk.org/results/dashboard/preferences/subscriptions/