From mboxrd@z Thu Jan 1 00:00:00 1970 Return-Path: Received: from mails.dpdk.org (mails.dpdk.org [217.70.189.124]) by inbox.dpdk.org (Postfix) with ESMTP id CD36F48875 for ; Tue, 30 Sep 2025 22:58:13 +0200 (CEST) Received: from mails.dpdk.org (localhost [127.0.0.1]) by mails.dpdk.org (Postfix) with ESMTP id C81B6400EF; Tue, 30 Sep 2025 22:58:13 +0200 (CEST) Received: from mail-pl1-f226.google.com (mail-pl1-f226.google.com [209.85.214.226]) by mails.dpdk.org (Postfix) with ESMTP id 0251C400EF for ; Tue, 30 Sep 2025 22:58:13 +0200 (CEST) Received: by mail-pl1-f226.google.com with SMTP id d9443c01a7336-27eed7bdfeeso4501495ad.0 for ; Tue, 30 Sep 2025 13:58:12 -0700 (PDT) DKIM-Signature: v=1; a=rsa-sha256; c=relaxed/relaxed; d=iol.unh.edu; s=unh-iol; t=1759265892; x=1759870692; darn=dpdk.org; h=references:in-reply-to:cc:to:from:subject:message-id:date:from:to :cc:subject:date:message-id:reply-to; bh=GHvjchJxmFsEb8EUoMTNGOCyyeAN8NpH9F8z56b37zU=; b=KR7Gdq4yUsh9BDjDUoH/KgE+q2/f3eu3ID6FOt3SOldnkQW9RWGcMIn4fX7BW4tPps LLZmd9ZfVhtF3WfdKqsj/jpAlDIi5GBkEL1DQyx0g75buc19tXsGW3ZJEkrwp0Kl33Re MQrcbUuR7hjbXExCqNO4VJqWWkQ1Aojn2tAcY= X-Google-DKIM-Signature: v=1; a=rsa-sha256; c=relaxed/relaxed; d=1e100.net; s=20230601; t=1759265892; x=1759870692; h=references:in-reply-to:cc:to:from:subject:message-id:date :x-gm-message-state:from:to:cc:subject:date:message-id:reply-to; bh=GHvjchJxmFsEb8EUoMTNGOCyyeAN8NpH9F8z56b37zU=; b=S54aYBtCYoNafVeBD3bCLjj3AW9+XXG2tCHgHF1qMlrH8Ghkr9xbQ4OHxROEqIp4Ov AUJxeirV7fhKVfoCLoBlnLWg9/AxN2mzPYDJD8sjXjnoD4qx2ZbjE1Q3ldYrYjN0Xpi0 /4QIU7gw6GHaPdpDCYEDPjhebYvV9LZfqBYR3y9hJISeInhQBRUxKFtf8YQtIelDEELr 0pLztVfm3xQoEmhHJT+qD3TJsc+JcRvt9Z6/zvCfdDStmXx3QtUqYO3XXMQlwRsKkhns LVOVbHcv8bOrzQRo0nA4+TOhKlzff4zpR/hsqNC8z+JNoY7pQFJ86A12ITuxZ/9KQFlf DsHw== X-Gm-Message-State: AOJu0YwhwbiAiN9QGrjYfpzY2huC4oL2kiogrt/q6nSAAGGuuEe4DzO4 dKHfe0vk01BXao5nddwW1N+YJkas5e3+x391vIwcduoaeHwtIVjSc5+wixP+pgZq3qo8BOGg8rZ YXFnw5lIUh1sbR3qau6yZEGCqmMUMEy3Sl7A7gh2QQjzW X-Gm-Gg: ASbGncviDaDuQ1kH41uFfBJup8VRB60TprvHBC78piiTaqMIk4/j6MCM0xZZin0x7tV Bze1XTbtRt7zJoMEyLW/ZWHGMmV/h2u5g/VsvMMl5gBcLcRGSHByk38V+78TOztTGSQY9BQHNLO 8w8ArdsmgPG3TuEim0llF5MD5b5OW645FlQVUnTD48YK2oHEf2zrHwApDSfSvj9dL4tXRZZfWK3 H8dPcaoWlaTEUnG0g5IuWXqd68Psj8s1Np56mT5nWAdidcj8ytpPvw/UsCuoM4Bngjzk/PGnhrA 2HcXEVu82/EV6PoaQ5fPFO8J6+4cd/9HbFZxmxcU1cWAklgcATULldrDWcORjTGyjj8FDyPfwvD vxA== X-Google-Smtp-Source: AGHT+IEdKw1tOE3bCA8FjioKI7T2JVHRUcByTauj/hgjBmfavWJorzqyhZ6fDHofzpCJ9/Dsde/nFDI7i6IX X-Received: by 2002:a17:902:cf4a:b0:271:9b0e:54ca with SMTP id d9443c01a7336-28d16f98ee0mr64574705ad.13.1759265892113; Tue, 30 Sep 2025 13:58:12 -0700 (PDT) Received: from postal.iol.unh.edu (postal.iol.unh.edu. [132.177.123.84]) by smtp-relay.gmail.com with ESMTPS id 98e67ed59e1d1-339a6ecaa48sm51125a91.3.2025.09.30.13.58.11 (version=TLS1_2 cipher=ECDHE-ECDSA-AES128-GCM-SHA256 bits=128/128); Tue, 30 Sep 2025 13:58:12 -0700 (PDT) X-Relaying-Domain: iol.unh.edu Date: Tue, 30 Sep 2025 13:58:12 -0700 (PDT) Message-ID: <68dc4464.170a0220.32cc9.38e9SMTPIN_ADDED_MISSING@mx.google.com> Received: from [172.21.0.5] (unknown [172.18.0.240]) by postal.iol.unh.edu (Postfix) with ESMTP id 583CF604D420; Tue, 30 Sep 2025 16:58:11 -0400 (EDT) Subject: |SUCCESS| pw157143 [PATCH] net/ice: fix initialization with 8 ports From: dpdklab@iol.unh.edu To: Test Report Cc: dpdk-test-reports@iol.unh.edu, Bruce Richardson In-Reply-To: <20250930142850.1782615-1-bruce.richardson@intel.com> References: <20250930142850.1782615-1-bruce.richardson@intel.com> Content-Type: text/plain X-BeenThere: test-report@dpdk.org X-Mailman-Version: 2.1.29 Precedence: list List-Id: automatic DPDK test reports List-Unsubscribe: , List-Archive: List-Post: List-Help: List-Subscribe: , Errors-To: test-report-bounces@dpdk.org Test-Label: iol-compile-amd64-testing Test-Status: SUCCESS http://dpdk.org/patch/157143 _Testing PASS_ Submitter: Bruce Richardson Date: Tuesday, September 30 2025 14:28:50 DPDK git baseline: Repo:dpdk-next-net-intel Branch: master CommitID:9845e5848bbe337306fb6ae2a6b1ce5e6ab5b714 157143 --> testing pass Upstream job id: Generic-DPDK-Compile-Meson#430129 Test environment and result as below: +-------------------------------+--------------------+-------------------------+-------------------+----------------------+-------------------+------------------+ | Environment | dpdk_meson_compile | dpdk_llvm_clang_compile | dpdk_msvc_compile | dpdk_mingw64_compile | dpdk_compile_spdk | dpdk_compile_ovs | +===============================+====================+=========================+===================+======================+===================+==================+ | Ubuntu 20.04 | PASS | SKIPPED | SKIPPED | SKIPPED | SKIPPED | SKIPPED | +-------------------------------+--------------------+-------------------------+-------------------+----------------------+-------------------+------------------+ | FreeBSD 14.2 | PASS | SKIPPED | SKIPPED | SKIPPED | SKIPPED | SKIPPED | +-------------------------------+--------------------+-------------------------+-------------------+----------------------+-------------------+------------------+ | CentOS Stream 9 | PASS | SKIPPED | SKIPPED | SKIPPED | PASS | SKIPPED | +-------------------------------+--------------------+-------------------------+-------------------+----------------------+-------------------+------------------+ | Debian GNU/Linux 12 | PASS | SKIPPED | SKIPPED | SKIPPED | PASS | SKIPPED | +-------------------------------+--------------------+-------------------------+-------------------+----------------------+-------------------+------------------+ | CentOS Stream 10 | PASS | SKIPPED | SKIPPED | SKIPPED | SKIPPED | SKIPPED | +-------------------------------+--------------------+-------------------------+-------------------+----------------------+-------------------+------------------+ | Fedora Linux 42 | PASS | SKIPPED | SKIPPED | SKIPPED | PASS | PASS | +-------------------------------+--------------------+-------------------------+-------------------+----------------------+-------------------+------------------+ | openSUSE Leap 15.6 | PASS | SKIPPED | SKIPPED | SKIPPED | SKIPPED | SKIPPED | +-------------------------------+--------------------+-------------------------+-------------------+----------------------+-------------------+------------------+ | Red Hat Enterprise Linux 8.10 | PASS | SKIPPED | SKIPPED | SKIPPED | SKIPPED | SKIPPED | +-------------------------------+--------------------+-------------------------+-------------------+----------------------+-------------------+------------------+ | Red Hat Enterprise Linux 9.5 | PASS | SKIPPED | SKIPPED | SKIPPED | SKIPPED | SKIPPED | +-------------------------------+--------------------+-------------------------+-------------------+----------------------+-------------------+------------------+ | Ubuntu 22.04 | PASS | SKIPPED | SKIPPED | SKIPPED | PASS | SKIPPED | +-------------------------------+--------------------+-------------------------+-------------------+----------------------+-------------------+------------------+ | Windows Server 2022 | SKIPPED | PASS | PASS | PASS | SKIPPED | SKIPPED | +-------------------------------+--------------------+-------------------------+-------------------+----------------------+-------------------+------------------+ Ubuntu 20.04 Kernel: 4.19 Compiler: gcc gcc (Ubuntu 9.4.0-1ubuntu1~20.04.2) 9.4.0 FreeBSD 14.2 Kernel: 14.2-RELEASE Compiler: clang 18.1.6 CentOS Stream 9 Kernel: 5.15 Compiler: gcc gcc (GCC) 11.5.0 20240719 (Red Hat 11.5.0-11) Debian GNU/Linux 12 Kernel: 5.15 Compiler: gcc gcc (Debian 12.2.0-14+deb12u1) 12.2.0 CentOS Stream 10 Kernel: 5.15 Compiler: gcc gcc (GCC) 14.2.1 20250110 (Red Hat 14.2.1-8) Fedora Linux 42 Kernel: 5.15 Compiler: clang gcc (GCC) 15.2.1 20250808 (Red Hat 15.2.1-1) openSUSE Leap 15.6 Kernel: 5.15 Compiler: gcc gcc (SUSE Linux) 7.5.0 Red Hat Enterprise Linux 8.10 Kernel: 5.15 Compiler: gcc gcc (GCC) 8.5.0 20210514 (Red Hat 8.5.0-22) Red Hat Enterprise Linux 9.5 Kernel: 5.15 Compiler: gcc gcc (GCC) 11.5.0 20240719 (Red Hat 11.5.0-2) Ubuntu 22.04 Kernel: 5.15 Compiler: gcc gcc (Ubuntu 11.4.0-1ubuntu1~22.04) 11.4.0 Windows Server 2022 Kernel: 10.0.20348.2031 Compiler: clang 15.0.7, gcc 14.1.0 (MinGW), and MSVC VS 19.39.33521 To view detailed results, visit: https://lab.dpdk.org/results/dashboard/patchsets/34184/ UNH-IOL DPDK Community Lab To manage your email subscriptions, visit: https://lab.dpdk.org/results/dashboard/preferences/subscriptions/