From mboxrd@z Thu Jan 1 00:00:00 1970 Return-Path: Received: from mails.dpdk.org (mails.dpdk.org [217.70.189.124]) by inbox.dpdk.org (Postfix) with ESMTP id 2202548875 for ; Tue, 30 Sep 2025 23:19:22 +0200 (CEST) Received: from mails.dpdk.org (localhost [127.0.0.1]) by mails.dpdk.org (Postfix) with ESMTP id 02EDF400EF; Tue, 30 Sep 2025 23:19:22 +0200 (CEST) Received: from mail-io1-f97.google.com (mail-io1-f97.google.com [209.85.166.97]) by mails.dpdk.org (Postfix) with ESMTP id D4271400EF for ; Tue, 30 Sep 2025 23:19:20 +0200 (CEST) Received: by mail-io1-f97.google.com with SMTP id ca18e2360f4ac-8cc0cb783ffso578514239f.2 for ; Tue, 30 Sep 2025 14:19:20 -0700 (PDT) DKIM-Signature: v=1; a=rsa-sha256; c=relaxed/relaxed; d=iol.unh.edu; s=unh-iol; t=1759267160; x=1759871960; darn=dpdk.org; h=references:in-reply-to:cc:to:from:subject:message-id:date:from:to :cc:subject:date:message-id:reply-to; bh=GEr8dv45llhIvuxBUNAyBALDVLK0HqsvYeiq/flw7CY=; b=UJbFMYmnWZOOPhe3eLjHaSD958/+JpKc3YkUY7kp0tfubC0J8YcIXYGwuLYHGUgYuS dmA0sJNoRHuQukCYOLXBU3fNzoHqZBeELrYRZllglcQdZyrWIstAaTZ6mxFx3mGVPWCk ZxcGuO6KsQUub0GXMtIDfSbxYAxNoDK0GapEc= X-Google-DKIM-Signature: v=1; a=rsa-sha256; c=relaxed/relaxed; d=1e100.net; s=20230601; t=1759267160; x=1759871960; h=references:in-reply-to:cc:to:from:subject:message-id:date :x-gm-message-state:from:to:cc:subject:date:message-id:reply-to; bh=GEr8dv45llhIvuxBUNAyBALDVLK0HqsvYeiq/flw7CY=; b=qbfe3GqhRQP8xMvVw7XcHvXcmLBHEh0o1PKT3+Fssfo4Qr6mlKPz7ZGOlMQCP/LLu+ c1ygzwMWDKytGXoMnx81lq2V8fWXHkqTTGVEIfJ5/BqWqSFLHOouBfUWQ99a3xbId2wE NorazNFlEvXNJGaTWM3c0PHwREsN9HjskCQGT3CeM8kg/bzCoFxEJvvt1nRt7GKJO3fV ObkcUH32eL0jFJnz4C8IjgW1T+Ams+wvj5wc8woW/zxVdZfDUZGqMwmEp6DPhPsrKfsf cYOg+yw7cd3ST7aHYlE9OosDlaXCair1dHu5drX+WCgMfJ84hLpBgR322NtaeEkLTIic NhoA== X-Gm-Message-State: AOJu0Yz4DSDh3iD3iprbsRyQ7ZO53+o90M66aXrdeoUG+FEsNPE+5XzP Tc/H9bQiLbzP7+43tMopUeUiQsMczMArl3Kz86VZutYcTOUH70//W2XK97KBDaHIW+fZoxI5spM oJFs0ZqwH+Gi3bF153yqaJTRemhqjt1tsG0IVakXmPB9BWMNCz4AjfTGNC5dM X-Gm-Gg: ASbGncseMVBY0Wkmpg0/d1XgwKYU6XJmfywMtagIF6Uh+fDB/ABwNRnQTVITM1wkVmM ym8su4X7iQOBkt7w9vPB7yzbAICkT/r/98/JcYuNtgnwCP2wnVyXkWHIGuxDbz2RObNjUlzBNwZ UY38uZhqyeVWzyl6k0g6HIsaMVydgA26DM0ExFpCuD7qV0dYa6bZu1XO9MuIlELFF+lHjQU5uY3 wCqw2kmZ3s50VU9cHhrgUyCKNCEK8AMMAwdntHNE4VmJwT5F3RRSrTT6CyEXxT/UsooFUANgnzT gicewV8Iss/4G7dHQ3qFuSRW2edx9b9PY4EzWesAsEKmChGl+6x1RdY= X-Google-Smtp-Source: AGHT+IHX/HiZxoBvrMEX9SKOcF0RIYn3NkvrlxscM6C1U4xHFdc/PK05Xlv+KS+dYCsy2s5/4tBu0hOep7jz X-Received: by 2002:a05:6e02:1fce:b0:428:3602:8f46 with SMTP id e9e14a558f8ab-42d81697626mr22212225ab.32.1759267160025; Tue, 30 Sep 2025 14:19:20 -0700 (PDT) Received: from postal.iol.unh.edu (postal.iol.unh.edu. [2606:4100:3880:1234::84]) by smtp-relay.gmail.com with ESMTPS id e9e14a558f8ab-425bc0b5914sm10912145ab.11.2025.09.30.14.19.19 (version=TLS1_2 cipher=ECDHE-ECDSA-AES128-GCM-SHA256 bits=128/128); Tue, 30 Sep 2025 14:19:20 -0700 (PDT) X-Relaying-Domain: iol.unh.edu Date: Tue, 30 Sep 2025 14:19:20 -0700 (PDT) Message-ID: <68dc4958.050a0220.2bd7a9.149cSMTPIN_ADDED_MISSING@mx.google.com> Received: from [172.21.0.2] (unknown [172.18.0.240]) by postal.iol.unh.edu (Postfix) with ESMTP id 85EE26051830; Tue, 30 Sep 2025 17:19:19 -0400 (EDT) Subject: |SUCCESS| pw157143 [PATCH] net/ice: fix initialization with 8 ports From: dpdklab@iol.unh.edu To: Test Report Cc: dpdk-test-reports@iol.unh.edu, Bruce Richardson In-Reply-To: <20250930142850.1782615-1-bruce.richardson@intel.com> References: <20250930142850.1782615-1-bruce.richardson@intel.com> Content-Type: text/plain X-BeenThere: test-report@dpdk.org X-Mailman-Version: 2.1.29 Precedence: list List-Id: automatic DPDK test reports List-Unsubscribe: , List-Archive: List-Post: List-Help: List-Subscribe: , Errors-To: test-report-bounces@dpdk.org Test-Label: iol-compile-amd64-testing Test-Status: SUCCESS http://dpdk.org/patch/157143 _Testing PASS_ Submitter: Bruce Richardson Date: Tuesday, September 30 2025 14:28:50 DPDK git baseline: Repo:dpdk-next-net-intel Branch: master CommitID:9845e5848bbe337306fb6ae2a6b1ce5e6ab5b714 157143 --> testing pass Upstream job id: Generic-DPDK-Compile-Meson#430133 Test environment and result as below: +-------------------------------+--------------------+-------------------------+-------------------+----------------------+-------------------+------------------+ | Environment | dpdk_meson_compile | dpdk_llvm_clang_compile | dpdk_msvc_compile | dpdk_mingw64_compile | dpdk_compile_spdk | dpdk_compile_ovs | +===============================+====================+=========================+===================+======================+===================+==================+ | Ubuntu 20.04 | PASS | SKIPPED | SKIPPED | SKIPPED | SKIPPED | SKIPPED | +-------------------------------+--------------------+-------------------------+-------------------+----------------------+-------------------+------------------+ | FreeBSD 14.2 | PASS | SKIPPED | SKIPPED | SKIPPED | SKIPPED | SKIPPED | +-------------------------------+--------------------+-------------------------+-------------------+----------------------+-------------------+------------------+ | CentOS Stream 9 | PASS | SKIPPED | SKIPPED | SKIPPED | PASS | SKIPPED | +-------------------------------+--------------------+-------------------------+-------------------+----------------------+-------------------+------------------+ | Debian GNU/Linux 12 | PASS | SKIPPED | SKIPPED | SKIPPED | PASS | SKIPPED | +-------------------------------+--------------------+-------------------------+-------------------+----------------------+-------------------+------------------+ | CentOS Stream 10 | PASS | SKIPPED | SKIPPED | SKIPPED | SKIPPED | SKIPPED | +-------------------------------+--------------------+-------------------------+-------------------+----------------------+-------------------+------------------+ | Fedora Linux 42 | PASS | SKIPPED | SKIPPED | SKIPPED | PASS | PASS | +-------------------------------+--------------------+-------------------------+-------------------+----------------------+-------------------+------------------+ | openSUSE Leap 15.6 | PASS | SKIPPED | SKIPPED | SKIPPED | SKIPPED | SKIPPED | +-------------------------------+--------------------+-------------------------+-------------------+----------------------+-------------------+------------------+ | Red Hat Enterprise Linux 8.10 | PASS | SKIPPED | SKIPPED | SKIPPED | SKIPPED | SKIPPED | +-------------------------------+--------------------+-------------------------+-------------------+----------------------+-------------------+------------------+ | Red Hat Enterprise Linux 9.5 | PASS | SKIPPED | SKIPPED | SKIPPED | SKIPPED | SKIPPED | +-------------------------------+--------------------+-------------------------+-------------------+----------------------+-------------------+------------------+ | Ubuntu 22.04 | PASS | SKIPPED | SKIPPED | SKIPPED | PASS | SKIPPED | +-------------------------------+--------------------+-------------------------+-------------------+----------------------+-------------------+------------------+ | Ubuntu 24.04 | PASS | SKIPPED | SKIPPED | SKIPPED | PASS | PASS | +-------------------------------+--------------------+-------------------------+-------------------+----------------------+-------------------+------------------+ | Windows Server 2022 | SKIPPED | PASS | PASS | PASS | SKIPPED | SKIPPED | +-------------------------------+--------------------+-------------------------+-------------------+----------------------+-------------------+------------------+ Ubuntu 20.04 Kernel: 4.19 Compiler: gcc gcc (Ubuntu 9.4.0-1ubuntu1~20.04.2) 9.4.0 FreeBSD 14.2 Kernel: 14.2-RELEASE Compiler: clang 18.1.6 CentOS Stream 9 Kernel: 5.15 Compiler: gcc gcc (GCC) 11.5.0 20240719 (Red Hat 11.5.0-11) Debian GNU/Linux 12 Kernel: 5.15 Compiler: gcc gcc (Debian 12.2.0-14+deb12u1) 12.2.0 CentOS Stream 10 Kernel: 5.15 Compiler: gcc gcc (GCC) 14.2.1 20250110 (Red Hat 14.2.1-8) Fedora Linux 42 Kernel: 5.15 Compiler: clang gcc (GCC) 15.2.1 20250808 (Red Hat 15.2.1-1) openSUSE Leap 15.6 Kernel: 5.15 Compiler: gcc gcc (SUSE Linux) 7.5.0 Red Hat Enterprise Linux 8.10 Kernel: 5.15 Compiler: gcc gcc (GCC) 8.5.0 20210514 (Red Hat 8.5.0-22) Red Hat Enterprise Linux 9.5 Kernel: 5.15 Compiler: gcc gcc (GCC) 11.5.0 20240719 (Red Hat 11.5.0-2) Ubuntu 22.04 Kernel: 5.15 Compiler: gcc gcc (Ubuntu 11.4.0-1ubuntu1~22.04) 11.4.0 Ubuntu 24.04 Kernel: 5.15 Compiler: gcc gcc (Ubuntu 13.3.0-6ubuntu2~24.04) 13.3.0 Windows Server 2022 Kernel: 10.0.20348.2031 Compiler: clang 15.0.7, gcc 14.1.0 (MinGW), and MSVC VS 19.39.33521 To view detailed results, visit: https://lab.dpdk.org/results/dashboard/patchsets/34184/ UNH-IOL DPDK Community Lab To manage your email subscriptions, visit: https://lab.dpdk.org/results/dashboard/preferences/subscriptions/