From mboxrd@z Thu Jan 1 00:00:00 1970 Return-Path: Received: from mails.dpdk.org (mails.dpdk.org [217.70.189.124]) by inbox.dpdk.org (Postfix) with ESMTP id 3250D48877 for ; Wed, 1 Oct 2025 00:54:00 +0200 (CEST) Received: from mails.dpdk.org (localhost [127.0.0.1]) by mails.dpdk.org (Postfix) with ESMTP id 0DFAF4028B; Wed, 1 Oct 2025 00:54:00 +0200 (CEST) Received: from mail-pg1-f225.google.com (mail-pg1-f225.google.com [209.85.215.225]) by mails.dpdk.org (Postfix) with ESMTP id D8D7F400EF for ; Wed, 1 Oct 2025 00:53:58 +0200 (CEST) Received: by mail-pg1-f225.google.com with SMTP id 41be03b00d2f7-b554bb615dcso5055077a12.1 for ; Tue, 30 Sep 2025 15:53:58 -0700 (PDT) DKIM-Signature: v=1; a=rsa-sha256; c=relaxed/relaxed; d=iol.unh.edu; s=unh-iol; t=1759272838; x=1759877638; darn=dpdk.org; h=references:in-reply-to:cc:to:from:subject:message-id:date:from:to :cc:subject:date:message-id:reply-to; bh=CgL19r1czhm0+hU+UTUTcOXNXtpqUAEKr46tudpssCU=; b=ayxJmWCRordYulZremeuwQpwDCemhcu0NJM5iGRNgdA86whXNkXNtQizBOk4BhQYdl qbzFV/86r56+PbyjFIo1mlSmIFLwUOzhGu6sFIee/J3a1vaVr+CNflUuBDQhz5jf3vLd v9Zw1NWGbdEe0hNk3FEkGjqoiKRB6nTllmRhE= X-Google-DKIM-Signature: v=1; a=rsa-sha256; c=relaxed/relaxed; d=1e100.net; s=20230601; t=1759272838; x=1759877638; h=references:in-reply-to:cc:to:from:subject:message-id:date :x-gm-message-state:from:to:cc:subject:date:message-id:reply-to; bh=CgL19r1czhm0+hU+UTUTcOXNXtpqUAEKr46tudpssCU=; b=kk5Kd8VKl1MLRfHB665l8ZuHpx2lPn3xTSAU75Gp4Tqf4l1QDCbOTVFzAEUM89mAX6 2jXBcXciDfkiFUtgTXHi57Dr3Tlwqt0g/HDMaqMoggvzHtdClHaUlFwpEBSh96sTpfQ3 //WkR7TDUJjw6zxBtlCMp0rRwxF4s4Hs1AebWmf8U7QfUTggnM79Za59Xp8+7jyN7F9Z xd+ZbCV8qlbT1h6m5r3ez/U8VUbxGaC8pP7pG5oglSt0PBCcxl5f8WiSrm8r4GIRF5jU JKBL4mmlKizyduwl0pFU2av8JIWy/jidkzZ8ZVHCbk/ep0QAnwoSRxGNTQHWT1Mw9w1Y z3sg== X-Gm-Message-State: AOJu0YzoVyiS/1XM4C/oO4jiklnDuIS+5WBlmH2i1764padPBzc3/Pse kPiVgoMnH2JUYuYC+fcL9sjgXP/oCjsLVPcv2+BIenYhOBHbcWgoINdujX3MR53s8XGse9qynsL Y5YzTYRnFQgoU6/hTEElG+/pGsM+W6pvkFv2BczUuhkwT X-Gm-Gg: ASbGncuCEtDzVkEwf9+qYFuweLVbfyxIDtQE7hBc+m6s6dis03uoH3Wu9e4jjU03cCs nyS8Ot8QPE05Bce/4jUnZLxdI3iTCSiwKTK1Z9thcKTKlrcjlMeZmr1Pio07bX+scMmNyF7brQG J2SGF/Kbnm/50p1o1jZhRTC0MEDCECKlXtLAy509RB+vwTFDvQi+jROXH7sUqujVSRcev6KWZ4r ICj2KwB5jZ/F3mS0M96DGry2KB967FURfl9rVKF1BQ+Ht1kFP2Fonv+584E6VqzF4Yr7KXs1yGf 2KIjyLA0uSurl2njUqiNRuHmBmrFrUxPoFZF6vQxVyC+TyyyPAh4hoKSq+DH6OHLMyD/R5t5pi+ iig== X-Google-Smtp-Source: AGHT+IF65pA9njRy5ugCGqOt6eN7DKOijqmxzGiSlxGlDx5+1MWQYRYcSHHOy61JqO3EGE1tRIJ9TqKp8l2O X-Received: by 2002:a17:902:d58d:b0:251:2d4d:bdfa with SMTP id d9443c01a7336-28e7f2a3b5bmr14668225ad.20.1759272838038; Tue, 30 Sep 2025 15:53:58 -0700 (PDT) Received: from postal.iol.unh.edu (postal.iol.unh.edu. [132.177.123.84]) by smtp-relay.gmail.com with ESMTPS id 98e67ed59e1d1-339a6d9c660sm69564a91.0.2025.09.30.15.53.57 (version=TLS1_2 cipher=ECDHE-ECDSA-AES128-GCM-SHA256 bits=128/128); Tue, 30 Sep 2025 15:53:58 -0700 (PDT) X-Relaying-Domain: iol.unh.edu Date: Tue, 30 Sep 2025 15:53:58 -0700 (PDT) Message-ID: <68dc5f86.170a0220.187d54.4235SMTPIN_ADDED_MISSING@mx.google.com> Received: from [172.21.0.3] (unknown [172.18.0.240]) by postal.iol.unh.edu (Postfix) with ESMTP id 0FC796050A61; Tue, 30 Sep 2025 18:53:57 -0400 (EDT) Subject: |SUCCESS| pw157143 [PATCH] net/ice: fix initialization with 8 ports From: dpdklab@iol.unh.edu To: Test Report Cc: dpdk-test-reports@iol.unh.edu, Bruce Richardson In-Reply-To: <20250930142850.1782615-1-bruce.richardson@intel.com> References: <20250930142850.1782615-1-bruce.richardson@intel.com> Content-Type: text/plain X-BeenThere: test-report@dpdk.org X-Mailman-Version: 2.1.29 Precedence: list List-Id: automatic DPDK test reports List-Unsubscribe: , List-Archive: List-Post: List-Help: List-Subscribe: , Errors-To: test-report-bounces@dpdk.org Test-Label: iol-compile-amd64-testing Test-Status: SUCCESS http://dpdk.org/patch/157143 _Testing PASS_ Submitter: Bruce Richardson Date: Tuesday, September 30 2025 14:28:50 DPDK git baseline: Repo:dpdk-next-net-intel Branch: master CommitID:9845e5848bbe337306fb6ae2a6b1ce5e6ab5b714 157143 --> testing pass Upstream job id: Generic-DPDK-Compile-Meson#430139 Test environment and result as below: +-------------------------------+--------------------+-------------------------+-------------------+----------------------+-------------------+------------------+ | Environment | dpdk_meson_compile | dpdk_llvm_clang_compile | dpdk_msvc_compile | dpdk_mingw64_compile | dpdk_compile_spdk | dpdk_compile_ovs | +===============================+====================+=========================+===================+======================+===================+==================+ | Ubuntu 20.04 | PASS | SKIPPED | SKIPPED | SKIPPED | SKIPPED | SKIPPED | +-------------------------------+--------------------+-------------------------+-------------------+----------------------+-------------------+------------------+ | FreeBSD 14.2 | PASS | SKIPPED | SKIPPED | SKIPPED | SKIPPED | SKIPPED | +-------------------------------+--------------------+-------------------------+-------------------+----------------------+-------------------+------------------+ | CentOS Stream 9 | PASS | SKIPPED | SKIPPED | SKIPPED | PASS | SKIPPED | +-------------------------------+--------------------+-------------------------+-------------------+----------------------+-------------------+------------------+ | Debian GNU/Linux 12 | PASS | SKIPPED | SKIPPED | SKIPPED | PASS | SKIPPED | +-------------------------------+--------------------+-------------------------+-------------------+----------------------+-------------------+------------------+ | CentOS Stream 10 | PASS | SKIPPED | SKIPPED | SKIPPED | SKIPPED | SKIPPED | +-------------------------------+--------------------+-------------------------+-------------------+----------------------+-------------------+------------------+ | Fedora Linux 42 | PASS | SKIPPED | SKIPPED | SKIPPED | PASS | PASS | +-------------------------------+--------------------+-------------------------+-------------------+----------------------+-------------------+------------------+ | openSUSE Leap 15.6 | PASS | SKIPPED | SKIPPED | SKIPPED | SKIPPED | SKIPPED | +-------------------------------+--------------------+-------------------------+-------------------+----------------------+-------------------+------------------+ | Red Hat Enterprise Linux 8.10 | PASS | SKIPPED | SKIPPED | SKIPPED | SKIPPED | SKIPPED | +-------------------------------+--------------------+-------------------------+-------------------+----------------------+-------------------+------------------+ | Red Hat Enterprise Linux 9.5 | PASS | SKIPPED | SKIPPED | SKIPPED | SKIPPED | SKIPPED | +-------------------------------+--------------------+-------------------------+-------------------+----------------------+-------------------+------------------+ | Ubuntu 22.04 | PASS | SKIPPED | SKIPPED | SKIPPED | PASS | SKIPPED | +-------------------------------+--------------------+-------------------------+-------------------+----------------------+-------------------+------------------+ | Ubuntu 24.04 | PASS | SKIPPED | SKIPPED | SKIPPED | PASS | PASS | +-------------------------------+--------------------+-------------------------+-------------------+----------------------+-------------------+------------------+ | Alpine Linux 3.22.0 | PASS | SKIPPED | SKIPPED | SKIPPED | SKIPPED | SKIPPED | +-------------------------------+--------------------+-------------------------+-------------------+----------------------+-------------------+------------------+ | Windows Server 2022 | SKIPPED | PASS | PASS | PASS | SKIPPED | SKIPPED | +-------------------------------+--------------------+-------------------------+-------------------+----------------------+-------------------+------------------+ Ubuntu 20.04 Kernel: 4.19 Compiler: gcc gcc (Ubuntu 9.4.0-1ubuntu1~20.04.2) 9.4.0 FreeBSD 14.2 Kernel: 14.2-RELEASE Compiler: clang 18.1.6 CentOS Stream 9 Kernel: 5.15 Compiler: gcc gcc (GCC) 11.5.0 20240719 (Red Hat 11.5.0-11) Debian GNU/Linux 12 Kernel: 5.15 Compiler: gcc gcc (Debian 12.2.0-14+deb12u1) 12.2.0 CentOS Stream 10 Kernel: 5.15 Compiler: gcc gcc (GCC) 14.2.1 20250110 (Red Hat 14.2.1-8) Fedora Linux 42 Kernel: 5.15 Compiler: clang gcc (GCC) 15.2.1 20250808 (Red Hat 15.2.1-1) openSUSE Leap 15.6 Kernel: 5.15 Compiler: gcc gcc (SUSE Linux) 7.5.0 Red Hat Enterprise Linux 8.10 Kernel: 5.15 Compiler: gcc gcc (GCC) 8.5.0 20210514 (Red Hat 8.5.0-22) Red Hat Enterprise Linux 9.5 Kernel: 5.15 Compiler: gcc gcc (GCC) 11.5.0 20240719 (Red Hat 11.5.0-2) Ubuntu 22.04 Kernel: 5.15 Compiler: gcc gcc (Ubuntu 11.4.0-1ubuntu1~22.04) 11.4.0 Ubuntu 24.04 Kernel: 5.15 Compiler: gcc gcc (Ubuntu 13.3.0-6ubuntu2~24.04) 13.3.0 Alpine Linux 3.22.0 Kernel: 5.15 Compiler: gcc gcc (Alpine 14.2.0) 14.2.0 Windows Server 2022 Kernel: 10.0.20348.2031 Compiler: clang 15.0.7, gcc 14.1.0 (MinGW), and MSVC VS 19.39.33521 To view detailed results, visit: https://lab.dpdk.org/results/dashboard/patchsets/34184/ UNH-IOL DPDK Community Lab To manage your email subscriptions, visit: https://lab.dpdk.org/results/dashboard/preferences/subscriptions/