From mboxrd@z Thu Jan 1 00:00:00 1970 Return-Path: Received: from mails.dpdk.org (mails.dpdk.org [217.70.189.124]) by inbox.dpdk.org (Postfix) with ESMTP id A889C48877 for ; Wed, 1 Oct 2025 01:22:18 +0200 (CEST) Received: from mails.dpdk.org (localhost [127.0.0.1]) by mails.dpdk.org (Postfix) with ESMTP id 85499400EF; Wed, 1 Oct 2025 01:22:18 +0200 (CEST) Received: from mail-il1-f225.google.com (mail-il1-f225.google.com [209.85.166.225]) by mails.dpdk.org (Postfix) with ESMTP id ED895400EF for ; Wed, 1 Oct 2025 01:22:17 +0200 (CEST) Received: by mail-il1-f225.google.com with SMTP id e9e14a558f8ab-424d3c1256fso2398775ab.1 for ; Tue, 30 Sep 2025 16:22:17 -0700 (PDT) DKIM-Signature: v=1; a=rsa-sha256; c=relaxed/relaxed; d=iol.unh.edu; s=unh-iol; t=1759274537; x=1759879337; darn=dpdk.org; h=references:in-reply-to:cc:to:from:subject:message-id:date:from:to :cc:subject:date:message-id:reply-to; bh=xj9Ws7WssQ3kYiMgaIg+B158Su2zGC5MlRvD8mIil4k=; b=b/iV8rhp6w3t0ttIReADGZvzsuzLsz91XN6AFV9uzZb87+ZfaLGo2+bJJNEWzJbxqg Hco9EsuAc7IZu2pzEwqjXEaUsCeL0Aj2V1XkrZ0gvoE+LdPYQfw+b/zFlT+GfcidQigI Zmxn8YLHsWlxOpRoG+6ygUesFanoknTpUYHdM= X-Google-DKIM-Signature: v=1; a=rsa-sha256; c=relaxed/relaxed; d=1e100.net; s=20230601; t=1759274537; x=1759879337; h=references:in-reply-to:cc:to:from:subject:message-id:date :x-gm-message-state:from:to:cc:subject:date:message-id:reply-to; bh=xj9Ws7WssQ3kYiMgaIg+B158Su2zGC5MlRvD8mIil4k=; b=RWl4Z5DnfCtECUrR5os2pE/KkvVEVmDGzJw32EE3w/UG+o4oITrnsTYrIUuZ9Bg6rH 6cmH2eS68KSK1b5Q6Lhze9IUiXHMJuRG97tdbDVU8uWdOoeO2rhJHiUjYfAkZS3qkOsA FbuR5shFmuofuohL9toA9QMl5DLO0moKDnoiPubYkXOHC/vG6utgA/jYkIeIBck3Cd0o 0Hdf5UFHTS3o/gGiAxxwBBcu4UsN+HseT8Zh7ZIAnLcZ2imKKCpo4zYQHgdG1MPQkJVw GA0t6Xxl15UncTxOoQUmvAz/CRSX8ASC8O5cQkQ72ThVeegN6D3VGYSKLz/k5re1HnTp elbw== X-Gm-Message-State: AOJu0YzV1SFaYAs3zO04rDyc7sCCZdMKzYW6HIfA8RYCu0LMgKAuyzgr HJiGqVb17qve2mvFmlGqGaqWRYGPlbDcAJH3mWJQecsc8CxdEBR8P4trfWlbASGUtupOj3VBV/E CBCs4rdXacEtDuDR2ZLP4XyzZaBvd7FdBOtCYff3D4TSiGhIvKCbattKg0Op7 X-Gm-Gg: ASbGncvcVwiSnJYESZWcrlZh//vE9Z32K+jL8mvL4wR/O7/HnLqIioKrxTim5s7LRMn 4ntUH3Zd+FXzutiG67pLeUWQFK79Mq4qrnMji6pLtvzYjMUITGJrWEnLeSN7laq/m98gV2HNVyx LMe5orJ6xVAL48NwwQiz41r4n2lWu/Hccl+ZA8qG9f1aktlWlDgPb2HGeIDsFWvaO7XQQctqeea zMCwrqil/Mse/9pzmbEMLtvcW3EbmhNFNpfsDCBJuJ/vxClG7iXMhxWuFEx1pvNyL4Q3y/F7QRz UoVTswRgQFxrMxKomgiZH/sxqdpBVlHAfDbze6Ck1vnFWvPgG3zd+IY= X-Google-Smtp-Source: AGHT+IFCahvcfUK7HqtzfeqB++RkK6W2p0fvHtSWbliMJUUo19y076babN5Mgci23hEd785T0v/FJ4qe1AMm X-Received: by 2002:a05:6e02:12ce:b0:408:6044:8d1a with SMTP id e9e14a558f8ab-42d815c43f1mr24683105ab.5.1759274537069; Tue, 30 Sep 2025 16:22:17 -0700 (PDT) Received: from postal.iol.unh.edu (postal.iol.unh.edu. [2606:4100:3880:1234::84]) by smtp-relay.gmail.com with ESMTPS id e9e14a558f8ab-425bf6d35ccsm11562005ab.22.2025.09.30.16.22.16 (version=TLS1_2 cipher=ECDHE-ECDSA-AES128-GCM-SHA256 bits=128/128); Tue, 30 Sep 2025 16:22:17 -0700 (PDT) X-Relaying-Domain: iol.unh.edu Date: Tue, 30 Sep 2025 16:22:17 -0700 (PDT) Message-ID: <68dc6629.050a0220.6802a.55cdSMTPIN_ADDED_MISSING@mx.google.com> Received: from [172.21.0.2] (unknown [172.18.0.240]) by postal.iol.unh.edu (Postfix) with ESMTP id 90D776051830; Tue, 30 Sep 2025 19:22:16 -0400 (EDT) Subject: |SUCCESS| pw157143 [PATCH] net/ice: fix initialization with 8 ports From: dpdklab@iol.unh.edu To: Test Report Cc: dpdk-test-reports@iol.unh.edu, Bruce Richardson In-Reply-To: <20250930142850.1782615-1-bruce.richardson@intel.com> References: <20250930142850.1782615-1-bruce.richardson@intel.com> Content-Type: text/plain X-BeenThere: test-report@dpdk.org X-Mailman-Version: 2.1.29 Precedence: list List-Id: automatic DPDK test reports List-Unsubscribe: , List-Archive: List-Post: List-Help: List-Subscribe: , Errors-To: test-report-bounces@dpdk.org Test-Label: iol-compile-amd64-testing Test-Status: SUCCESS http://dpdk.org/patch/157143 _Testing PASS_ Submitter: Bruce Richardson Date: Tuesday, September 30 2025 14:28:50 DPDK git baseline: Repo:dpdk-next-net-intel Branch: master CommitID:9845e5848bbe337306fb6ae2a6b1ce5e6ab5b714 157143 --> testing pass Upstream job id: Generic-DPDK-Compile-Meson#430141 Test environment and result as below: +-------------------------------+--------------------+-------------------------+-------------------+----------------------+-------------------+------------------+ | Environment | dpdk_meson_compile | dpdk_llvm_clang_compile | dpdk_msvc_compile | dpdk_mingw64_compile | dpdk_compile_spdk | dpdk_compile_ovs | +===============================+====================+=========================+===================+======================+===================+==================+ | Ubuntu 20.04 | PASS | SKIPPED | SKIPPED | SKIPPED | SKIPPED | SKIPPED | +-------------------------------+--------------------+-------------------------+-------------------+----------------------+-------------------+------------------+ | FreeBSD 14.2 | PASS | SKIPPED | SKIPPED | SKIPPED | SKIPPED | SKIPPED | +-------------------------------+--------------------+-------------------------+-------------------+----------------------+-------------------+------------------+ | CentOS Stream 9 | PASS | SKIPPED | SKIPPED | SKIPPED | PASS | SKIPPED | +-------------------------------+--------------------+-------------------------+-------------------+----------------------+-------------------+------------------+ | Debian GNU/Linux 12 | PASS | SKIPPED | SKIPPED | SKIPPED | PASS | SKIPPED | +-------------------------------+--------------------+-------------------------+-------------------+----------------------+-------------------+------------------+ | CentOS Stream 10 | PASS | SKIPPED | SKIPPED | SKIPPED | SKIPPED | SKIPPED | +-------------------------------+--------------------+-------------------------+-------------------+----------------------+-------------------+------------------+ | Fedora Linux 42 | PASS | SKIPPED | SKIPPED | SKIPPED | PASS | PASS | +-------------------------------+--------------------+-------------------------+-------------------+----------------------+-------------------+------------------+ | openSUSE Leap 15.6 | PASS | SKIPPED | SKIPPED | SKIPPED | SKIPPED | SKIPPED | +-------------------------------+--------------------+-------------------------+-------------------+----------------------+-------------------+------------------+ | Red Hat Enterprise Linux 8.10 | PASS | SKIPPED | SKIPPED | SKIPPED | SKIPPED | SKIPPED | +-------------------------------+--------------------+-------------------------+-------------------+----------------------+-------------------+------------------+ | Red Hat Enterprise Linux 9.5 | PASS | SKIPPED | SKIPPED | SKIPPED | SKIPPED | SKIPPED | +-------------------------------+--------------------+-------------------------+-------------------+----------------------+-------------------+------------------+ | Ubuntu 22.04 | PASS | SKIPPED | SKIPPED | SKIPPED | PASS | SKIPPED | +-------------------------------+--------------------+-------------------------+-------------------+----------------------+-------------------+------------------+ | Ubuntu 24.04 | PASS | SKIPPED | SKIPPED | SKIPPED | PASS | PASS | +-------------------------------+--------------------+-------------------------+-------------------+----------------------+-------------------+------------------+ | Alpine Linux 3.22.0 | PASS | SKIPPED | SKIPPED | SKIPPED | SKIPPED | SKIPPED | +-------------------------------+--------------------+-------------------------+-------------------+----------------------+-------------------+------------------+ | Windows Server 2022 | SKIPPED | PASS | PASS | PASS | SKIPPED | SKIPPED | +-------------------------------+--------------------+-------------------------+-------------------+----------------------+-------------------+------------------+ Ubuntu 20.04 Kernel: 4.19 Compiler: gcc gcc (Ubuntu 9.4.0-1ubuntu1~20.04.2) 9.4.0 FreeBSD 14.2 Kernel: 14.2-RELEASE Compiler: clang 18.1.6 CentOS Stream 9 Kernel: 5.15 Compiler: gcc gcc (GCC) 11.5.0 20240719 (Red Hat 11.5.0-11) Debian GNU/Linux 12 Kernel: 5.15 Compiler: gcc gcc (Debian 12.2.0-14+deb12u1) 12.2.0 CentOS Stream 10 Kernel: 5.15 Compiler: gcc gcc (GCC) 14.2.1 20250110 (Red Hat 14.2.1-8) Fedora Linux 42 Kernel: 5.15 Compiler: clang gcc (GCC) 15.2.1 20250808 (Red Hat 15.2.1-1) openSUSE Leap 15.6 Kernel: 5.15 Compiler: gcc gcc (SUSE Linux) 7.5.0 Red Hat Enterprise Linux 8.10 Kernel: 5.15 Compiler: gcc gcc (GCC) 8.5.0 20210514 (Red Hat 8.5.0-22) Red Hat Enterprise Linux 9.5 Kernel: 5.15 Compiler: gcc gcc (GCC) 11.5.0 20240719 (Red Hat 11.5.0-2) Ubuntu 22.04 Kernel: 5.15 Compiler: gcc gcc (Ubuntu 11.4.0-1ubuntu1~22.04) 11.4.0 Ubuntu 24.04 Kernel: 5.15 Compiler: gcc gcc (Ubuntu 13.3.0-6ubuntu2~24.04) 13.3.0 Alpine Linux 3.22.0 Kernel: 5.15 Compiler: gcc gcc (Alpine 14.2.0) 14.2.0 Windows Server 2022 Kernel: 10.0.20348.2031 Compiler: clang 15.0.7, gcc 14.1.0 (MinGW), and MSVC VS 19.39.33521 To view detailed results, visit: https://lab.dpdk.org/results/dashboard/patchsets/34184/ UNH-IOL DPDK Community Lab To manage your email subscriptions, visit: https://lab.dpdk.org/results/dashboard/preferences/subscriptions/