From mboxrd@z Thu Jan 1 00:00:00 1970 Return-Path: Received: from mails.dpdk.org (mails.dpdk.org [217.70.189.124]) by inbox.dpdk.org (Postfix) with ESMTP id 46B9448877 for ; Wed, 1 Oct 2025 02:02:56 +0200 (CEST) Received: from mails.dpdk.org (localhost [127.0.0.1]) by mails.dpdk.org (Postfix) with ESMTP id 25799400EF; Wed, 1 Oct 2025 02:02:56 +0200 (CEST) Received: from mail-yw1-f225.google.com (mail-yw1-f225.google.com [209.85.128.225]) by mails.dpdk.org (Postfix) with ESMTP id B9959400EF for ; Wed, 1 Oct 2025 02:02:54 +0200 (CEST) Received: by mail-yw1-f225.google.com with SMTP id 00721157ae682-7501c24a731so58279287b3.3 for ; Tue, 30 Sep 2025 17:02:54 -0700 (PDT) DKIM-Signature: v=1; a=rsa-sha256; c=relaxed/relaxed; d=iol.unh.edu; s=unh-iol; t=1759276974; x=1759881774; darn=dpdk.org; h=references:in-reply-to:cc:to:from:subject:message-id:date:from:to :cc:subject:date:message-id:reply-to; bh=yhZuIUglhxw4nWWqnZ2G25dygvuHHjnIaknMXXNo6T0=; b=W1HeSzZicUCo+ynYbM5JzvAL66DvMR5Lo0vtWOzBk8KtS7BsttqVps4xA86MJcQDB9 BCyaSws47IzGSgmdtUkoeKphlnrLjd4g6gpSFLSialHkGtfNeZONm0roPJZYklAnN1P6 taFRzY8IMRY7sS+uiDTm2VPdtUOxX7r3ouvlA= X-Google-DKIM-Signature: v=1; a=rsa-sha256; c=relaxed/relaxed; d=1e100.net; s=20230601; t=1759276974; x=1759881774; h=references:in-reply-to:cc:to:from:subject:message-id:date :x-gm-message-state:from:to:cc:subject:date:message-id:reply-to; bh=yhZuIUglhxw4nWWqnZ2G25dygvuHHjnIaknMXXNo6T0=; b=kp3ssqVa1geiOvKWtVfM+OAQ0gcbb1gyreMvdezbF5+/M2qfjUywI5OIDs9+qMcrbq dod06oiVOgbfAOngTTcKi11eKguHOo3y5mNm/8G3xM3Ety+yDd+c8xX0rOT+V0uwkG/L P+zok6hnIKBMn9pRgiyHh5LR6Fy3sIQ8GlPQAlGur2H3CKU56pyen9I+zKHBdcIlOmy4 QvU1dBOB0vNpxZLy8T6UycYXeK2zedVj3S5WsrpiV8Gf6C/FJnu13yuUceebyR94Eqtt jJJ1iaOZvewnhIM/QhM5KDKlpGO8kwwf8qI9tJb1xx9MmJhOYLEss83gtAi4boUF+G16 RPTQ== X-Gm-Message-State: AOJu0YxwGXhyISh6DB0briQJVzSSPNxLm1FCUY3hQ4dpdf+syYIOeBMZ hl1RQkfXgMa6jagYlob2pHtDnhoT+qzjB/CHLCs2T6icPp5LvyVmqaaTBMIXOOFlxpP1pRUV9ud xk4lNKp7wxWe0pv7mjoXhkRlYNTVaT745ZjddvU0yBnM3 X-Gm-Gg: ASbGncvQua0U7ZsRgYlKw+6k+Dw+jtx0F/lAN/uL7EdXPol7QZvajU/aI7xdRHfXkEX u/r1nOBte4+SCZ1ZtaUidrsztK6/2ZYSJf7r/BBtT5BPgJQlkCCpNjuKx0ClVBAiqavE4+IuzdJ O8PkN6nJRTP31eIO7Vzqf4gKcHIm2ghmZOTxajEn8j/U+WnPGl0lE0WqDxo5pIqUYjys96zin5m W1oEoJhR0RiEOEL8qb80WiYvQTvsHgrgt1ANyOV0Aq30x30TMD4/ramGR1g55wNEpElMFDiHKaN dmnP8CciEeUphL6YpWkVWDqpCoOmNzM2mF/uVZPFY6q8OH9F5fDNaABDyWtIVAa/8O9uBM3so4f 4rw== X-Google-Smtp-Source: AGHT+IF6QNATF/RK+MPFVJyRk8Qw1uOgfnBABw+0bAb0bkTgoxWsssxUzlrHvOF5MHU7Cyld1H27Bt0C6Pzw X-Received: by 2002:a05:690c:8a41:b0:749:17fe:9644 with SMTP id 00721157ae682-77f6f2a3259mr16990707b3.4.1759276973898; Tue, 30 Sep 2025 17:02:53 -0700 (PDT) Received: from postal.iol.unh.edu (postal.iol.unh.edu. [132.177.123.84]) by smtp-relay.gmail.com with ESMTPS id 00721157ae682-77f67da6e56sm1311067b3.4.2025.09.30.17.02.53 (version=TLS1_2 cipher=ECDHE-ECDSA-AES128-GCM-SHA256 bits=128/128); Tue, 30 Sep 2025 17:02:53 -0700 (PDT) X-Relaying-Domain: iol.unh.edu Date: Tue, 30 Sep 2025 17:02:53 -0700 (PDT) Message-ID: <68dc6fad.050a0220.15f799.750dSMTPIN_ADDED_MISSING@mx.google.com> Received: from [172.21.0.3] (unknown [172.18.0.240]) by postal.iol.unh.edu (Postfix) with ESMTP id 750E66051830; Tue, 30 Sep 2025 20:02:53 -0400 (EDT) Subject: |SUCCESS| pw157111 [PATCH] net/mlx5: fix IPv6 DSCP offset in NT HWS From: dpdklab@iol.unh.edu To: Test Report Cc: dpdk-test-reports@iol.unh.edu In-Reply-To: <20250930072827.9630-1-gavinl@nvidia.com> References: <20250930072827.9630-1-gavinl@nvidia.com> Content-Type: text/plain X-BeenThere: test-report@dpdk.org X-Mailman-Version: 2.1.29 Precedence: list List-Id: automatic DPDK test reports List-Unsubscribe: , List-Archive: List-Post: List-Help: List-Subscribe: , Errors-To: test-report-bounces@dpdk.org Test-Label: iol-compile-arm64-testing Test-Status: SUCCESS http://dpdk.org/patch/157111 _Testing PASS_ Submitter: Gavin Li Date: Tuesday, September 30 2025 07:28:27 DPDK git baseline: Repo:dpdk-next-net-mlx Branch: master CommitID:2374f33e1d964e100895fd294966380c46f0886d 157111 --> testing pass Upstream job id: Generic-DPDK-Compile-Meson#429995 Test environment and result as below: +------------------------------+--------------------+ | Environment | dpdk_meson_compile | +==============================+====================+ | Red Hat Enterprise Linux 9.5 | PASS | +------------------------------+--------------------+ | Ubuntu 20.04 | PASS | +------------------------------+--------------------+ | Debian GNU/Linux 12 | PASS | +------------------------------+--------------------+ | Fedora Linux 42 | PASS | +------------------------------+--------------------+ | Ubuntu 22.04 | PASS | +------------------------------+--------------------+ | Ubuntu 24.04 | PASS | +------------------------------+--------------------+ | CentOS Stream 9 | PASS | +------------------------------+--------------------+ | CentOS Stream 10 | PASS | +------------------------------+--------------------+ Red Hat Enterprise Linux 9.5 Kernel: 5.4 Compiler: gcc gcc (GCC) 11.5.0 20240719 (Red Hat 11.5.0-2) Ubuntu 20.04 Kernel: 5.15 Compiler: aarch64-linux-gnu-gcc gcc (Ubuntu 9.4.0-1ubuntu1~20.04.2) 9.4.0 Debian GNU/Linux 12 Kernel: 5.4 Compiler: gcc gcc (Debian 12.2.0-14+deb12u1) 12.2.0 Fedora Linux 42 Kernel: 5.4 Compiler: gcc gcc (GCC) 15.2.1 20250808 (Red Hat 15.2.1-1) Ubuntu 22.04 Kernel: 5.4 Compiler: gcc gcc (Ubuntu 11.4.0-1ubuntu1~22.04) 11.4.0 Ubuntu 24.04 Kernel: 5.4 Compiler: gcc gcc (Ubuntu 13.3.0-6ubuntu2~24.04) 13.3.0 CentOS Stream 9 Kernel: 5.4 Compiler: gcc gcc (GCC) 11.5.0 20240719 (Red Hat 11.5.0-11) CentOS Stream 10 Kernel: 5.4 Compiler: gcc gcc (GCC) 14.2.1 20250110 (Red Hat 14.2.1-8) To view detailed results, visit: https://lab.dpdk.org/results/dashboard/patchsets/34178/ UNH-IOL DPDK Community Lab To manage your email subscriptions, visit: https://lab.dpdk.org/results/dashboard/preferences/subscriptions/