From mboxrd@z Thu Jan 1 00:00:00 1970 Return-Path: Received: from mails.dpdk.org (mails.dpdk.org [217.70.189.124]) by inbox.dpdk.org (Postfix) with ESMTP id 4002848877 for ; Wed, 1 Oct 2025 02:14:06 +0200 (CEST) Received: from mails.dpdk.org (localhost [127.0.0.1]) by mails.dpdk.org (Postfix) with ESMTP id 332E4400EF; Wed, 1 Oct 2025 02:14:06 +0200 (CEST) Received: from mail-il1-f228.google.com (mail-il1-f228.google.com [209.85.166.228]) by mails.dpdk.org (Postfix) with ESMTP id 32F23400EF for ; Wed, 1 Oct 2025 02:14:05 +0200 (CEST) Received: by mail-il1-f228.google.com with SMTP id e9e14a558f8ab-425911e5661so26536055ab.1 for ; Tue, 30 Sep 2025 17:14:05 -0700 (PDT) DKIM-Signature: v=1; a=rsa-sha256; c=relaxed/relaxed; d=iol.unh.edu; s=unh-iol; t=1759277644; x=1759882444; darn=dpdk.org; h=references:in-reply-to:cc:to:from:subject:message-id:date:from:to :cc:subject:date:message-id:reply-to; bh=FJtou35fhbWuE0h/VkdDU73mLd8QEHZVlW8ZYFFPZRs=; b=Efk8kNuMQrIttzUYQwjnXvA81yHf0ghFnP+GGn1UamzQS8XlvpzlOI+vifJVMrIpGp 44ORdbr/F34jjPChSsPMDBFV/j46LtcN+BwnenYMRGrDxYl2oEtBfo6Az2GEU6fe0aXv KjkqlyTVEfUaY7jrsjiK+ziLopBrk271NG2JM= X-Google-DKIM-Signature: v=1; a=rsa-sha256; c=relaxed/relaxed; d=1e100.net; s=20230601; t=1759277644; x=1759882444; h=references:in-reply-to:cc:to:from:subject:message-id:date :x-gm-message-state:from:to:cc:subject:date:message-id:reply-to; bh=FJtou35fhbWuE0h/VkdDU73mLd8QEHZVlW8ZYFFPZRs=; b=dehRgbKEBTtIdoGzyy3DRbZJ3wdR+Etb0OJ1HmH8icGo8IEQzZrYCBCUnP5nQgl+O8 1loXOvJb3HeBNArQgCE/zUgupX+XuhfRO65SAuIxEqowXkambc2C36R471qtLjBEXRbl FpRzfhdbyl++o5Ljw1vUYxdGhNN2hqlEGWq8r+ihSqCz2H115hjB91+hMT0ZMuPTTQAp J4L6kbH4ZZYyD6tau0YXFvPh+jMDgU7tiwo9gvaB7Wnib9BDams4FN+CPKwA8qljrG1R +nWmV9Nsmc7wBy8f7wmS8nPNg4l582/zXPQFWYnR1S7LK7eviJ4mXkplZe8ocIzzkm0O 1/eA== X-Gm-Message-State: AOJu0YxAdnRE6k67Dlbj3u7lxk7FfFos3A6zdWNPMDQJfx+v+RlT4Anx FJVKcXC3k/zFZjSi8pcC9RxJULj4SG31Y05Z2P/7NSljnLH8CGACRqplavwxc3LhRgHQ3Gv8pSj Gaz/UY139ccRjAJHBm/d25N6FChDBLNNgwcj3vSka8s+RmmvN0wg8cHEu5BC7 X-Gm-Gg: ASbGncvT4rL+dmLVSI7z3UiwsVOIEgU6yhuFAoFZUvr+vf3wc9wL7EchpyKu1C2WZ+O 6Lh3ZIAhu4NcXFlfEBsPSeHbs3O/nWDZPUS0Air5J+s22+4cHY2b+ySXhUN3z/HgC2iW8folWDr tZtpGQ4QOaj3GphMf3ELviYyx4LoE4/KEzabwSPqH9jBBscN1xOjrcvFd+CnCNyXF246Hj7JXxK sWiX05Bb4vRxpOvVclBLS7ivaQzR7wo4vLLJEAm2yRbSKDE4IvehMXGouQwRMv2zd/w3ZZWzsWD MwF/h++P8wvnCjDO23NWxfZh74mVWTbbKBNtXXiwSwPO4bd+Ie0L1ks= X-Google-Smtp-Source: AGHT+IHuYAxOPQ3YH8b8ho3BuCUxlOjgMQb10VBxpQWCSxhkMM7gW/xkBrzOCAtOvm5WrQWFLdxGeIv7uppy X-Received: by 2002:a05:6e02:1feb:b0:429:4c65:e8f7 with SMTP id e9e14a558f8ab-42d816239abmr24594225ab.24.1759277644425; Tue, 30 Sep 2025 17:14:04 -0700 (PDT) Received: from postal.iol.unh.edu (postal.iol.unh.edu. [2606:4100:3880:1234::84]) by smtp-relay.gmail.com with ESMTPS id 8926c6da1cb9f-5794a94883csm107982173.11.2025.09.30.17.14.04 (version=TLS1_2 cipher=ECDHE-ECDSA-AES128-GCM-SHA256 bits=128/128); Tue, 30 Sep 2025 17:14:04 -0700 (PDT) X-Relaying-Domain: iol.unh.edu Date: Tue, 30 Sep 2025 17:14:04 -0700 (PDT) Message-ID: <68dc724c.050a0220.14a307.6444SMTPIN_ADDED_MISSING@mx.google.com> Received: from [172.21.0.2] (unknown [172.18.0.240]) by postal.iol.unh.edu (Postfix) with ESMTP id 1B2256051830; Tue, 30 Sep 2025 20:14:04 -0400 (EDT) Subject: |SUCCESS| pw157047-157055 [PATCH] [v6,9/9] power: separate public an From: dpdklab@iol.unh.edu To: Test Report Cc: dpdk-test-reports@iol.unh.edu In-Reply-To: <20250930065740.1838899-10-david.marchand@redhat.com> References: <20250930065740.1838899-10-david.marchand@redhat.com> Content-Type: text/plain X-BeenThere: test-report@dpdk.org X-Mailman-Version: 2.1.29 Precedence: list List-Id: automatic DPDK test reports List-Unsubscribe: , List-Archive: List-Post: List-Help: List-Subscribe: , Errors-To: test-report-bounces@dpdk.org Test-Label: iol-unit-arm64-testing Test-Status: SUCCESS http://dpdk.org/patch/157055 _Testing PASS_ Submitter: David Marchand Date: Tuesday, September 30 2025 06:57:39 DPDK git baseline: Repo:dpdk Branch: master CommitID:1d627ea13aeec2bcccf27246e6be2508370d171e 157047-157055 --> testing pass Upstream job id: Generic-Unit-Test-DPDK#376499 Test environment and result as below: +------------------------------+----------------+------------------------------+---------------------------+--------------+ | Environment | dpdk_unit_test | cryptodev_sw_snow3g_autotest | cryptodev_sw_zuc_autotest | lpm_autotest | +==============================+================+==============================+===========================+==============+ | CentOS Stream 10 | PASS | SKIPPED | SKIPPED | SKIPPED | +------------------------------+----------------+------------------------------+---------------------------+--------------+ | Fedora Linux 40 | PASS | SKIPPED | SKIPPED | SKIPPED | +------------------------------+----------------+------------------------------+---------------------------+--------------+ | Fedora Linux 41 | PASS | SKIPPED | SKIPPED | SKIPPED | +------------------------------+----------------+------------------------------+---------------------------+--------------+ | Debian GNU/Linux 12 | PASS | SKIPPED | SKIPPED | SKIPPED | +------------------------------+----------------+------------------------------+---------------------------+--------------+ | Ubuntu 22.04 | PASS | SKIPPED | SKIPPED | SKIPPED | +------------------------------+----------------+------------------------------+---------------------------+--------------+ | Fedora Linux 42 | PASS | SKIPPED | SKIPPED | SKIPPED | +------------------------------+----------------+------------------------------+---------------------------+--------------+ | CentOS Stream 9 | PASS | SKIPPED | SKIPPED | SKIPPED | +------------------------------+----------------+------------------------------+---------------------------+--------------+ | Ubuntu 20.04 | PASS | SKIPPED | SKIPPED | PASS | +------------------------------+----------------+------------------------------+---------------------------+--------------+ | Red Hat Enterprise Linux 9.5 | PASS | SKIPPED | SKIPPED | SKIPPED | +------------------------------+----------------+------------------------------+---------------------------+--------------+ | Ubuntu 24.04 | PASS | SKIPPED | SKIPPED | SKIPPED | +------------------------------+----------------+------------------------------+---------------------------+--------------+ | Debian 12 (arm) | SKIPPED | PASS | PASS | SKIPPED | +------------------------------+----------------+------------------------------+---------------------------+--------------+ CentOS Stream 10 Kernel: 5.4 Compiler: gcc gcc (GCC) 14.2.1 20250110 (Red Hat 14.2.1-8) Fedora Linux 40 Kernel: 5.4 Compiler: clang gcc (GCC) 14.2.1 20240912 (Red Hat 14.2.1-3) Fedora Linux 41 Kernel: 5.4 Compiler: gcc gcc (GCC) 14.3.1 20250523 (Red Hat 14.3.1-1) Debian GNU/Linux 12 Kernel: 5.4 Compiler: gcc gcc (Debian 12.2.0-14+deb12u1) 12.2.0 Ubuntu 22.04 Kernel: 5.15 Compiler: gcc gcc (Ubuntu 11.4.0-1ubuntu1~22.04.2) 11.4.0 Fedora Linux 42 Kernel: 5.4 Compiler: clang gcc (GCC) 15.2.1 20250808 (Red Hat 15.2.1-1) CentOS Stream 9 Kernel: 5.4 Compiler: gcc gcc (GCC) 11.5.0 20240719 (Red Hat 11.5.0-11) Ubuntu 20.04 Kernel: 5.4 Compiler: gcc gcc (Ubuntu 9.4.0-1ubuntu1~20.04.2) 9.4.0 Red Hat Enterprise Linux 9.5 Kernel: 5.4 Compiler: gcc gcc (GCC) 11.5.0 20240719 (Red Hat 11.5.0-2) Ubuntu 24.04 Kernel: 5.4 Compiler: gcc gcc (Ubuntu 13.3.0-6ubuntu2~24.04) 13.3.0 Debian 12 (arm) Kernel: Depends on container host Compiler: gcc (Debian 12.2.0-14) 12.2.0 To view detailed results, visit: https://lab.dpdk.org/results/dashboard/patchsets/34175/ UNH-IOL DPDK Community Lab To manage your email subscriptions, visit: https://lab.dpdk.org/results/dashboard/preferences/subscriptions/