From mboxrd@z Thu Jan 1 00:00:00 1970 Return-Path: Received: from mails.dpdk.org (mails.dpdk.org [217.70.189.124]) by inbox.dpdk.org (Postfix) with ESMTP id A8C2648877 for ; Wed, 1 Oct 2025 02:26:59 +0200 (CEST) Received: from mails.dpdk.org (localhost [127.0.0.1]) by mails.dpdk.org (Postfix) with ESMTP id 87BFA400EF; Wed, 1 Oct 2025 02:26:59 +0200 (CEST) Received: from mail-oa1-f98.google.com (mail-oa1-f98.google.com [209.85.160.98]) by mails.dpdk.org (Postfix) with ESMTP id AD261400EF for ; Wed, 1 Oct 2025 02:26:57 +0200 (CEST) Received: by mail-oa1-f98.google.com with SMTP id 586e51a60fabf-36c9859b036so343754fac.0 for ; Tue, 30 Sep 2025 17:26:57 -0700 (PDT) DKIM-Signature: v=1; a=rsa-sha256; c=relaxed/relaxed; d=iol.unh.edu; s=unh-iol; t=1759278417; x=1759883217; darn=dpdk.org; h=references:in-reply-to:cc:to:from:subject:message-id:date:from:to :cc:subject:date:message-id:reply-to; bh=EEe9rzxlfXFhvm8JPCus2WibgC9F2CYCN6gnnfCanO4=; b=Q7kzzA6fycyb2WHVdP0G6i72QJOgEmholInC3a4A2RINsNZN7J/JfICueWymMFw94r CFbfS+EtR9UEjmqgR9mCVxq6YMahQP6BFIB4wAle3bn9aw/RnYidyK3VOJxEvajBwwma H3SbzP8WFDyo0FG5VAm7pUxZA0Xdg/KX+oHVc= X-Google-DKIM-Signature: v=1; a=rsa-sha256; c=relaxed/relaxed; d=1e100.net; s=20230601; t=1759278417; x=1759883217; h=references:in-reply-to:cc:to:from:subject:message-id:date :x-gm-message-state:from:to:cc:subject:date:message-id:reply-to; bh=EEe9rzxlfXFhvm8JPCus2WibgC9F2CYCN6gnnfCanO4=; b=AuN4hY8Cfx0SlU/wnvhsqIYbyt9dVXM5eG64+GpERlEYyHSyKiq7O+eTlZk0GsGuc2 VFOPpv56ljRFImQKZ2A1iK41X70KybJO4wjcIeTOkuOPD6WIAH5X06TVoVd47JB3hJxQ U4GeHTdey/FrmyLpIl4XTeAa4cvu4Yy7HkXhKgNAKzwR6vTfPUhWanKmAc5REC9KUJ6X I2izip3Can9HEsSb1k9cl2LQkgul4DkTMqm2xe5FDRfvlXJiKAYMcFBQy5Ci4QVdhiq8 XFhbPf17qoJ11ovJT1gW0MqS6yzgXSC0FhPWvqMrJm7BG2jmg5cXNlyN6DOp4mI0hK0u xtfw== X-Gm-Message-State: AOJu0YxIs9zTmyehlToh9kH9JaWyz7cIDiFOSXg7nUoashO6kyvSnWOp dQR6L6tKYtI5FS6NOIrUXiudjAammO+zJNb+KftxclljfqCd2hb3KkM1S/RUMqa+7v36W75DLRy I7VdauOAv4HB7QBnGb1FLtDQ9IgFmZ3jBLj4mIRm/GQTD3G+SADfPAyeoZQE/ X-Gm-Gg: ASbGncuvNLel1db/Zjhu5rXVdpRj3j3l2Gk+XjGeGbYmyHzcGuT73sjyCWb1rTmWUpj eMlZ9Fny8L6xfo5RKj5NRC0ro6y2UEfrkk+OsWB5oRQoo/IVKV5swSTKm7zey6znhvDfn3oLTkh u6gQozzH8Q+rH704l1LUv+zoV1EduGcucVXS8+vCxH/9elly1tP5dfZDO/Zf4qWw7i5ikU09VBA uCFBOzvY1o2A4Qw3Qm64myRMq2Yt32zBx0QOOGNQLasImeJEcR/JC5VrdDWmsArrsFxSU4IKqCo 7zPsAo0LkNcPl1rZMbOc+6rg39S2qHUwqst3s85eLUQ4w3vy+RBYFq4= X-Google-Smtp-Source: AGHT+IEBFcRGsz3IDqERNASeTQiIKnF8mqY6euQb2Gs9DmjdmJ2j6dqpCxRmiIf8uBG37TKiD2UteOchl5+C X-Received: by 2002:a05:6870:71ce:b0:331:7220:f4c4 with SMTP id 586e51a60fabf-38cd3adbea6mr3485090fac.13.1759278416846; Tue, 30 Sep 2025 17:26:56 -0700 (PDT) Received: from postal.iol.unh.edu (postal.iol.unh.edu. [2606:4100:3880:1234::84]) by smtp-relay.gmail.com with ESMTPS id 586e51a60fabf-363a2ce9c64sm1313718fac.5.2025.09.30.17.26.56 (version=TLS1_2 cipher=ECDHE-ECDSA-AES128-GCM-SHA256 bits=128/128); Tue, 30 Sep 2025 17:26:56 -0700 (PDT) X-Relaying-Domain: iol.unh.edu Date: Tue, 30 Sep 2025 17:26:56 -0700 (PDT) Message-ID: <68dc7550.050a0220.3a9a8d.e2e0SMTPIN_ADDED_MISSING@mx.google.com> Received: from [172.21.0.2] (unknown [172.18.0.240]) by postal.iol.unh.edu (Postfix) with ESMTP id 54E246051830; Tue, 30 Sep 2025 20:26:56 -0400 (EDT) Subject: |SUCCESS| pw157056 [PATCH] [v4] net/intel: add IDPF PCI class ID sup From: dpdklab@iol.unh.edu To: Test Report Cc: dpdk-test-reports@iol.unh.edu In-Reply-To: <20250929140015.198615-1-venkatesh.vemula@intel.com> References: <20250929140015.198615-1-venkatesh.vemula@intel.com> Content-Type: text/plain X-BeenThere: test-report@dpdk.org X-Mailman-Version: 2.1.29 Precedence: list List-Id: automatic DPDK test reports List-Unsubscribe: , List-Archive: List-Post: List-Help: List-Subscribe: , Errors-To: test-report-bounces@dpdk.org Test-Label: iol-compile-arm64-testing Test-Status: SUCCESS http://dpdk.org/patch/157056 _Testing PASS_ Submitter: Vemula Venkatesh Date: Monday, September 29 2025 14:00:15 DPDK git baseline: Repo:dpdk Branch: master CommitID:1d627ea13aeec2bcccf27246e6be2508370d171e 157056 --> testing pass Upstream job id: Generic-DPDK-Compile-Meson#429973 Test environment and result as below: +------------------------------+--------------------+ | Environment | dpdk_meson_compile | +==============================+====================+ | Red Hat Enterprise Linux 9.5 | PASS | +------------------------------+--------------------+ | Ubuntu 20.04 | PASS | +------------------------------+--------------------+ | Debian GNU/Linux 12 | PASS | +------------------------------+--------------------+ | Fedora Linux 42 | PASS | +------------------------------+--------------------+ | Ubuntu 22.04 | PASS | +------------------------------+--------------------+ | Ubuntu 24.04 | PASS | +------------------------------+--------------------+ | CentOS Stream 9 | PASS | +------------------------------+--------------------+ | CentOS Stream 10 | PASS | +------------------------------+--------------------+ Red Hat Enterprise Linux 9.5 Kernel: 5.4 Compiler: gcc gcc (GCC) 11.5.0 20240719 (Red Hat 11.5.0-2) Ubuntu 20.04 Kernel: 5.15 Compiler: aarch64-linux-gnu-gcc gcc (Ubuntu 9.4.0-1ubuntu1~20.04.2) 9.4.0 Debian GNU/Linux 12 Kernel: 5.4 Compiler: gcc gcc (Debian 12.2.0-14+deb12u1) 12.2.0 Fedora Linux 42 Kernel: 5.4 Compiler: gcc gcc (GCC) 15.2.1 20250808 (Red Hat 15.2.1-1) Ubuntu 22.04 Kernel: 5.4 Compiler: gcc gcc (Ubuntu 11.4.0-1ubuntu1~22.04) 11.4.0 Ubuntu 24.04 Kernel: 5.4 Compiler: gcc gcc (Ubuntu 13.3.0-6ubuntu2~24.04) 13.3.0 CentOS Stream 9 Kernel: 5.4 Compiler: gcc gcc (GCC) 11.5.0 20240719 (Red Hat 11.5.0-11) CentOS Stream 10 Kernel: 5.4 Compiler: gcc gcc (GCC) 14.2.1 20250110 (Red Hat 14.2.1-8) To view detailed results, visit: https://lab.dpdk.org/results/dashboard/patchsets/34176/ UNH-IOL DPDK Community Lab To manage your email subscriptions, visit: https://lab.dpdk.org/results/dashboard/preferences/subscriptions/