From mboxrd@z Thu Jan 1 00:00:00 1970 Return-Path: Received: from mails.dpdk.org (mails.dpdk.org [217.70.189.124]) by inbox.dpdk.org (Postfix) with ESMTP id 3275A48877 for ; Wed, 1 Oct 2025 03:04:22 +0200 (CEST) Received: from mails.dpdk.org (localhost [127.0.0.1]) by mails.dpdk.org (Postfix) with ESMTP id 16B2B400EF; Wed, 1 Oct 2025 03:04:22 +0200 (CEST) Received: from mail-il1-f226.google.com (mail-il1-f226.google.com [209.85.166.226]) by mails.dpdk.org (Postfix) with ESMTP id E1207400EF for ; Wed, 1 Oct 2025 03:04:20 +0200 (CEST) Received: by mail-il1-f226.google.com with SMTP id e9e14a558f8ab-42d7b620348so11122955ab.0 for ; Tue, 30 Sep 2025 18:04:20 -0700 (PDT) DKIM-Signature: v=1; a=rsa-sha256; c=relaxed/relaxed; d=iol.unh.edu; s=unh-iol; t=1759280660; x=1759885460; darn=dpdk.org; h=references:in-reply-to:cc:to:from:subject:message-id:date:from:to :cc:subject:date:message-id:reply-to; bh=1Yrr3mQ+zhPCzwZqAQhr0LlvXPCXBpA8xdL2CXq3HBM=; b=ebWW+OlUUZ5lCLOvsUmsd3iNaDdwtBH5BX+NUg5x+N0FKAgm7gbGe1JddUYuXzpolf izygaqY3lDtOK8ET8V2b9tZz8gNxkzejen43GB1wZH11vLx4NolKr3ydwnkMWQetss1t 0dafqaGO5705sj+SpYeN8JnrnF7lpcpMvCGTU= X-Google-DKIM-Signature: v=1; a=rsa-sha256; c=relaxed/relaxed; d=1e100.net; s=20230601; t=1759280660; x=1759885460; h=references:in-reply-to:cc:to:from:subject:message-id:date :x-gm-message-state:from:to:cc:subject:date:message-id:reply-to; bh=1Yrr3mQ+zhPCzwZqAQhr0LlvXPCXBpA8xdL2CXq3HBM=; b=LQtZg7E5FXAOeSle05labyF2xKka3CAElNx/hBTzfqr6/tKPOrD350xnH+Gp6jv6DM VPsvkxOLEk830fGTe0udOy7oDsnQ/pDQbcJq2rvJDFubRS6lE3V56Aheud1XMAN0ZXYp PAMiAlCWPr1D6CLeGAze64Z8FGDSdo0dbJ8sP+R5nM/9Snh1ARSqADax5XboTYMolXXb 9k0aW+NCVqpqnDbxdySPTdTGZ4WEwzHoIwL354rLHfFN+fO1+ph+qyRKfmW8aCwR0c1+ u8F0iUX9z6tWaRAiNdf2HfNm9Zrw9UDpuBLCHhkyYn2WZKJPx+gTxt9hPKeXTIIEbM6M hSAg== X-Gm-Message-State: AOJu0YwzqWHLdUxnAeRSv/XV6DfRgFl0B0Dc9wXEW78WIbGg6HpLw8Jd usalb4aqe8ObIkOMUQw+7/lgQM4RVnn9jDv9WmyzY4DW/+UMIPjrG6EO9HS3LKeQMFudo/2wxZa GttzAEVwrAmWd2t8parw97QAMI2pCvDOSsc5KEL3nid9q X-Gm-Gg: ASbGncu5TW05h/uh5VIL5/rS4qVkO/4Qo09XEousOuwCQ52HAuK/O0urq5BLnMcSvkP VprhNJuc4UKqUfVeePqjNIHy9t0uLLpklcRBXzk3nu5PuJtCOKIDSiGiH4rJmjbU9SRXm/eYpD7 NrLsNVAh6w5LXHErr2L5sZGzYGslhUxO4JRRk4hMVY75F/ilzVuEAHbIBm4t+8wTzyW3vm0FiOX FxySKE85pFeGfan9I6PMFPGFkvFE1/ERuNCiE9uCgnMULBU7ndk0HEk117DKvwOmZCOiBqyO72v yiJCh1nHBhG+1fayRWpJ9E4tVNjb5HVv2iyNlFZGC2m1MISs9qTcZVoZG0LmrOdnb9KzN25heN5 2lQ== X-Google-Smtp-Source: AGHT+IGo2BocTz0+G+OIuw4BAdT28tvAj1JPYSL7QWKluVceWRZ+Q6t4RQ74tF5gztuIFOIiMJDooyzs9F2e X-Received: by 2002:a05:6e02:1a86:b0:424:8c2d:ca3d with SMTP id e9e14a558f8ab-42d81689cbemr27718685ab.28.1759280659914; Tue, 30 Sep 2025 18:04:19 -0700 (PDT) Received: from postal.iol.unh.edu (postal.iol.unh.edu. [132.177.123.84]) by smtp-relay.gmail.com with ESMTPS id e9e14a558f8ab-425bf6d35ccsm11693905ab.22.2025.09.30.18.04.19 (version=TLS1_2 cipher=ECDHE-ECDSA-AES128-GCM-SHA256 bits=128/128); Tue, 30 Sep 2025 18:04:19 -0700 (PDT) X-Relaying-Domain: iol.unh.edu Date: Tue, 30 Sep 2025 18:04:19 -0700 (PDT) Message-ID: <68dc7e13.050a0220.6802a.63f5SMTPIN_ADDED_MISSING@mx.google.com> Received: from [172.21.0.3] (unknown [172.18.0.240]) by postal.iol.unh.edu (Postfix) with ESMTP id 8C59360003E8; Tue, 30 Sep 2025 21:04:19 -0400 (EDT) Subject: |SUCCESS| pw157151-157155 [PATCH] [v3,5/5] usertools/mbuf: parse mbu From: dpdklab@iol.unh.edu To: Test Report Cc: dpdk-test-reports@iol.unh.edu In-Reply-To: <20250930233828.3999565-6-thomas@monjalon.net> References: <20250930233828.3999565-6-thomas@monjalon.net> Content-Type: text/plain X-BeenThere: test-report@dpdk.org X-Mailman-Version: 2.1.29 Precedence: list List-Id: automatic DPDK test reports List-Unsubscribe: , List-Archive: List-Post: List-Help: List-Subscribe: , Errors-To: test-report-bounces@dpdk.org Test-Label: iol-compile-amd64-testing Test-Status: SUCCESS http://dpdk.org/patch/157155 _Testing PASS_ Submitter: Thomas Monjalon Date: Tuesday, September 30 2025 23:25:06 DPDK git baseline: Repo:dpdk Branch: master CommitID:f3878b615e69a12087a6c5d212723478cfc79c31 157151-157155 --> testing pass Upstream job id: Windows-Compile-DPDK-Native#31338 Test environment and result as below: +---------------------+--------------------+-------------------------+-------------------+----------------------+ | Environment | dpdk_meson_compile | dpdk_llvm_clang_compile | dpdk_msvc_compile | dpdk_mingw64_compile | +=====================+====================+=========================+===================+======================+ | Ubuntu 20.04 | PASS | SKIPPED | SKIPPED | SKIPPED | +---------------------+--------------------+-------------------------+-------------------+----------------------+ | FreeBSD 14.2 | PASS | SKIPPED | SKIPPED | SKIPPED | +---------------------+--------------------+-------------------------+-------------------+----------------------+ | Windows Server 2022 | SKIPPED | PASS | PASS | PASS | +---------------------+--------------------+-------------------------+-------------------+----------------------+ Ubuntu 20.04 Kernel: 4.19 Compiler: gcc gcc (Ubuntu 9.4.0-1ubuntu1~20.04.2) 9.4.0 FreeBSD 14.2 Kernel: 14.2-RELEASE Compiler: clang 18.1.6 Windows Server 2022 Kernel: 10.0.20348.2031 Compiler: clang 15.0.7, gcc 14.1.0 (MinGW), and MSVC VS 19.39.33521 To view detailed results, visit: https://lab.dpdk.org/results/dashboard/patchsets/34187/ UNH-IOL DPDK Community Lab To manage your email subscriptions, visit: https://lab.dpdk.org/results/dashboard/preferences/subscriptions/