From mboxrd@z Thu Jan 1 00:00:00 1970 Return-Path: Received: from mails.dpdk.org (mails.dpdk.org [217.70.189.124]) by inbox.dpdk.org (Postfix) with ESMTP id 13B1A48877 for ; Wed, 1 Oct 2025 03:13:40 +0200 (CEST) Received: from mails.dpdk.org (localhost [127.0.0.1]) by mails.dpdk.org (Postfix) with ESMTP id E1596400EF; Wed, 1 Oct 2025 03:13:39 +0200 (CEST) Received: from mail-oa1-f98.google.com (mail-oa1-f98.google.com [209.85.160.98]) by mails.dpdk.org (Postfix) with ESMTP id 90AC5400EF for ; Wed, 1 Oct 2025 03:13:38 +0200 (CEST) Received: by mail-oa1-f98.google.com with SMTP id 586e51a60fabf-3588a4b1205so4277430fac.0 for ; Tue, 30 Sep 2025 18:13:38 -0700 (PDT) DKIM-Signature: v=1; a=rsa-sha256; c=relaxed/relaxed; d=iol.unh.edu; s=unh-iol; t=1759281218; x=1759886018; darn=dpdk.org; h=references:in-reply-to:cc:to:from:subject:message-id:date:from:to :cc:subject:date:message-id:reply-to; bh=MxygcqbkfRUHh7e6g0ECXbb79MrBn+Ec+F4hc/5S+8g=; b=aKld3G9STw/mpX4UhJbCc0PjD8UhBieSemmIsYwgiEoIWy8jV8uRf6NKvM9bWozZlU gmUXnb5Ci/6BGCXA2QxGBABYVuJz0D/bjMm5RaJYdW2zyJpcaYJGHf/XCbe3OAEzKvUV 7kh2p4ucvc5cpiw2JAvXQET/ri6N/Xr3Wit0E= X-Google-DKIM-Signature: v=1; a=rsa-sha256; c=relaxed/relaxed; d=1e100.net; s=20230601; t=1759281218; x=1759886018; h=references:in-reply-to:cc:to:from:subject:message-id:date :x-gm-message-state:from:to:cc:subject:date:message-id:reply-to; bh=MxygcqbkfRUHh7e6g0ECXbb79MrBn+Ec+F4hc/5S+8g=; b=KknoUbl0IxdFt2kKVgKvfiA2ijJ9MrfP0OwZ9c5r6LxcAlyGz20Ufsyf8gpoPsuGTw +zw37qM3OoKgDdlKrJ+wZ2V+gS0e7eE/j8QkuvehrQ4p2TDFefSgRQ8ntMGNkDzv6YC2 YYLn/UDeSOtdUMR8o0OCpotJUXmFXEwkrUQDq5vE1ix7J5xXVvrWysS4W+rvVIkzI1x8 MQ0dz2ssCoGJ3D2HCezRZ4tlE2i5jR8uXI01ig8iuhyV+X9A2HMVkHp0k4qEZGVWobar hc/WNJcEtGT/KOKSPFrsRGr2jNqqYDBXMC9Jf2Dms6LoW6IBDkU+D/BqFzBAc9g7RWp+ ZJEg== X-Gm-Message-State: AOJu0YxW8xj6JaasXISJ/MlfPXXvn5GBAF6to3zjm5l/B9zU/ZZCMw6w v9k/sIGy5oc0xknwX4WbjM9OAhQNgIFRaWtnBMy23dUNyHg7i/gkhZ3WGmuqTwOUb/vkpH3ICJ9 4Z7nr007i42F0NsI0L7P17LjPXi6unGKLe+OCZyW7wCz7 X-Gm-Gg: ASbGnctzeF+HhPgMlet/2bEuLMHGfWrn/j8JXkKCMP/sdQKsM0yeHJZUByenMb80fSd r1VT67JpNm7G33AQRGlZegKudjwkRGKSan8tmOYcqsjT5JgKn91aluSSZnwo/ndgXn+a5SmKgp1 CNfwBNmy84brvdu//EsMPcjLVQgudDDT9zx2IeLPnmMtq2xZjG9TE+8APgdN3oNVncHCn78Zg49 0jiNB5gqFhSQirEPcq++xWppKN7rRmMAIupD120QQNm1yV5xr83RdOh+iU/M2oR1TySMcDqaOv1 PH5BeG3vd4uyFyN2mLif5JRWaWzI30324/OecKTlE3EMI/cJCTtCDpGlREzMgN1dSY2h34CMojP Xug== X-Google-Smtp-Source: AGHT+IFXK0AQ5xrCZdavad5KJisxFpLXSZq/2ZcB8VWYyOOW0NLUY+957aqkfR+kWfzlJaDieH59kVm1P5Em X-Received: by 2002:a05:6871:68f:b0:30b:85e1:d3ed with SMTP id 586e51a60fabf-39bbb06e430mr905711fac.39.1759281217756; Tue, 30 Sep 2025 18:13:37 -0700 (PDT) Received: from postal.iol.unh.edu (postal.iol.unh.edu. [132.177.123.84]) by smtp-relay.gmail.com with ESMTPS id 586e51a60fabf-363a2ce97f1sm1289393fac.3.2025.09.30.18.13.37 (version=TLS1_2 cipher=ECDHE-ECDSA-AES128-GCM-SHA256 bits=128/128); Tue, 30 Sep 2025 18:13:37 -0700 (PDT) X-Relaying-Domain: iol.unh.edu Date: Tue, 30 Sep 2025 18:13:37 -0700 (PDT) Message-ID: <68dc8041.050a0220.2df882.f0edSMTPIN_ADDED_MISSING@mx.google.com> Received: from [172.21.0.2] (unknown [172.18.0.240]) by postal.iol.unh.edu (Postfix) with ESMTP id 433016051830; Tue, 30 Sep 2025 21:13:37 -0400 (EDT) Subject: |SUCCESS| pw157151-157155 [PATCH] [v3,5/5] usertools/mbuf: parse mbu From: dpdklab@iol.unh.edu To: Test Report Cc: dpdk-test-reports@iol.unh.edu In-Reply-To: <20250930233828.3999565-6-thomas@monjalon.net> References: <20250930233828.3999565-6-thomas@monjalon.net> Content-Type: text/plain X-BeenThere: test-report@dpdk.org X-Mailman-Version: 2.1.29 Precedence: list List-Id: automatic DPDK test reports List-Unsubscribe: , List-Archive: List-Post: List-Help: List-Subscribe: , Errors-To: test-report-bounces@dpdk.org Test-Label: iol-unit-amd64-testing Test-Status: SUCCESS http://dpdk.org/patch/157155 _Testing PASS_ Submitter: Thomas Monjalon Date: Tuesday, September 30 2025 23:25:06 DPDK git baseline: Repo:dpdk Branch: master CommitID:f3878b615e69a12087a6c5d212723478cfc79c31 157151-157155 --> testing pass Upstream job id: Generic-VM-Unit-Test-DPDK#31507 Test environment and result as below: +-------------------------------+----------------+ | Environment | dpdk_unit_test | +===============================+================+ | Windows Server 2022 | PASS | +-------------------------------+----------------+ | CentOS Stream 9 | PASS | +-------------------------------+----------------+ | Debian GNU/Linux 12 | PASS | +-------------------------------+----------------+ | CentOS Stream 10 | PASS | +-------------------------------+----------------+ | Fedora Linux 40 | PASS | +-------------------------------+----------------+ | Fedora Linux 42 | PASS | +-------------------------------+----------------+ | Fedora Linux 41 | PASS | +-------------------------------+----------------+ | Red Hat Enterprise Linux 8.10 | PASS | +-------------------------------+----------------+ | Ubuntu 20.04 | PASS | +-------------------------------+----------------+ | Ubuntu 22.04 | PASS | +-------------------------------+----------------+ | Red Hat Enterprise Linux 9.5 | PASS | +-------------------------------+----------------+ | Ubuntu 24.04 | PASS | +-------------------------------+----------------+ Windows Server 2022 Kernel: 10.0.20348.2031 Compiler: clang 15.0.7, gcc 14.1.0 (MinGW), and MSVC VS 19.39.33521 CentOS Stream 9 Kernel: 5.15 Compiler: gcc gcc (GCC) 11.5.0 20240719 (Red Hat 11.5.0-11) Debian GNU/Linux 12 Kernel: 5.15 Compiler: gcc gcc (Debian 12.2.0-14+deb12u1) 12.2.0 CentOS Stream 10 Kernel: 5.15 Compiler: gcc gcc (GCC) 14.2.1 20250110 (Red Hat 14.2.1-8) Fedora Linux 40 Kernel: 5.15 Compiler: gcc gcc (GCC) 14.2.1 20240912 (Red Hat 14.2.1-3) Fedora Linux 42 Kernel: 5.15 Compiler: gcc gcc (GCC) 15.2.1 20250808 (Red Hat 15.2.1-1) Fedora Linux 41 Kernel: 5.15 Compiler: gcc gcc (GCC) 14.3.1 20250523 (Red Hat 14.3.1-1) Red Hat Enterprise Linux 8.10 Kernel: 5.15 Compiler: gcc gcc (GCC) 8.5.0 20210514 (Red Hat 8.5.0-22) Ubuntu 20.04 Kernel: 5.15 Compiler: gcc gcc (Ubuntu 9.4.0-1ubuntu1~20.04.2) 9.4.0 Ubuntu 22.04 Kernel: 5.15 Compiler: gcc gcc (Ubuntu 11.4.0-1ubuntu1~22.04) 11.4.0 Red Hat Enterprise Linux 9.5 Kernel: 5.15 Compiler: gcc gcc (GCC) 11.5.0 20240719 (Red Hat 11.5.0-2) Ubuntu 24.04 Kernel: 5.15 Compiler: gcc gcc (Ubuntu 13.3.0-6ubuntu2~24.04) 13.3.0 To view detailed results, visit: https://lab.dpdk.org/results/dashboard/patchsets/34187/ UNH-IOL DPDK Community Lab To manage your email subscriptions, visit: https://lab.dpdk.org/results/dashboard/preferences/subscriptions/