From mboxrd@z Thu Jan 1 00:00:00 1970 Return-Path: Received: from mails.dpdk.org (mails.dpdk.org [217.70.189.124]) by inbox.dpdk.org (Postfix) with ESMTP id E9CB148879 for ; Wed, 1 Oct 2025 04:34:43 +0200 (CEST) Received: from mails.dpdk.org (localhost [127.0.0.1]) by mails.dpdk.org (Postfix) with ESMTP id 9D594400EF; Wed, 1 Oct 2025 04:34:43 +0200 (CEST) Received: from mail-yw1-f226.google.com (mail-yw1-f226.google.com [209.85.128.226]) by mails.dpdk.org (Postfix) with ESMTP id 17F53400EF for ; Wed, 1 Oct 2025 04:34:42 +0200 (CEST) Received: by mail-yw1-f226.google.com with SMTP id 00721157ae682-71d603cebd9so86647817b3.1 for ; Tue, 30 Sep 2025 19:34:41 -0700 (PDT) DKIM-Signature: v=1; a=rsa-sha256; c=relaxed/relaxed; d=iol.unh.edu; s=unh-iol; t=1759286081; x=1759890881; darn=dpdk.org; h=references:in-reply-to:cc:to:from:subject:message-id:date:from:to :cc:subject:date:message-id:reply-to; bh=ZI0c9M+tPJOWdxtyIkVFBX/ZVw+sb75MThAj0PnHUOA=; b=XVAVgpMima9IhC6wDPLcThKy7PHc9J+PCjDybBKnL+n4DrqP5cdf/D5j/PHSOrQkCa U8Fw/BF4YOs9yp2CFyLIxwCxgLgBhkGVXIsrVVZGOCqbUTW55rR20HK6unaVmF767Sd2 so/fzX2ulX2Qql6L52w04zbt3T7fUiIaRzgWw= X-Google-DKIM-Signature: v=1; a=rsa-sha256; c=relaxed/relaxed; d=1e100.net; s=20230601; t=1759286081; x=1759890881; h=references:in-reply-to:cc:to:from:subject:message-id:date :x-gm-message-state:from:to:cc:subject:date:message-id:reply-to; bh=ZI0c9M+tPJOWdxtyIkVFBX/ZVw+sb75MThAj0PnHUOA=; b=XtgXE3+uqXtuFza4x3vn7ntxXiNNoHd/t9xHodapBWpDgxA/y00FcZhjcPK+mDuo/j LgmcQMlWm/Qy3NrWxAWmctTDAZQLTakCHsbFiwBC0Tz2FqhMpkyt2goEF/U3dAcQHafV WNCIFc6mJcN3/Zj4i3b/TFMBd8t62+pnwRy8wLGnUnB71x+QOKuuiINQSjFmOmzXmMKi /7acL0+NKxcjP4i7oZdJNZ5jwAlEpkILEXVSKJ4iHgSvMzPeXypJUgPe5Cid0zbyBnBJ EPKVNw9LBC+R2qkXoNtQqLSOxg8dn4F/9erCdKUlkWkCghH1x5PZUSY82L3t29zKjZ53 IxVg== X-Gm-Message-State: AOJu0Yyd5OcjW4wdjCXrSblfT3nOYgRVM8P7zrLbrfy3N+4Me1dZvXNe lw0x/FKbAu7VRy9TmTbWNoTA9N6v0lepoH/xWSj2UHNYQCak8ZSsPyHxa7q3kYgJcYfFtbxDtZK cVbjXbO8zOixpjKohAQ6nPQUjzJKiIIts4mg6+EXji9Po X-Gm-Gg: ASbGncs7t6r7QYxImDBRwz9J4b6uqp1mnwPBbpOoFkNC8T9G9hL67j+xn03x7X9CFgp caD1R5bDFPLHrc+St3Pak1gy7e/R0cuiH1xFJF5hMPO3EQ7HEv3Bycj7WTVst40R+ZwLgV2WGZB dj720vX/s2QmHPC6nOMn9viENPe5nVEEVEYixq6y92bdYf5K2l8YvwU6YxSAHZnrVsC/b1rt36R /9T0H03ZGR3S/ixsa2lETkSlw5JZnHjaTv/N8d4XVYcUGQFw4BWnXi8OsPLVGt9vAOO4DKLItcU 0tNXNmm4zif0Y57QI25FMmCzh6t0TOiCEzHd4kcwkYRMuX+BtzNvhULRWIlW1wk18oWKcXqIb7M 4gw== X-Google-Smtp-Source: AGHT+IGsWyhXnfZYta2DPR7CFTNOxpTofDwosb9plXZfm4gZe2vkgLXgRseiIWzf7+9Xo5UemPW45T4ykddk X-Received: by 2002:a05:690c:7482:b0:764:e110:54b7 with SMTP id 00721157ae682-77f6f2c2392mr26129677b3.34.1759286081272; Tue, 30 Sep 2025 19:34:41 -0700 (PDT) Received: from postal.iol.unh.edu (postal.iol.unh.edu. [132.177.123.84]) by smtp-relay.gmail.com with ESMTPS id 00721157ae682-765d86cb9c4sm8048447b3.24.2025.09.30.19.34.41 (version=TLS1_2 cipher=ECDHE-ECDSA-AES128-GCM-SHA256 bits=128/128); Tue, 30 Sep 2025 19:34:41 -0700 (PDT) X-Relaying-Domain: iol.unh.edu Date: Tue, 30 Sep 2025 19:34:41 -0700 (PDT) Message-ID: <68dc9341.050a0220.25d5cd.1481SMTPIN_ADDED_MISSING@mx.google.com> Received: from [172.21.0.2] (unknown [172.18.0.240]) by postal.iol.unh.edu (Postfix) with ESMTP id DCD706051830; Tue, 30 Sep 2025 22:34:40 -0400 (EDT) Subject: |SUCCESS| pw157056 [PATCH] [v4] net/intel: add IDPF PCI class ID sup From: dpdklab@iol.unh.edu To: Test Report Cc: dpdk-test-reports@iol.unh.edu In-Reply-To: <20250929140015.198615-1-venkatesh.vemula@intel.com> References: <20250929140015.198615-1-venkatesh.vemula@intel.com> Content-Type: text/plain X-BeenThere: test-report@dpdk.org X-Mailman-Version: 2.1.29 Precedence: list List-Id: automatic DPDK test reports List-Unsubscribe: , List-Archive: List-Post: List-Help: List-Subscribe: , Errors-To: test-report-bounces@dpdk.org Test-Label: iol-unit-arm64-testing Test-Status: SUCCESS http://dpdk.org/patch/157056 _Testing PASS_ Submitter: Vemula Venkatesh Date: Monday, September 29 2025 14:00:15 DPDK git baseline: Repo:dpdk Branch: master CommitID:1d627ea13aeec2bcccf27246e6be2508370d171e 157056 --> testing pass Upstream job id: Generic-Unit-Test-DPDK#376538 Test environment and result as below: +------------------------------+----------------+--------------+---------------------------+------------------------------+ | Environment | dpdk_unit_test | lpm_autotest | cryptodev_sw_zuc_autotest | cryptodev_sw_snow3g_autotest | +==============================+================+==============+===========================+==============================+ | Debian GNU/Linux 12 | PASS | SKIPPED | SKIPPED | SKIPPED | +------------------------------+----------------+--------------+---------------------------+------------------------------+ | CentOS Stream 9 | PASS | SKIPPED | SKIPPED | SKIPPED | +------------------------------+----------------+--------------+---------------------------+------------------------------+ | Fedora Linux 40 | PASS | SKIPPED | SKIPPED | SKIPPED | +------------------------------+----------------+--------------+---------------------------+------------------------------+ | CentOS Stream 10 | PASS | SKIPPED | SKIPPED | SKIPPED | +------------------------------+----------------+--------------+---------------------------+------------------------------+ | Fedora Linux 41 | PASS | SKIPPED | SKIPPED | SKIPPED | +------------------------------+----------------+--------------+---------------------------+------------------------------+ | Fedora Linux 42 | PASS | SKIPPED | SKIPPED | SKIPPED | +------------------------------+----------------+--------------+---------------------------+------------------------------+ | Ubuntu 20.04 | PASS | PASS | SKIPPED | SKIPPED | +------------------------------+----------------+--------------+---------------------------+------------------------------+ | Ubuntu 22.04 | PASS | SKIPPED | SKIPPED | SKIPPED | +------------------------------+----------------+--------------+---------------------------+------------------------------+ | Ubuntu 24.04 | PASS | SKIPPED | SKIPPED | SKIPPED | +------------------------------+----------------+--------------+---------------------------+------------------------------+ | Red Hat Enterprise Linux 9.5 | PASS | SKIPPED | SKIPPED | SKIPPED | +------------------------------+----------------+--------------+---------------------------+------------------------------+ | Debian 12 (arm) | SKIPPED | SKIPPED | PASS | PASS | +------------------------------+----------------+--------------+---------------------------+------------------------------+ Debian GNU/Linux 12 Kernel: 5.4 Compiler: gcc gcc (Debian 12.2.0-14+deb12u1) 12.2.0 CentOS Stream 9 Kernel: 5.4 Compiler: gcc gcc (GCC) 11.5.0 20240719 (Red Hat 11.5.0-11) Fedora Linux 40 Kernel: 5.4 Compiler: clang gcc (GCC) 14.2.1 20240912 (Red Hat 14.2.1-3) CentOS Stream 10 Kernel: 5.4 Compiler: gcc gcc (GCC) 14.2.1 20250110 (Red Hat 14.2.1-8) Fedora Linux 41 Kernel: 5.4 Compiler: gcc gcc (GCC) 14.3.1 20250523 (Red Hat 14.3.1-1) Fedora Linux 42 Kernel: 5.4 Compiler: clang gcc (GCC) 15.2.1 20250808 (Red Hat 15.2.1-1) Ubuntu 20.04 Kernel: 5.4 Compiler: gcc gcc (Ubuntu 9.4.0-1ubuntu1~20.04.2) 9.4.0 Ubuntu 22.04 Kernel: 5.15 Compiler: gcc gcc (Ubuntu 11.4.0-1ubuntu1~22.04.2) 11.4.0 Ubuntu 24.04 Kernel: 5.4 Compiler: gcc gcc (Ubuntu 13.3.0-6ubuntu2~24.04) 13.3.0 Red Hat Enterprise Linux 9.5 Kernel: 5.4 Compiler: gcc gcc (GCC) 11.5.0 20240719 (Red Hat 11.5.0-2) Debian 12 (arm) Kernel: Depends on container host Compiler: gcc (Debian 12.2.0-14) 12.2.0 To view detailed results, visit: https://lab.dpdk.org/results/dashboard/patchsets/34176/ UNH-IOL DPDK Community Lab To manage your email subscriptions, visit: https://lab.dpdk.org/results/dashboard/preferences/subscriptions/