From mboxrd@z Thu Jan 1 00:00:00 1970 Return-Path: Received: from mails.dpdk.org (mails.dpdk.org [217.70.189.124]) by inbox.dpdk.org (Postfix) with ESMTP id E345648879 for ; Wed, 1 Oct 2025 05:51:47 +0200 (CEST) Received: from mails.dpdk.org (localhost [127.0.0.1]) by mails.dpdk.org (Postfix) with ESMTP id C16D2400EF; Wed, 1 Oct 2025 05:51:47 +0200 (CEST) Received: from mail-pg1-f228.google.com (mail-pg1-f228.google.com [209.85.215.228]) by mails.dpdk.org (Postfix) with ESMTP id B62C3400EF for ; Wed, 1 Oct 2025 05:51:46 +0200 (CEST) Received: by mail-pg1-f228.google.com with SMTP id 41be03b00d2f7-b555b0fb839so4923626a12.3 for ; Tue, 30 Sep 2025 20:51:46 -0700 (PDT) DKIM-Signature: v=1; a=rsa-sha256; c=relaxed/relaxed; d=iol.unh.edu; s=unh-iol; t=1759290706; x=1759895506; darn=dpdk.org; h=cc:to:from:subject:message-id:date:from:to:cc:subject:date :message-id:reply-to; bh=3YsECpDHCyyBXWQTNIEV/XKygIU3XfiGrTQd1wpFPdM=; b=iIvsGFh17vxP1mu3jrBcSPxsSvYMNUooIPosr4LwPuJemEzPIXj7nMgAOLvPbqDBrX fcQK+qgR4/YExHtbkXIdApixXaheQ6IBQEA41G1GJaD7s+gUVIqkjQ1VN3JBGOsLIIK1 cY/uFb7QQiokC3kytnaKqHUduEiPSov3GlbOo= X-Google-DKIM-Signature: v=1; a=rsa-sha256; c=relaxed/relaxed; d=1e100.net; s=20230601; t=1759290706; x=1759895506; h=cc:to:from:subject:message-id:date:x-gm-message-state:from:to:cc :subject:date:message-id:reply-to; bh=3YsECpDHCyyBXWQTNIEV/XKygIU3XfiGrTQd1wpFPdM=; b=ds9FJB9R3p2adtjfQbYRWmgoSlgyOqz6JBhuBOuorDM0n42YOx+dlpIxO7pdCkR4is sDnGp5odVaFNJY1tVyNpG8jDJfgOYFmpOrKyma1xl6wXJcM6NZbczQeZAZE0fbnDlSuE Hv6CpM6ThM0yG94ArCMFU2Egrpnf/ESv9egcPqgIO4UAVcUB6ObvMlrIsL8dhV1SfJN8 Sd/nlUCURVbcpOeFcPAQ03XbRH+Z+ITcIYSzHgEj8mau7KnJpQgiN+kDjro75QiHdbVv JDulgiSNXMFiUst6b738VlQtleNSbJuhZ+m4buQomxpnkJ+BT/RQkOJ0mOS88F4krNez IkyQ== X-Gm-Message-State: AOJu0YxQKUjbNLcIcvqXEPAMaKAZM77At6FPuiV7ECJiBSs4s3nl13AP BnDrC7gWfP0FTv1YKD8MPuwm3Knx00GTUW2B/PcvxaQPBfQTCBMTUmbfVqHcrjoKj1FrHbbdlM7 ikj7Uoy0vJNZVWRhZmURi9zThuyTEKOrM6EZR0KjG+H4geqJfqhFhTXjW3Pw3 X-Gm-Gg: ASbGnctDm7dF86Ba/StoSzX/3pUoKtzAtNsYNa2rmC5ZjnmsRVcbietdGksDN+mRlXz P1r0QRTAWwWl1VSU4FUHpDWPPWxD1lA5lcqQrhEkAdSPusLbHvU7CogZYalnr4abfxYriTYC9tA HEMCj6sRLA2eEu0UDMu+VqXnFW2yQ7DXjEoOWEBJJlpy4tWhOHM/wzVOe/zkRHwqx9AOjkrF3VI hQwWMBi+qriPHSCtq7qMajV/YJaxM57tVPETE1tgIjJGZYfGRvHDzOy4LKVJPiwAGiZtzOtcJEg pEtDen1NOYAe7Sf0kkNVmsZJsQWfMdQolm+8VixDiuTNyNY4xgejRfQ= X-Google-Smtp-Source: AGHT+IEagBxO1W9wKYakAZVeLmYvNu7YPOQkTkPYb5UYANd9Z9bb4LmBa0vU2qZ5Q20FeHQbF4ZB7O0PqxNL X-Received: by 2002:a17:903:1b70:b0:275:c1e7:c7e with SMTP id d9443c01a7336-28e7f27cbf7mr21972985ad.4.1759290705799; Tue, 30 Sep 2025 20:51:45 -0700 (PDT) Received: from postal.iol.unh.edu (postal.iol.unh.edu. [2606:4100:3880:1234::84]) by smtp-relay.gmail.com with ESMTPS id d9443c01a7336-27ed66dd03asm13249085ad.23.2025.09.30.20.51.45 (version=TLS1_2 cipher=ECDHE-ECDSA-AES128-GCM-SHA256 bits=128/128); Tue, 30 Sep 2025 20:51:45 -0700 (PDT) X-Relaying-Domain: iol.unh.edu Date: Tue, 30 Sep 2025 20:51:45 -0700 (PDT) Message-ID: <68dca551.170a0220.141e2f.ef1fSMTPIN_ADDED_MISSING@mx.google.com> Received: from [172.21.0.2] (unknown [172.18.0.240]) by postal.iol.unh.edu (Postfix) with ESMTP id 3AA066051830; Tue, 30 Sep 2025 23:51:45 -0400 (EDT) Subject: |SUCCESS| [GIT MASTER] 9845e5848bbe337306fb6ae2a6b1ce5e6ab5b714 From: dpdklab@iol.unh.edu To: Test Report Cc: dpdk-test-reports@iol.unh.edu, Bruce Richardson Content-Type: text/plain X-BeenThere: test-report@dpdk.org X-Mailman-Version: 2.1.29 Precedence: list List-Id: automatic DPDK test reports List-Unsubscribe: , List-Archive: List-Post: List-Help: List-Subscribe: , Errors-To: test-report-bounces@dpdk.org _Testing PASS_ Branch: dpdk-next-net-intel 9845e5848bbe337306fb6ae2a6b1ce5e6ab5b714 --> testing pass Upstream job id: Generic-DPDK-Compile-Meson#430081 Test environment and result as below: +------------------------------+--------------------+ | Environment | dpdk_meson_compile | +==============================+====================+ | Ubuntu 20.04 | PASS | +------------------------------+--------------------+ | Red Hat Enterprise Linux 9.5 | PASS | +------------------------------+--------------------+ | Debian GNU/Linux 12 | PASS | +------------------------------+--------------------+ | Fedora Linux 42 | PASS | +------------------------------+--------------------+ | Ubuntu 22.04 | PASS | +------------------------------+--------------------+ | Ubuntu 24.04 | PASS | +------------------------------+--------------------+ | CentOS Stream 9 | PASS | +------------------------------+--------------------+ | CentOS Stream 10 | PASS | +------------------------------+--------------------+ Ubuntu 20.04 Kernel: 5.15 Compiler: aarch64-linux-gnu-gcc gcc (Ubuntu 9.4.0-1ubuntu1~20.04.2) 9.4.0 Red Hat Enterprise Linux 9.5 Kernel: 5.4 Compiler: gcc gcc (GCC) 11.5.0 20240719 (Red Hat 11.5.0-2) Debian GNU/Linux 12 Kernel: 5.4 Compiler: gcc gcc (Debian 12.2.0-14+deb12u1) 12.2.0 Fedora Linux 42 Kernel: 5.4 Compiler: gcc gcc (GCC) 15.2.1 20250808 (Red Hat 15.2.1-1) Ubuntu 22.04 Kernel: 5.4 Compiler: gcc gcc (Ubuntu 11.4.0-1ubuntu1~22.04) 11.4.0 Ubuntu 24.04 Kernel: 5.4 Compiler: gcc gcc (Ubuntu 13.3.0-6ubuntu2~24.04) 13.3.0 CentOS Stream 9 Kernel: 5.4 Compiler: gcc gcc (GCC) 11.5.0 20240719 (Red Hat 11.5.0-11) CentOS Stream 10 Kernel: 5.4 Compiler: gcc gcc (GCC) 14.2.1 20250110 (Red Hat 14.2.1-8) To view detailed results, visit: https://lab.dpdk.org/results/dashboard/tarballs/35059/ UNH-IOL DPDK Community Lab To manage your email subscriptions, visit: https://lab.dpdk.org/results/dashboard/preferences/subscriptions/