From mboxrd@z Thu Jan 1 00:00:00 1970 Return-Path: Received: from mails.dpdk.org (mails.dpdk.org [217.70.189.124]) by inbox.dpdk.org (Postfix) with ESMTP id 999E14887A for ; Wed, 1 Oct 2025 06:49:30 +0200 (CEST) Received: from mails.dpdk.org (localhost [127.0.0.1]) by mails.dpdk.org (Postfix) with ESMTP id 6D862400EF; Wed, 1 Oct 2025 06:49:30 +0200 (CEST) Received: from mail-pl1-f225.google.com (mail-pl1-f225.google.com [209.85.214.225]) by mails.dpdk.org (Postfix) with ESMTP id 189AC400EF for ; Wed, 1 Oct 2025 06:49:30 +0200 (CEST) Received: by mail-pl1-f225.google.com with SMTP id d9443c01a7336-27ee41e074dso63680175ad.1 for ; Tue, 30 Sep 2025 21:49:29 -0700 (PDT) DKIM-Signature: v=1; a=rsa-sha256; c=relaxed/relaxed; d=iol.unh.edu; s=unh-iol; t=1759294169; x=1759898969; darn=dpdk.org; h=cc:to:from:subject:message-id:date:from:to:cc:subject:date :message-id:reply-to; bh=qyA4QTI4GlVi3hADWl5oTJAZqtkdlE5BKSxrC5jn+Jk=; b=BJkUM1ySOF/71WhF5oktpRCFL7DnD7UPIC8+X47ef+zPpLewHLGol4usyGsmjr2fEw uhrfGAVCPpJgoyNwqifBigF2pPIuRU8aDjF+ojngTjZvDbFJlencIfpA9wKKr8XM2i7c 6MHUbCfZzO3KbiXDHYDEwUAZIzS0KHJLFFmdU= X-Google-DKIM-Signature: v=1; a=rsa-sha256; c=relaxed/relaxed; d=1e100.net; s=20230601; t=1759294169; x=1759898969; h=cc:to:from:subject:message-id:date:x-gm-message-state:from:to:cc :subject:date:message-id:reply-to; bh=qyA4QTI4GlVi3hADWl5oTJAZqtkdlE5BKSxrC5jn+Jk=; b=VsNjaZlY67NxpycCg7/rVHretjobo6k2SXFY2yfTLu9ZMSjs6dem1XGZxKNFbFvXXL bpYqcoK8oSBx7qtSJoWG2Fk95V03Ngpu5xpzrpRAAK3K3+fCxFr1YNGA5A1Si3dAeFlX y0kR43cIE9gdmQexGXV1+bzbgWAXtP97FLcIqLANZAjAIGxSG0HwqXsda47Rtq/PXGlk 98DODdYYV/zeunWSU34grXy3kae0mk4/hlH5pJlHFFRSjw3+cRun+zmM3rY/lc9vZ2He oWwZ3+EwQ0jIDw5dxXYCU1vFjMfHlTq+XthC2JM2ECkmgWUOyN0VRkoe4JBhT2gpqQtY EjnA== X-Gm-Message-State: AOJu0YxNVrcyMMTJbBHc/GPTeAqANipFV10pmwKV80dTEQNOTYcbQdk1 A+qg050uzYbOnj44nEoffPJZWmA4C9q2T+7wnn0JQ3pUvPRBAVKjbLmDrdE2oomNNiKl4CKh3ao BtDCVy378rygx29JxYY4XiLm5D+I5rvLizUxj X-Gm-Gg: ASbGnctJLNoE5h7aieRj3rRAiKVP4nnm8ZNTLovggdciMFgyYF851nmWl21TSwb5MBu 5QjBEgKU1OdpfbLTn+u3HJZsssxLwtm2GFRY+Cs3cLDPp/VebXGye6ZGDfXSKQts0dFEVkpRCno aaQ842IMI70yHYurtvyrPkFkQ5tnoWksZ89kE0XLeGcnXEjNyL4qjC1BfuBwRL1IORPmwJzA1FS CB+S0Jgl7qbB0HRJJEONSAVf8wXv0rpF0lDiUI4yqQUkPNIX34/o6zKS4fwwb9rCC4vJtWT+p4o OirDIEpRDXgxl6/t9UYcL3mWnSVnvtUAA5ocvdc6vseE2Y9Xd8CdgRudtso1Rt4+T5HKnYGPFoA 2mg== X-Google-Smtp-Source: AGHT+IHwFU3c1OO9SwYlVvJyqRXmW2VAuDuuauN5kYCE3SXbL/m98uV/Tdz3DTNfMBEHJVNDs15y17WtojLU X-Received: by 2002:a17:902:ce0f:b0:23f:fa79:15d0 with SMTP id d9443c01a7336-28e7f318628mr25722475ad.46.1759294169191; Tue, 30 Sep 2025 21:49:29 -0700 (PDT) Received: from postal.iol.unh.edu (postal.iol.unh.edu. [132.177.123.84]) by smtp-relay.gmail.com with ESMTPS id d9443c01a7336-27ed67e9d13sm13822785ad.39.2025.09.30.21.49.29 (version=TLS1_2 cipher=ECDHE-ECDSA-AES128-GCM-SHA256 bits=128/128); Tue, 30 Sep 2025 21:49:29 -0700 (PDT) X-Relaying-Domain: iol.unh.edu Date: Tue, 30 Sep 2025 21:49:29 -0700 (PDT) Message-ID: <68dcb2d9.170a0220.dddc2.3c0aSMTPIN_ADDED_MISSING@mx.google.com> Received: from [172.21.0.2] (unknown [172.18.0.240]) by postal.iol.unh.edu (Postfix) with ESMTP id 686CF6050A61; Wed, 1 Oct 2025 00:49:28 -0400 (EDT) Subject: |SUCCESS| [GIT MASTER] b287e404643aeab5bb5db084c142789df187844e From: dpdklab@iol.unh.edu To: Test Report Cc: dpdk-test-reports@iol.unh.edu, Xueming Li , Christian Ehrhardt , Kevin Traynor , Luca Boccassi Content-Type: text/plain X-BeenThere: test-report@dpdk.org X-Mailman-Version: 2.1.29 Precedence: list List-Id: automatic DPDK test reports List-Unsubscribe: , List-Archive: List-Post: List-Help: List-Subscribe: , Errors-To: test-report-bounces@dpdk.org _Testing PASS_ Branch: tags/v24.11 b287e404643aeab5bb5db084c142789df187844e --> testing pass Upstream job id: Generic-VM-DPDK-Compile-Meson#38709 Test environment and result as below: +---------------------+--------------------+-------------------+ | Environment | dpdk_meson_compile | dpdk_msvc_compile | +=====================+====================+===================+ | Ubuntu 20.04 | PASS | SKIPPED | +---------------------+--------------------+-------------------+ | FreeBSD 14.2 | PASS | SKIPPED | +---------------------+--------------------+-------------------+ | Windows Server 2022 | SKIPPED | PASS | +---------------------+--------------------+-------------------+ Ubuntu 20.04 Kernel: 4.19 Compiler: gcc gcc (Ubuntu 9.4.0-1ubuntu1~20.04.2) 9.4.0 FreeBSD 14.2 Kernel: 14.2-RELEASE Compiler: clang 18.1.6 Windows Server 2022 Kernel: 10.0.20348.2031 Compiler: clang 15.0.7, gcc 14.1.0 (MinGW), and MSVC VS 19.39.33521 To view detailed results, visit: https://lab.dpdk.org/results/dashboard/tarballs/35069/ UNH-IOL DPDK Community Lab To manage your email subscriptions, visit: https://lab.dpdk.org/results/dashboard/preferences/subscriptions/