From mboxrd@z Thu Jan 1 00:00:00 1970 Return-Path: Received: from mails.dpdk.org (mails.dpdk.org [217.70.189.124]) by inbox.dpdk.org (Postfix) with ESMTP id E07364887A for ; Wed, 1 Oct 2025 06:51:57 +0200 (CEST) Received: from mails.dpdk.org (localhost [127.0.0.1]) by mails.dpdk.org (Postfix) with ESMTP id B9C75400EF; Wed, 1 Oct 2025 06:51:57 +0200 (CEST) Received: from mail-il1-f228.google.com (mail-il1-f228.google.com [209.85.166.228]) by mails.dpdk.org (Postfix) with ESMTP id BC166400EF for ; Wed, 1 Oct 2025 06:51:56 +0200 (CEST) Received: by mail-il1-f228.google.com with SMTP id e9e14a558f8ab-42a1145f626so13724445ab.3 for ; Tue, 30 Sep 2025 21:51:56 -0700 (PDT) DKIM-Signature: v=1; a=rsa-sha256; c=relaxed/relaxed; d=iol.unh.edu; s=unh-iol; t=1759294316; x=1759899116; darn=dpdk.org; h=references:in-reply-to:cc:to:from:subject:message-id:date:from:to :cc:subject:date:message-id:reply-to; bh=OVooDptlh3fS+xhN2sQQYY/jVaimQ8mSIeZM6kJjdwA=; b=BclMGm0TR4VSap+YFQqaJ3WMqTUJ9WedmfhFBMUkju0IzpexarlYkqzqFbllB+C/iV +wkp2xodU53haooOC1ben2uzp1HM4CqGUcQ4yntGFFNFGS32Jwl2E6PU7WoH9Kp6lBtH i+mw8Ntj0DDZ0kA9V7HX1KIi+oBN6wojWRoHA= X-Google-DKIM-Signature: v=1; a=rsa-sha256; c=relaxed/relaxed; d=1e100.net; s=20230601; t=1759294316; x=1759899116; h=references:in-reply-to:cc:to:from:subject:message-id:date :x-gm-message-state:from:to:cc:subject:date:message-id:reply-to; bh=OVooDptlh3fS+xhN2sQQYY/jVaimQ8mSIeZM6kJjdwA=; b=ABPUfIeMW1HJxktE1Mtm7x+TsTn1KuDOcgQ9knbNuE2UjQIIG1olb+6sDHCdQzCy35 giSUUdhJkswgpWXWdk/2UN72uH2bXaBqIsdK8KLGJ7J6n9zXy+ps/pjyf9zcamLMs5/b b4Y5T2XvYtLN7F93J3d1pWlqFn8wWg6LuNfW7hMO1JxPecXWDT9b4SQni5r1F2FXJH0n g8HO8/+U7tnoUJzrVNr8wHjzMPa+AMCfa6R7sYQYNfaQacFynEY/H3kCvZLPKKVUxXN8 6lPR9Imz3iXQGawG2fgXvBuJl4xEBNAn/BEitABl/xw9IpcUFnZ2U/rzfpvGNcsmoIFG Ydag== X-Gm-Message-State: AOJu0YxKlaaeVimPzn62EmLaT8yGwLDyP3y+HM4Yj9z/Z2k6NZSJ41si LQ0jwFNJ34K8HrZynKSe74uZLk1XpXPfKwTyZs6UlfN14oMYDCPZJWUK8T+/pMsa7XAVymcT9ls jwmPN0VWhOkEDPDX6CRT0iGZ0rTXNznzxL9pxqHtpvmh0c7hVRUyrpX7YOlGn X-Gm-Gg: ASbGncuHw57HAdV0qMzz//mscKCQKlCwOuQB1WNLPUDTXMI1CycyF0tlGd34TmU1wuy AJhHEIgxSNgGZ+24fdLk1rHCcahh7gtrL+oRSml03E3m2atogDtULAe9HfMrBjQZpI17v8sAwJR GQ/LPu0oN4tZT4eyp2O+vlI8AJOTMkLw5qfwDErvwpqkQgpdACRkrM/TMoZnC48JcY7R6lcdc6K rXUhQ4Ef8/9wtVpYgHe5H7IU/yzJFggssfFpHTytOhF+H3FSjX54JhqpZtDPMFwYUiAGveByfHo cIgCoYzelWPseukDWcwoHcicy++4hSBtKOaacuPVzb/Lz4IuSeg3ZD4= X-Google-Smtp-Source: AGHT+IHcasjVUfPHoPVl8Uw5VJWZVWyl/B9Pbe8qS0kmvfviaG07IH5mh29Fgu6HDal5GvLlhUEng9Q+maYn X-Received: by 2002:a05:6e02:1986:b0:429:254e:2b96 with SMTP id e9e14a558f8ab-42d8161aae1mr37133035ab.13.1759294315917; Tue, 30 Sep 2025 21:51:55 -0700 (PDT) Received: from postal.iol.unh.edu (postal.iol.unh.edu. [2606:4100:3880:1234::84]) by smtp-relay.gmail.com with ESMTPS id 8926c6da1cb9f-5709689a403sm684491173.43.2025.09.30.21.51.55 (version=TLS1_2 cipher=ECDHE-ECDSA-AES128-GCM-SHA256 bits=128/128); Tue, 30 Sep 2025 21:51:55 -0700 (PDT) X-Relaying-Domain: iol.unh.edu Date: Tue, 30 Sep 2025 21:51:55 -0700 (PDT) Message-ID: <68dcb36b.050a0220.4a3dc.9245SMTPIN_ADDED_MISSING@mx.google.com> Received: from [172.21.0.2] (unknown [172.18.0.240]) by postal.iol.unh.edu (Postfix) with ESMTP id 458246050A61; Wed, 1 Oct 2025 00:51:55 -0400 (EDT) Subject: |SUCCESS| pw157114-157133 [PATCH] [v4,20/20] doc: update for txgbe From: dpdklab@iol.unh.edu To: Test Report Cc: dpdk-test-reports@iol.unh.edu, Stephen Hemminger In-Reply-To: <20250930095953.18508-21-zaiyuwang@trustnetic.com> References: <20250930095953.18508-21-zaiyuwang@trustnetic.com> Content-Type: text/plain X-BeenThere: test-report@dpdk.org X-Mailman-Version: 2.1.29 Precedence: list List-Id: automatic DPDK test reports List-Unsubscribe: , List-Archive: List-Post: List-Help: List-Subscribe: , Errors-To: test-report-bounces@dpdk.org Test-Label: iol-compile-arm64-testing Test-Status: SUCCESS http://dpdk.org/patch/157133 _Testing PASS_ Submitter: Zaiyu Wang Date: Tuesday, September 30 2025 09:59:52 DPDK git baseline: Repo:dpdk-next-net Branch: master CommitID:c04bbd131b2c14b3049bf86d3ef367b34e6fdf1e 157114-157133 --> testing pass Upstream job id: Generic-DPDK-Compile-Meson#430059 Test environment and result as below: +------------------------------+--------------------+ | Environment | dpdk_meson_compile | +==============================+====================+ | Ubuntu 20.04 | PASS | +------------------------------+--------------------+ | Red Hat Enterprise Linux 9.5 | PASS | +------------------------------+--------------------+ | Debian GNU/Linux 12 | PASS | +------------------------------+--------------------+ | Fedora Linux 42 | PASS | +------------------------------+--------------------+ | Ubuntu 22.04 | PASS | +------------------------------+--------------------+ | Ubuntu 24.04 | PASS | +------------------------------+--------------------+ | CentOS Stream 9 | PASS | +------------------------------+--------------------+ | CentOS Stream 10 | PASS | +------------------------------+--------------------+ Ubuntu 20.04 Kernel: 5.15 Compiler: aarch64-linux-gnu-gcc gcc (Ubuntu 9.4.0-1ubuntu1~20.04.2) 9.4.0 Red Hat Enterprise Linux 9.5 Kernel: 5.4 Compiler: gcc gcc (GCC) 11.5.0 20240719 (Red Hat 11.5.0-2) Debian GNU/Linux 12 Kernel: 5.4 Compiler: gcc gcc (Debian 12.2.0-14+deb12u1) 12.2.0 Fedora Linux 42 Kernel: 5.4 Compiler: gcc gcc (GCC) 15.2.1 20250808 (Red Hat 15.2.1-1) Ubuntu 22.04 Kernel: 5.4 Compiler: gcc gcc (Ubuntu 11.4.0-1ubuntu1~22.04) 11.4.0 Ubuntu 24.04 Kernel: 5.4 Compiler: gcc gcc (Ubuntu 13.3.0-6ubuntu2~24.04) 13.3.0 CentOS Stream 9 Kernel: 5.4 Compiler: gcc gcc (GCC) 11.5.0 20240719 (Red Hat 11.5.0-11) CentOS Stream 10 Kernel: 5.4 Compiler: gcc gcc (GCC) 14.2.1 20250110 (Red Hat 14.2.1-8) To view detailed results, visit: https://lab.dpdk.org/results/dashboard/patchsets/34180/ UNH-IOL DPDK Community Lab To manage your email subscriptions, visit: https://lab.dpdk.org/results/dashboard/preferences/subscriptions/