From mboxrd@z Thu Jan 1 00:00:00 1970 Return-Path: Received: from mails.dpdk.org (mails.dpdk.org [217.70.189.124]) by inbox.dpdk.org (Postfix) with ESMTP id 604DD4887A for ; Wed, 1 Oct 2025 06:56:51 +0200 (CEST) Received: from mails.dpdk.org (localhost [127.0.0.1]) by mails.dpdk.org (Postfix) with ESMTP id 4AB1C400EF; Wed, 1 Oct 2025 06:56:51 +0200 (CEST) Received: from mail-il1-f228.google.com (mail-il1-f228.google.com [209.85.166.228]) by mails.dpdk.org (Postfix) with ESMTP id D6E1D400EF for ; Wed, 1 Oct 2025 06:56:49 +0200 (CEST) Received: by mail-il1-f228.google.com with SMTP id e9e14a558f8ab-4256f0fac67so64371255ab.2 for ; Tue, 30 Sep 2025 21:56:49 -0700 (PDT) DKIM-Signature: v=1; a=rsa-sha256; c=relaxed/relaxed; d=iol.unh.edu; s=unh-iol; t=1759294609; x=1759899409; darn=dpdk.org; h=cc:to:from:subject:message-id:date:from:to:cc:subject:date :message-id:reply-to; bh=nMfEcku/5xGbxGFmIjIHe8FKNMDeOZVZmbLDawSNH1Y=; b=Byw86Tib2CB4Axu0amRnHLKpBgQ8C0Nx4JMp/gf1GOS2kaAImfkr8hdoI6UnfagzIC FDahq2PUeiPF1DRyLUatIPF6yvZ0Z8x8aWp7SVodGfQz4zJYnY7x3GczZZKl1I1zU9QL vfc6YkZmmwjwlnsQI7iaNbW00KHJJ8wX7MNPM= X-Google-DKIM-Signature: v=1; a=rsa-sha256; c=relaxed/relaxed; d=1e100.net; s=20230601; t=1759294609; x=1759899409; h=cc:to:from:subject:message-id:date:x-gm-message-state:from:to:cc :subject:date:message-id:reply-to; bh=nMfEcku/5xGbxGFmIjIHe8FKNMDeOZVZmbLDawSNH1Y=; b=BOPDbutKhYe6so6DH2K6pSxfx+8vfZ6rR+w5R0DVzEVbBlJKe74i8nDjDfi3g1kOqe Z2HUuFMzJnjxZvii3bA+MknAo78VpHE97cXMrKSLPf5IuQ6bPMQ8P3ewPFD+Wxsi8mPA yuYQD1ylKx5xU0VbJIXOsz8/TJD69wLzHcWDaL8dQGhpFWgc21LGnWPmsoFMqDpVFBA+ dK0T5rWJgmL7JhDgZmuxirYqeCFJsYkaRJ7Cok9gAMZQsXZmaDTB4ec1/m5PxMW8UcGS HgHiTmvLnMbskZMbg8UtgWL2otspUk7hyL8kAq8fcXOO/TAskDM5PZnOF0X16hhjL3Rw JfHA== X-Gm-Message-State: AOJu0YwsNF+cFxcZoJFWYSVyoYVpeNeRLOgC9tYDg5dsOeu7GJPCe56i 2b0mIBtPout5eSLrDUlKV/RM8VTUmX8i3o1bLO0yYFM6LFOkmpclLS+RETV1dSVNIkpzGTBiymT O+FDhthVTaJBQnY/qQkuL4EXCUEiJ7nSPg3NS6QJhtQOs/FdEJkg0 X-Gm-Gg: ASbGncvc16BBvI1IrvZ9OjGeiMaJtV3qkhQUlsKqudZAYzav9VpqShUz9DnRuEHQGWf Y8TWMwayNJcZILQ3E/mIcFTSGVHTRd5zIzaJiu1MVLpgax2N9eS04WL7H9sqab/Etes5mQBO+nv VW4wW0mZuTEsU1u26ST2suriMG0tSky4PBGZE54TKdl823GNWRmZAuVCqq5lPSPfC0rQjNxU65f 7Yzq3Wz2fIAnzziBTqTiNd/SsJGMHsskKEblglbt/N7LYR0tkGRp+gloaa8v/WWr+hsrPOShbLF 2DofNVGzp4/mhhAV6FqyKwL+Uwx05U5fRGI76porBTVdlV0f4QSoDmc= X-Google-Smtp-Source: AGHT+IHBiMeMyJDHHIuipeyNA757EL/2gcxJS/X+L8LT4Ue3jhGkMOkgfX7wkxyVtEj1j+6tkoi7lFxxvemz X-Received: by 2002:a05:6e02:440b:20b0:42d:8268:5016 with SMTP id e9e14a558f8ab-42d826850e1mr16393375ab.30.1759294609136; Tue, 30 Sep 2025 21:56:49 -0700 (PDT) Received: from postal.iol.unh.edu (postal.iol.unh.edu. [2606:4100:3880:1234::84]) by smtp-relay.gmail.com with ESMTPS id e9e14a558f8ab-42d85983cadsm267745ab.16.2025.09.30.21.56.49 (version=TLS1_2 cipher=ECDHE-ECDSA-AES128-GCM-SHA256 bits=128/128); Tue, 30 Sep 2025 21:56:49 -0700 (PDT) X-Relaying-Domain: iol.unh.edu Date: Tue, 30 Sep 2025 21:56:49 -0700 (PDT) Message-ID: <68dcb491.050a0220.2b413b.19b2SMTPIN_ADDED_MISSING@mx.google.com> Received: from [172.21.0.2] (unknown [172.18.0.240]) by postal.iol.unh.edu (Postfix) with ESMTP id A5C836050A61; Wed, 1 Oct 2025 00:56:48 -0400 (EDT) Subject: |SUCCESS| [GIT MASTER] 3b43ce3f4a54468e7ef65760c2fd7b4d6ee6d9fc From: dpdklab@iol.unh.edu To: Test Report Cc: dpdk-test-reports@iol.unh.edu, Xueming Li , Christian Ehrhardt , Kevin Traynor , Luca Boccassi Content-Type: text/plain X-BeenThere: test-report@dpdk.org X-Mailman-Version: 2.1.29 Precedence: list List-Id: automatic DPDK test reports List-Unsubscribe: , List-Archive: List-Post: List-Help: List-Subscribe: , Errors-To: test-report-bounces@dpdk.org _Testing PASS_ Branch: tags/v22.11 3b43ce3f4a54468e7ef65760c2fd7b4d6ee6d9fc --> testing pass Upstream job id: Windows-Compile-DPDK-Native#31341 Test environment and result as below: +---------------------+--------------------+-------------------------+ | Environment | dpdk_meson_compile | dpdk_llvm_clang_compile | +=====================+====================+=========================+ | Ubuntu 20.04 | PASS | SKIPPED | +---------------------+--------------------+-------------------------+ | FreeBSD 14.2 | PASS | SKIPPED | +---------------------+--------------------+-------------------------+ | Windows Server 2022 | SKIPPED | PASS | +---------------------+--------------------+-------------------------+ Ubuntu 20.04 Kernel: 4.19 Compiler: gcc gcc (Ubuntu 9.4.0-1ubuntu1~20.04.2) 9.4.0 FreeBSD 14.2 Kernel: 14.2-RELEASE Compiler: clang 18.1.6 Windows Server 2022 Kernel: 10.0.20348.2031 Compiler: clang 15.0.7, gcc 14.1.0 (MinGW), and MSVC VS 19.39.33521 To view detailed results, visit: https://lab.dpdk.org/results/dashboard/tarballs/35067/ UNH-IOL DPDK Community Lab To manage your email subscriptions, visit: https://lab.dpdk.org/results/dashboard/preferences/subscriptions/