From mboxrd@z Thu Jan 1 00:00:00 1970 Return-Path: Received: from mails.dpdk.org (mails.dpdk.org [217.70.189.124]) by inbox.dpdk.org (Postfix) with ESMTP id 87F1B4887A for ; Wed, 1 Oct 2025 07:06:47 +0200 (CEST) Received: from mails.dpdk.org (localhost [127.0.0.1]) by mails.dpdk.org (Postfix) with ESMTP id 7CCA7400EF; Wed, 1 Oct 2025 07:06:47 +0200 (CEST) Received: from mail-pj1-f98.google.com (mail-pj1-f98.google.com [209.85.216.98]) by mails.dpdk.org (Postfix) with ESMTP id 39FA9400EF for ; Wed, 1 Oct 2025 07:06:46 +0200 (CEST) Received: by mail-pj1-f98.google.com with SMTP id 98e67ed59e1d1-3369dcfef12so5077049a91.2 for ; Tue, 30 Sep 2025 22:06:46 -0700 (PDT) DKIM-Signature: v=1; a=rsa-sha256; c=relaxed/relaxed; d=iol.unh.edu; s=unh-iol; t=1759295205; x=1759900005; darn=dpdk.org; h=cc:to:from:subject:message-id:date:from:to:cc:subject:date :message-id:reply-to; bh=E1fffimNF0shDYozYXmaDNz+mNl5eU/6nBlnBiP2Xfw=; b=GquF0Jk8HelTTQgP8fAMiMxAmEEhVeKzZL2Y7I11fu1KK/rf3DtSKEl6JI0lISyEQU 5YBtABoQcgfWXva+zJxcIeqJpU04ApbhTzg6kKPQ20t1FLh6FJ8Khx7DJc1exAebaEaD 33annuauCTk/3Bhqam9z1vGRfO7R1YhUrV05E= X-Google-DKIM-Signature: v=1; a=rsa-sha256; c=relaxed/relaxed; d=1e100.net; s=20230601; t=1759295205; x=1759900005; h=cc:to:from:subject:message-id:date:x-gm-message-state:from:to:cc :subject:date:message-id:reply-to; bh=E1fffimNF0shDYozYXmaDNz+mNl5eU/6nBlnBiP2Xfw=; b=W+UHUd4fFoebDWlzE6mt7vuI/Vn9t8Pbg5yXBmK9TP+z4Xa1uUOy6zvmsG8ybxZWUn KWQCpPZAs3BS+zeIR50y4Z1v3kii44XbqG6TGH4a7EKeW5d5ex3mLwg/L+87TtRfift+ h2BC6PzSn4h2ws7Xs6QZkQV3qnsF/w2SpFT1AGpx819y1C4mG53h9FiZb0h/P6z35huP O/qeLwLdwrkfA0Jc8P15KH5darS5yQa2Iq7k1FuNecb0OyuEb3DX/JFcKhJiBb998mK8 yjAL9kUx5wrGaek4EhQulU1ej0tneUHWRLgDeotlNqogR5JAQ8GXT8e6KpiWnAtCQSRp TSdA== X-Gm-Message-State: AOJu0YxaKn5Jws8ecn6RMAgK48t9DOAu6bsY3RPEAwfu6r9npfA8NX4m l1hsgbAi+5edneawM1pQvE8Bx4LGW1aI/gcag+k43ldb13dclRN7Qn9voF5nin3ATVVvk+eymQw hwKQajLWoeXfNOxonRTMlifMpNN3R8g5kMg9R X-Gm-Gg: ASbGncvwxmefBTxR3WihHxvgX7JG5ZJSGEU+idECMDPzxV34t6KWlVja98pe6X8o7Kj YC5U9cgZMD1FplHBteN1dBknbGZjwzZE3U3n7HWdtQgPiihBoI2HIQNkd7GoKvYf4/ga+McMKOO d0rrHziigCC2S1pUJOXJBgmXsBWZ017ciVySImXu+FYZqWwAXi0Zvb45pDFly10e83kk8Frb7zj 4o3lLDy6WA7ZnbAVSv6bJW1QqMWgApnlpf8XW2GQKet7PAxYqg2igEMjzloHpi5awVrCgYgPMe5 W8tRzZkGJ9VkjA02LN32+ASbD2H+g6dOcP52J5vNp70fWqdckm3GFs+aTJIPkhPC98AAfTkQUG9 m2A== X-Google-Smtp-Source: AGHT+IHIX4J5ZiIBetjJlMcI9LFmb1CTlqyw89n/yycaSs46R0PpClUxmfPnrDqOp7focakBmWUWaCer915D X-Received: by 2002:a17:90b:3845:b0:32b:9506:1780 with SMTP id 98e67ed59e1d1-339a6e91e6bmr2126385a91.9.1759295204150; Tue, 30 Sep 2025 22:06:44 -0700 (PDT) Received: from postal.iol.unh.edu (postal.iol.unh.edu. [132.177.123.84]) by smtp-relay.gmail.com with ESMTPS id 98e67ed59e1d1-339a6f4b861sm137250a91.3.2025.09.30.22.06.44 (version=TLS1_2 cipher=ECDHE-ECDSA-AES128-GCM-SHA256 bits=128/128); Tue, 30 Sep 2025 22:06:44 -0700 (PDT) X-Relaying-Domain: iol.unh.edu Date: Tue, 30 Sep 2025 22:06:44 -0700 (PDT) Message-ID: <68dcb6e4.170a0220.3ce26.8330SMTPIN_ADDED_MISSING@mx.google.com> Received: from [172.21.0.2] (unknown [172.18.0.240]) by postal.iol.unh.edu (Postfix) with ESMTP id 628586051830; Wed, 1 Oct 2025 01:06:43 -0400 (EDT) Subject: |SUCCESS| [GIT MASTER] 3b43ce3f4a54468e7ef65760c2fd7b4d6ee6d9fc From: dpdklab@iol.unh.edu To: Test Report Cc: dpdk-test-reports@iol.unh.edu, Xueming Li , Christian Ehrhardt , Kevin Traynor , Luca Boccassi Content-Type: text/plain X-BeenThere: test-report@dpdk.org X-Mailman-Version: 2.1.29 Precedence: list List-Id: automatic DPDK test reports List-Unsubscribe: , List-Archive: List-Post: List-Help: List-Subscribe: , Errors-To: test-report-bounces@dpdk.org _Testing PASS_ Branch: tags/v22.11 3b43ce3f4a54468e7ef65760c2fd7b4d6ee6d9fc --> testing pass Upstream job id: Windows-Compile-DPDK-Native#31342 Test environment and result as below: +---------------------+--------------------+-------------------------+----------------------+ | Environment | dpdk_meson_compile | dpdk_llvm_clang_compile | dpdk_mingw64_compile | +=====================+====================+=========================+======================+ | Ubuntu 20.04 | PASS | SKIPPED | SKIPPED | +---------------------+--------------------+-------------------------+----------------------+ | FreeBSD 14.2 | PASS | SKIPPED | SKIPPED | +---------------------+--------------------+-------------------------+----------------------+ | Windows Server 2022 | SKIPPED | PASS | PASS | +---------------------+--------------------+-------------------------+----------------------+ Ubuntu 20.04 Kernel: 4.19 Compiler: gcc gcc (Ubuntu 9.4.0-1ubuntu1~20.04.2) 9.4.0 FreeBSD 14.2 Kernel: 14.2-RELEASE Compiler: clang 18.1.6 Windows Server 2022 Kernel: 10.0.20348.2031 Compiler: clang 15.0.7, gcc 14.1.0 (MinGW), and MSVC VS 19.39.33521 To view detailed results, visit: https://lab.dpdk.org/results/dashboard/tarballs/35067/ UNH-IOL DPDK Community Lab To manage your email subscriptions, visit: https://lab.dpdk.org/results/dashboard/preferences/subscriptions/