From mboxrd@z Thu Jan 1 00:00:00 1970 Return-Path: Received: from mails.dpdk.org (mails.dpdk.org [217.70.189.124]) by inbox.dpdk.org (Postfix) with ESMTP id E38694887A for ; Wed, 1 Oct 2025 07:16:37 +0200 (CEST) Received: from mails.dpdk.org (localhost [127.0.0.1]) by mails.dpdk.org (Postfix) with ESMTP id D9817400EF; Wed, 1 Oct 2025 07:16:37 +0200 (CEST) Received: from mail-yx1-f100.google.com (mail-yx1-f100.google.com [74.125.224.100]) by mails.dpdk.org (Postfix) with ESMTP id 6E88F400EF for ; Wed, 1 Oct 2025 07:16:37 +0200 (CEST) Received: by mail-yx1-f100.google.com with SMTP id 956f58d0204a3-638d01a8719so3801211d50.2 for ; Tue, 30 Sep 2025 22:16:37 -0700 (PDT) DKIM-Signature: v=1; a=rsa-sha256; c=relaxed/relaxed; d=iol.unh.edu; s=unh-iol; t=1759295796; x=1759900596; darn=dpdk.org; h=cc:to:from:subject:message-id:date:from:to:cc:subject:date :message-id:reply-to; bh=7+2gdo1Udir5VD8os39VVZcbJ4RUxc0Eil5r5Wnvjcw=; b=L0PcW5tZDMOtNsDnUzidNhuo9mODtP6WqLTBHJ9JjKZj1eC22duW8tWQ6GfVT+cW5K 1HzBtkyLbXFIu9OO78lOTxudVw0B8bHTVHSKgpP9N8Oy06ikILB8vvZrnn1wS1YIWpO2 qJLYRQ//U+CnqipqknnNE5LArK/s2qA62kFgI= X-Google-DKIM-Signature: v=1; a=rsa-sha256; c=relaxed/relaxed; d=1e100.net; s=20230601; t=1759295796; x=1759900596; h=cc:to:from:subject:message-id:date:x-gm-message-state:from:to:cc :subject:date:message-id:reply-to; bh=7+2gdo1Udir5VD8os39VVZcbJ4RUxc0Eil5r5Wnvjcw=; b=s+kaerZ+I86tnJ+qVuat2/Egui1qXRfTpSnT1pVC9K9wt0zprycipr61jOJHADCslY Sfhi/v174eUOFUJWZpoEr7SfhSNlJhXe03N5chZziNS+dQ/CeTsXoI8xlQNDw3raFKMY IL/BVsL7x+MNb6BxHGH2esxNea/9nS5FJivIeReXJ7k03TQf2lupDzR2kjlCoXTvQqwR sQBucAOkLlqwvV+1xv9EwNXyIp73UOtrXJsJRwy44gJ0tuJSkb76L/vFpFDogXshICJN ByT9vHnQ/0C/EJPAc++4BPjsRWZQ9LhR1UcPGVbSF2OEPz37JW7KFQV1K3SXhKRtuwhp drJg== X-Gm-Message-State: AOJu0YxAk5XuPa8dipomuGJ1+XCnOyQuVFHV8HxZEgbnaNmwDtY59QJk X7vMnD3WKAMtkEl5zyAVZ8qhwvNYA9MrV9uqKneZeVnkf4nKOxNkgdgSXsp2RAfwjejz223J2lm VA/vHGUyc74Bq7nvmb6p6e3pMluUqXR/ukdvm X-Gm-Gg: ASbGnct87J7xj8dX0QP6dM9ouV09dEvWBtfriUJxj0RPTsz4CK6lsrzrYLY8h4hBXMZ fD92GSXGsZLVvRm1BYW8mWh1IdncEFrUV0dwbgXL+N9tKQfkpCDOns+b7XkKilgsuDvV1G/edCp YCwZvg3TXEpnGaJFzN28bcGDuJMXZJBU9/iCfxICrRBAuDSTko4DBMAqdi0Pd7OYLL/9/9ow0Q2 3HPwXvHyQRqA4yBdMKNkUHNgI8hroPB1qEk9izrtKEaWm0acpf/4NROIxw8SBMG1r2cnp/ydMqv JFCodFZfdw/wzY0o8QkbYjryZO9tdJW8PrwhWV/qGgUmviGKaLnsz8fTUifcvY8eqg9ar76sWVC 5fQ== X-Google-Smtp-Source: AGHT+IFotAZSG+S8UcIbJLamKUZIFmoxMsO94eXNAWxDqWKnuXmmEq9pU3/Y16TE0u4rxplQdz3voWU12CRe X-Received: by 2002:a53:b712:0:b0:638:24c9:bf49 with SMTP id 956f58d0204a3-63b6ff22202mr2360312d50.34.1759295796211; Tue, 30 Sep 2025 22:16:36 -0700 (PDT) Received: from postal.iol.unh.edu (postal.iol.unh.edu. [132.177.123.84]) by smtp-relay.gmail.com with ESMTPS id 00721157ae682-765d9d1b4a0sm7728067b3.35.2025.09.30.22.16.36 (version=TLS1_2 cipher=ECDHE-ECDSA-AES128-GCM-SHA256 bits=128/128); Tue, 30 Sep 2025 22:16:36 -0700 (PDT) X-Relaying-Domain: iol.unh.edu Date: Tue, 30 Sep 2025 22:16:36 -0700 (PDT) Message-ID: <68dcb934.050a0220.28bc9d.e357SMTPIN_ADDED_MISSING@mx.google.com> Received: from [172.21.0.2] (unknown [172.18.0.240]) by postal.iol.unh.edu (Postfix) with ESMTP id DACEA6051830; Wed, 1 Oct 2025 01:16:35 -0400 (EDT) Subject: |SUCCESS| [GIT MASTER] b287e404643aeab5bb5db084c142789df187844e From: dpdklab@iol.unh.edu To: Test Report Cc: dpdk-test-reports@iol.unh.edu, Xueming Li , Christian Ehrhardt , Kevin Traynor , Luca Boccassi Content-Type: text/plain X-BeenThere: test-report@dpdk.org X-Mailman-Version: 2.1.29 Precedence: list List-Id: automatic DPDK test reports List-Unsubscribe: , List-Archive: List-Post: List-Help: List-Subscribe: , Errors-To: test-report-bounces@dpdk.org _Testing PASS_ Branch: tags/v24.11 b287e404643aeab5bb5db084c142789df187844e --> testing pass Upstream job id: Windows-Compile-DPDK-Native#31343 Test environment and result as below: +---------------------+--------------------+-------------------+-------------------------+ | Environment | dpdk_meson_compile | dpdk_msvc_compile | dpdk_llvm_clang_compile | +=====================+====================+===================+=========================+ | Ubuntu 20.04 | PASS | SKIPPED | SKIPPED | +---------------------+--------------------+-------------------+-------------------------+ | FreeBSD 14.2 | PASS | SKIPPED | SKIPPED | +---------------------+--------------------+-------------------+-------------------------+ | Windows Server 2022 | SKIPPED | PASS | PASS | +---------------------+--------------------+-------------------+-------------------------+ Ubuntu 20.04 Kernel: 4.19 Compiler: gcc gcc (Ubuntu 9.4.0-1ubuntu1~20.04.2) 9.4.0 FreeBSD 14.2 Kernel: 14.2-RELEASE Compiler: clang 18.1.6 Windows Server 2022 Kernel: 10.0.20348.2031 Compiler: clang 15.0.7, gcc 14.1.0 (MinGW), and MSVC VS 19.39.33521 To view detailed results, visit: https://lab.dpdk.org/results/dashboard/tarballs/35069/ UNH-IOL DPDK Community Lab To manage your email subscriptions, visit: https://lab.dpdk.org/results/dashboard/preferences/subscriptions/