From mboxrd@z Thu Jan 1 00:00:00 1970 Return-Path: Received: from mails.dpdk.org (mails.dpdk.org [217.70.189.124]) by inbox.dpdk.org (Postfix) with ESMTP id 3E6CF4887A for ; Wed, 1 Oct 2025 07:26:18 +0200 (CEST) Received: from mails.dpdk.org (localhost [127.0.0.1]) by mails.dpdk.org (Postfix) with ESMTP id 39AE1400EF; Wed, 1 Oct 2025 07:26:18 +0200 (CEST) Received: from mail-pg1-f225.google.com (mail-pg1-f225.google.com [209.85.215.225]) by mails.dpdk.org (Postfix) with ESMTP id 0D3D9400EF for ; Wed, 1 Oct 2025 07:26:17 +0200 (CEST) Received: by mail-pg1-f225.google.com with SMTP id 41be03b00d2f7-b57d93ae3b0so3480399a12.1 for ; Tue, 30 Sep 2025 22:26:16 -0700 (PDT) DKIM-Signature: v=1; a=rsa-sha256; c=relaxed/relaxed; d=iol.unh.edu; s=unh-iol; t=1759296376; x=1759901176; darn=dpdk.org; h=cc:to:from:subject:message-id:date:from:to:cc:subject:date :message-id:reply-to; bh=WWlVulBckSSWRPfP1qcfBJAJpN6/chczi43Cnue+wL8=; b=XDPWK0TKHBkcABH4MJyr5q+nnggMPB4d7rXH7Y9EiNrqk9A0OVywluX2RSQodTvROP r9ylUei1CXve4wVljDabMgE36Vt+wywklyZocyWIOYiEKSFBh5X10YzII/oWhASnebnZ o3MN7IXYkmNAYeIROee5B7AtQxUC6iG7AFq7U= X-Google-DKIM-Signature: v=1; a=rsa-sha256; c=relaxed/relaxed; d=1e100.net; s=20230601; t=1759296376; x=1759901176; h=cc:to:from:subject:message-id:date:x-gm-message-state:from:to:cc :subject:date:message-id:reply-to; bh=WWlVulBckSSWRPfP1qcfBJAJpN6/chczi43Cnue+wL8=; b=ImMBTMiBDkstx4QX/LPEBjfLnNkWbmSYh2Ln5r4tz1yGSbU4iLMeMZazjGTFFCps3I eNNLywoVpP+hsx1A+4kW/iAkF2PgVL2PqT2KKJdlWInOixGk/ZvPauXHTxX12l+iivJA BE0jBDzSXSGkrO/gWShUm5DiWQdfRT3VFqS0j9X4HIf3lxubRjk3MPZn7bZIk+bum4Pg 01eUvOOs6k2g3p6kHiRucAZ1I4rB0/W/SBcTOzZOhGHzTvxfXH11k1pDGdSh1HXqGGT7 FgGSOujavTp8FZ79o1fg7+hN8Ttn17NlGWRIAbUF0oh55OEYmZ/egH9pSkaEXXLyNKjl tNQw== X-Gm-Message-State: AOJu0Yw9GhdukKobxxqqpQyeDl0EcWN9msMJb1h+14qnBW4S1KDzeeZt DZx8LIsPJXIvlcYFPyrj4QmR4U9ThshxrLpn8sFN71/ow6LgPaeCxWjj1YtF7EeOjHM7EkypChr P9hQyRIVIaf/pd/cVUdEHasCZ1UmuuVn210cc X-Gm-Gg: ASbGnct52VbWTxBbD28y+ARM+GU1nYmg/3Yvh0fm+GxAQr5MAAYIbtQjrrpPYOP3oDH QgR4FHKIyD6924pTLhca6dx9+D6/YiNVI5o+KvdktmPRm9Trk7o7PeXqxPOO9VPCdEvNZI/HRdg rSyWgKCW5djnoJzB5zVfCN/RdJ5qM/YttcaqvaZ/v0JXpSU+rUt8/DOlh2mQHXpmg+ETPUArCbo LyveyHEHCrCM1tMtYXo0lPyiqtUn7sQ9YpnKzJ6lNreLYg6h57oIaSQk8izjiaMg/Ht3tDFAuSO vm7L/nSkWm8gx6Cy/xwrzcB8MthnXufI4zNV2stGGjESbylgUmXT0LZtN0fisRqNfTiJ4kTtjVc UKQ== X-Google-Smtp-Source: AGHT+IGk2VLJ5wWpUzvxpoV2S8kbMmKNuIxE/IrxL5ecdHK3R09e8REq0GqaOHnrW4DbwfDTNYkAmdOx3y/L X-Received: by 2002:a17:903:1b2c:b0:28c:2db3:b9ab with SMTP id d9443c01a7336-28e7f2a62bbmr27567575ad.26.1759296376316; Tue, 30 Sep 2025 22:26:16 -0700 (PDT) Received: from postal.iol.unh.edu (postal.iol.unh.edu. [132.177.123.84]) by smtp-relay.gmail.com with ESMTPS id d9443c01a7336-27ed6700305sm13953995ad.33.2025.09.30.22.26.16 (version=TLS1_2 cipher=ECDHE-ECDSA-AES128-GCM-SHA256 bits=128/128); Tue, 30 Sep 2025 22:26:16 -0700 (PDT) X-Relaying-Domain: iol.unh.edu Date: Tue, 30 Sep 2025 22:26:16 -0700 (PDT) Message-ID: <68dcbb78.170a0220.2ed7d.36fbSMTPIN_ADDED_MISSING@mx.google.com> Received: from [172.21.0.2] (unknown [172.18.0.240]) by postal.iol.unh.edu (Postfix) with ESMTP id C63156051830; Wed, 1 Oct 2025 01:26:15 -0400 (EDT) Subject: |SUCCESS| [GIT MASTER] b287e404643aeab5bb5db084c142789df187844e From: dpdklab@iol.unh.edu To: Test Report Cc: dpdk-test-reports@iol.unh.edu, Xueming Li , Christian Ehrhardt , Kevin Traynor , Luca Boccassi Content-Type: text/plain X-BeenThere: test-report@dpdk.org X-Mailman-Version: 2.1.29 Precedence: list List-Id: automatic DPDK test reports List-Unsubscribe: , List-Archive: List-Post: List-Help: List-Subscribe: , Errors-To: test-report-bounces@dpdk.org _Testing PASS_ Branch: tags/v24.11 b287e404643aeab5bb5db084c142789df187844e --> testing pass Upstream job id: Windows-Compile-DPDK-Native#31344 Test environment and result as below: +---------------------+--------------------+-------------------+-------------------------+----------------------+ | Environment | dpdk_meson_compile | dpdk_msvc_compile | dpdk_llvm_clang_compile | dpdk_mingw64_compile | +=====================+====================+===================+=========================+======================+ | Ubuntu 20.04 | PASS | SKIPPED | SKIPPED | SKIPPED | +---------------------+--------------------+-------------------+-------------------------+----------------------+ | FreeBSD 14.2 | PASS | SKIPPED | SKIPPED | SKIPPED | +---------------------+--------------------+-------------------+-------------------------+----------------------+ | Windows Server 2022 | SKIPPED | PASS | PASS | PASS | +---------------------+--------------------+-------------------+-------------------------+----------------------+ Ubuntu 20.04 Kernel: 4.19 Compiler: gcc gcc (Ubuntu 9.4.0-1ubuntu1~20.04.2) 9.4.0 FreeBSD 14.2 Kernel: 14.2-RELEASE Compiler: clang 18.1.6 Windows Server 2022 Kernel: 10.0.20348.2031 Compiler: clang 15.0.7, gcc 14.1.0 (MinGW), and MSVC VS 19.39.33521 To view detailed results, visit: https://lab.dpdk.org/results/dashboard/tarballs/35069/ UNH-IOL DPDK Community Lab To manage your email subscriptions, visit: https://lab.dpdk.org/results/dashboard/preferences/subscriptions/