From mboxrd@z Thu Jan 1 00:00:00 1970 Return-Path: Received: from mails.dpdk.org (mails.dpdk.org [217.70.189.124]) by inbox.dpdk.org (Postfix) with ESMTP id 8A1944887A for ; Wed, 1 Oct 2025 07:39:59 +0200 (CEST) Received: from mails.dpdk.org (localhost [127.0.0.1]) by mails.dpdk.org (Postfix) with ESMTP id 8314D400EF; Wed, 1 Oct 2025 07:39:59 +0200 (CEST) Received: from mail-il1-f226.google.com (mail-il1-f226.google.com [209.85.166.226]) by mails.dpdk.org (Postfix) with ESMTP id 4B399400EF for ; Wed, 1 Oct 2025 07:39:58 +0200 (CEST) Received: by mail-il1-f226.google.com with SMTP id e9e14a558f8ab-42861442ec5so40083455ab.0 for ; Tue, 30 Sep 2025 22:39:58 -0700 (PDT) DKIM-Signature: v=1; a=rsa-sha256; c=relaxed/relaxed; d=iol.unh.edu; s=unh-iol; t=1759297197; x=1759901997; darn=dpdk.org; h=references:in-reply-to:cc:to:from:subject:message-id:date:from:to :cc:subject:date:message-id:reply-to; bh=nKc6owiff41j9kk2onu4GvMoVOWCvwu/ryIeWNifmV4=; b=GfKNml+cMTuHja/1GAsrnAXfMLxblX5n2+oBFTDsK2xtvm23Jb9VBuvciBCX+UUmOn LhyE05Kv9RLLqJaiTC84D9sHSAVRVV5lLMZZ7izIwhWXJY2CjB5dj7H18PUxQF/WYTcD T3B5BYYixVP02t8l8anlFaW7TzZZOmTO5ynBM= X-Google-DKIM-Signature: v=1; a=rsa-sha256; c=relaxed/relaxed; d=1e100.net; s=20230601; t=1759297197; x=1759901997; h=references:in-reply-to:cc:to:from:subject:message-id:date :x-gm-message-state:from:to:cc:subject:date:message-id:reply-to; bh=nKc6owiff41j9kk2onu4GvMoVOWCvwu/ryIeWNifmV4=; b=pxRMh9QUmu6ecXEXID1ipMAvVQhgiwuahisPBSDdO8+R4aAaAnP8xwpuX31BKsQfsP CdubDuNKPBk5Rwysnhiw+ypzUdZzlE6tCboXY4dsorqWPMHPi8tPhRHu8TKt3BzSWXQm EoVCMBBXYws8/Czm3RCq7VYgftshMLfVeLuYmJwPY/z9EhqLthpwOXORvWr4p9hLzU+7 hpHybQ1Ch7IcOicLq3tnUiLzg3P2DxixcZhbBlC9vxVqPywCGuKZO2XizrhhDZLz2Zuf EqwQp6iBWulIyur5NWM4RP1ifmTiP+oJHC7dnrs+Wh8gEo9bpDFSVVGZd8nbSXKeQLL0 ssgQ== X-Gm-Message-State: AOJu0YySerGzZtVbImm6XlzYmTc1qHnqYcVgAgkqi3jag6C35hBIXmCt lHl3rIboviKWdfSdDrgM9a/3w9sPCd941jm16rEP9t9tE8x0Z1ep8Z9y5IYQFedwmJeW7MIkTBJ bG5ZEFpmMQUkyWJrM3LeiWwFRFmfkxXoGt5XgOkhGFzNPTvnCLSIZxK4ICRev X-Gm-Gg: ASbGnctK5zFoH8SEgX3m+nJvVTqBmnlqm+WB7JUd25KZp3+6FIVV5u8/fK/Hkq31M0S g6cEgyLp7oJFgX8bafqUNPzUNxIwd/1z3UV3PWUboWKhjdzFDsabwoUsPUJKy0Zexs5D59Ni/rV al4MZePmwHPZgm6LzbTCVO4oejZlSxqcPMQs2XEojnpH1vwrimnRXfr22MnvvTgl1R7hvb9XOjD SjDhlhk+D0hyQht/O/7UWltk4DebMq5g6v7hdXt8zLt+FW9Cvh4sMDPX01rMt9oVAIrbPyJOXZ0 ItiQFkgv8T2SCNfq3ESdFgdRkVpsuCy5/IzS0wR1pef+iHQ8sPud0qo= X-Google-Smtp-Source: AGHT+IHBaR3ClaMOYWhNf76as3NfzeL0iqv6PTEIlrT66Yl77MiPbMngSBOzJB0TED5tjtc/uenM/jZ/tVCt X-Received: by 2002:a05:6e02:1aa7:b0:428:f19b:2947 with SMTP id e9e14a558f8ab-42d8159ea64mr41015595ab.6.1759297197547; Tue, 30 Sep 2025 22:39:57 -0700 (PDT) Received: from postal.iol.unh.edu (postal.iol.unh.edu. [2606:4100:3880:1234::84]) by smtp-relay.gmail.com with ESMTPS id 8926c6da1cb9f-56a6b152b08sm1059703173.45.2025.09.30.22.39.57 (version=TLS1_2 cipher=ECDHE-ECDSA-AES128-GCM-SHA256 bits=128/128); Tue, 30 Sep 2025 22:39:57 -0700 (PDT) X-Relaying-Domain: iol.unh.edu Date: Tue, 30 Sep 2025 22:39:57 -0700 (PDT) Message-ID: <68dcbead.050a0220.13f6b1.f5c0SMTPIN_ADDED_MISSING@mx.google.com> Received: from [172.21.0.2] (unknown [172.18.0.240]) by postal.iol.unh.edu (Postfix) with ESMTP id 27B6E6051830; Wed, 1 Oct 2025 01:39:57 -0400 (EDT) Subject: |SUCCESS| pw157134-157137 [PATCH] [v1,4/4] net/ice/base: add support From: dpdklab@iol.unh.edu To: Test Report Cc: dpdk-test-reports@iol.unh.edu, Bruce Richardson In-Reply-To: References: Content-Type: text/plain X-BeenThere: test-report@dpdk.org X-Mailman-Version: 2.1.29 Precedence: list List-Id: automatic DPDK test reports List-Unsubscribe: , List-Archive: List-Post: List-Help: List-Subscribe: , Errors-To: test-report-bounces@dpdk.org Test-Label: iol-compile-arm64-testing Test-Status: SUCCESS http://dpdk.org/patch/157137 _Testing PASS_ Submitter: Burakov, Anatoly Date: Tuesday, September 30 2025 11:21:17 DPDK git baseline: Repo:dpdk-next-net-intel Branch: master CommitID:9845e5848bbe337306fb6ae2a6b1ce5e6ab5b714 157134-157137 --> testing pass Upstream job id: Generic-DPDK-Compile-Meson#430106 Test environment and result as below: +------------------------------+--------------------+ | Environment | dpdk_meson_compile | +==============================+====================+ | Red Hat Enterprise Linux 9.5 | PASS | +------------------------------+--------------------+ | Ubuntu 20.04 | PASS | +------------------------------+--------------------+ | Debian GNU/Linux 12 | PASS | +------------------------------+--------------------+ | Fedora Linux 42 | PASS | +------------------------------+--------------------+ | Ubuntu 22.04 | PASS | +------------------------------+--------------------+ | Ubuntu 24.04 | PASS | +------------------------------+--------------------+ | CentOS Stream 9 | PASS | +------------------------------+--------------------+ | CentOS Stream 10 | PASS | +------------------------------+--------------------+ Red Hat Enterprise Linux 9.5 Kernel: 5.4 Compiler: gcc gcc (GCC) 11.5.0 20240719 (Red Hat 11.5.0-2) Ubuntu 20.04 Kernel: 5.15 Compiler: aarch64-linux-gnu-gcc gcc (Ubuntu 9.4.0-1ubuntu1~20.04.2) 9.4.0 Debian GNU/Linux 12 Kernel: 5.4 Compiler: gcc gcc (Debian 12.2.0-14+deb12u1) 12.2.0 Fedora Linux 42 Kernel: 5.4 Compiler: gcc gcc (GCC) 15.2.1 20250808 (Red Hat 15.2.1-1) Ubuntu 22.04 Kernel: 5.4 Compiler: gcc gcc (Ubuntu 11.4.0-1ubuntu1~22.04) 11.4.0 Ubuntu 24.04 Kernel: 5.4 Compiler: gcc gcc (Ubuntu 13.3.0-6ubuntu2~24.04) 13.3.0 CentOS Stream 9 Kernel: 5.4 Compiler: gcc gcc (GCC) 11.5.0 20240719 (Red Hat 11.5.0-11) CentOS Stream 10 Kernel: 5.4 Compiler: gcc gcc (GCC) 14.2.1 20250110 (Red Hat 14.2.1-8) To view detailed results, visit: https://lab.dpdk.org/results/dashboard/patchsets/34181/ UNH-IOL DPDK Community Lab To manage your email subscriptions, visit: https://lab.dpdk.org/results/dashboard/preferences/subscriptions/