From mboxrd@z Thu Jan 1 00:00:00 1970 Return-Path: Received: from mails.dpdk.org (mails.dpdk.org [217.70.189.124]) by inbox.dpdk.org (Postfix) with ESMTP id 740444887C for ; Wed, 1 Oct 2025 08:01:44 +0200 (CEST) Received: from mails.dpdk.org (localhost [127.0.0.1]) by mails.dpdk.org (Postfix) with ESMTP id 6FCCB400EF; Wed, 1 Oct 2025 08:01:44 +0200 (CEST) Received: from mail-qv1-f97.google.com (mail-qv1-f97.google.com [209.85.219.97]) by mails.dpdk.org (Postfix) with ESMTP id 3398E400EF for ; Wed, 1 Oct 2025 08:01:43 +0200 (CEST) Received: by mail-qv1-f97.google.com with SMTP id 6a1803df08f44-7e3148a8928so49658796d6.2 for ; Tue, 30 Sep 2025 23:01:43 -0700 (PDT) DKIM-Signature: v=1; a=rsa-sha256; c=relaxed/relaxed; d=iol.unh.edu; s=unh-iol; t=1759298502; x=1759903302; darn=dpdk.org; h=cc:to:from:subject:message-id:date:from:to:cc:subject:date :message-id:reply-to; bh=2Mo6e0efrdAUk5ULwpO+3mIUoZ5lUedamMEnIyByzJE=; b=P6d8KGlSq/i/0pfdpOiElwTrJeT5WRpTJKbSz+H9vKki6EMyGSCZCBt6q7DhoIQUaO Ibis43uoql/lT3+k7XueWjUbwXS42BucgHDbvGToDPKWM+e5RWKPl+8Ze2l0WOvQvWHb 6k6axcyK2uTiGoK1c7GHc6WfrWMOBL0krZgy8= X-Google-DKIM-Signature: v=1; a=rsa-sha256; c=relaxed/relaxed; d=1e100.net; s=20230601; t=1759298502; x=1759903302; h=cc:to:from:subject:message-id:date:x-gm-message-state:from:to:cc :subject:date:message-id:reply-to; bh=2Mo6e0efrdAUk5ULwpO+3mIUoZ5lUedamMEnIyByzJE=; b=fcRhL0dI/wRRBt/2H+loa8TF5pOjE+wUc3IRsrgeiS4UC9OBcmzsLdR6KljI/EF7cu sUpcdzdEvaUCjhRsExq4QkCoAM7d3tka5VW2seDfOXU30/uMn403+UZjej282okwMEVd 3MMd9UBYZirhufWtbUQVsRkrFjpyAcDKSX7O9ML/OKgsytNVLVtMwDG8bzsnJFSSptJZ cMjwrp7THARpzxKPbtMQ52IKMupS2Bdysoi/47h1Xhn0Xk6xqKND7NsQcGXASKIR48r0 SLzNoa3+AUtyYPKV2MCAGTKDOAiC+yLEb9C6ZIL9rHm7X+z+bcTAy4qHY6xH3fwvRUvk b8bA== X-Gm-Message-State: AOJu0YyF3/i1Jg3L5RKyW5/4EhyRzu1kQERWvsCmHSU30SFb3sFWu56F Yo0tyNke3pFhRfPs7QRZv6PIGjprbbXbTISChVDIQplYLgMxM9uzHwfwWEeMKGHgMZnluxE8GhE /EjZJVlvQUzIvNGe1+/ghB7qwP1t6ajAZp1UA X-Gm-Gg: ASbGncuKB2N+F5cR/kya6CGW6gQrgbxDGHBtRrvTKn+tFPPp1lAlzQqLeGwZJuWEICA Nhfb273tSxpf4Q6Ub/TX9gs0ABIIJNQq6HUgQdkZtXa/QpQYKHPmK/iJgM4YiCy4jRbRv4lYgOV Vw6mNuTgyHyfcD/I0f68OXB/wgvAfSQIPluXsRtFZN1kN72b0R24xHmLHf/whk8zuz0ujw8ebdx +FkY4galAEqNpbIvKWLVTMxNt5wyGt/9yHlOoiPdeOjfn45QwFfnfHp38FG3RRAz+TFau2XCqMZ K6+vgh0HZSFpkux/7b1tC8tt1UkEA1G8Ycj3D/VxUkt7mFKUqxMiwvcVipMJubk++xVVSN6MTM8 ddQ== X-Google-Smtp-Source: AGHT+IGX6WoIWRC0TX97iO4WlEhVjy73BmVhszQ6I63fG0RT7gwH5Ix1jWTtaU05vSUvk7qCOuoCp8Ow5BDU X-Received: by 2002:a05:6214:1cc5:b0:829:18fe:7cc0 with SMTP id 6a1803df08f44-873a547f28bmr31800096d6.35.1759298502481; Tue, 30 Sep 2025 23:01:42 -0700 (PDT) Received: from postal.iol.unh.edu (postal.iol.unh.edu. [132.177.123.84]) by smtp-relay.gmail.com with ESMTPS id 6a1803df08f44-80138c06976sm10477446d6.11.2025.09.30.23.01.42 (version=TLS1_2 cipher=ECDHE-ECDSA-AES128-GCM-SHA256 bits=128/128); Tue, 30 Sep 2025 23:01:42 -0700 (PDT) X-Relaying-Domain: iol.unh.edu Date: Tue, 30 Sep 2025 23:01:42 -0700 (PDT) Message-ID: <68dcc3c6.050a0220.275b8a.080cSMTPIN_ADDED_MISSING@mx.google.com> Received: from [172.21.0.3] (unknown [172.18.0.240]) by postal.iol.unh.edu (Postfix) with ESMTP id 3ADB46051830; Wed, 1 Oct 2025 02:01:42 -0400 (EDT) Subject: |SUCCESS| [GIT MASTER] b287e404643aeab5bb5db084c142789df187844e From: dpdklab@iol.unh.edu To: Test Report Cc: dpdk-test-reports@iol.unh.edu, Xueming Li , Christian Ehrhardt , Kevin Traynor , Luca Boccassi Content-Type: text/plain X-BeenThere: test-report@dpdk.org X-Mailman-Version: 2.1.29 Precedence: list List-Id: automatic DPDK test reports List-Unsubscribe: , List-Archive: List-Post: List-Help: List-Subscribe: , Errors-To: test-report-bounces@dpdk.org _Testing PASS_ Branch: tags/v24.11 b287e404643aeab5bb5db084c142789df187844e --> testing pass Upstream job id: Generic-Unit-Test-DPDK#377402 Test environment and result as below: +-------------------------------+----------------+ | Environment | dpdk_unit_test | +===============================+================+ | Windows Server 2022 | PASS | +-------------------------------+----------------+ | CentOS Stream 9 | PASS | +-------------------------------+----------------+ | CentOS Stream 10 | PASS | +-------------------------------+----------------+ | Debian GNU/Linux 12 | PASS | +-------------------------------+----------------+ | Fedora Linux 40 | PASS | +-------------------------------+----------------+ | Fedora Linux 41 | PASS | +-------------------------------+----------------+ | Fedora Linux 42 | PASS | +-------------------------------+----------------+ | Red Hat Enterprise Linux 9.5 | PASS | +-------------------------------+----------------+ | Red Hat Enterprise Linux 8.10 | PASS | +-------------------------------+----------------+ | Ubuntu 20.04 | PASS | +-------------------------------+----------------+ | Ubuntu 22.04 | PASS | +-------------------------------+----------------+ | Ubuntu 24.04 | PASS | +-------------------------------+----------------+ Windows Server 2022 Kernel: 10.0.20348.2031 Compiler: clang 15.0.7, gcc 14.1.0 (MinGW), and MSVC VS 19.39.33521 CentOS Stream 9 Kernel: 5.15 Compiler: gcc gcc (GCC) 11.5.0 20240719 (Red Hat 11.5.0-11) CentOS Stream 10 Kernel: 5.15 Compiler: gcc gcc (GCC) 14.2.1 20250110 (Red Hat 14.2.1-8) Debian GNU/Linux 12 Kernel: 5.15 Compiler: gcc gcc (Debian 12.2.0-14+deb12u1) 12.2.0 Fedora Linux 40 Kernel: 5.15 Compiler: gcc gcc (GCC) 14.2.1 20240912 (Red Hat 14.2.1-3) Fedora Linux 41 Kernel: 5.15 Compiler: gcc gcc (GCC) 14.3.1 20250523 (Red Hat 14.3.1-1) Fedora Linux 42 Kernel: 5.15 Compiler: gcc gcc (GCC) 15.2.1 20250808 (Red Hat 15.2.1-1) Red Hat Enterprise Linux 9.5 Kernel: 5.15 Compiler: gcc gcc (GCC) 11.5.0 20240719 (Red Hat 11.5.0-2) Red Hat Enterprise Linux 8.10 Kernel: 5.15 Compiler: gcc gcc (GCC) 8.5.0 20210514 (Red Hat 8.5.0-22) Ubuntu 20.04 Kernel: 5.15 Compiler: gcc gcc (Ubuntu 9.4.0-1ubuntu1~20.04.2) 9.4.0 Ubuntu 22.04 Kernel: 5.15 Compiler: gcc gcc (Ubuntu 11.4.0-1ubuntu1~22.04) 11.4.0 Ubuntu 24.04 Kernel: 5.15 Compiler: gcc gcc (Ubuntu 13.3.0-6ubuntu2~24.04) 13.3.0 To view detailed results, visit: https://lab.dpdk.org/results/dashboard/tarballs/35069/ UNH-IOL DPDK Community Lab To manage your email subscriptions, visit: https://lab.dpdk.org/results/dashboard/preferences/subscriptions/