From mboxrd@z Thu Jan 1 00:00:00 1970 Return-Path: Received: from mails.dpdk.org (mails.dpdk.org [217.70.189.124]) by inbox.dpdk.org (Postfix) with ESMTP id 21FC34887D for ; Wed, 1 Oct 2025 08:18:11 +0200 (CEST) Received: from mails.dpdk.org (localhost [127.0.0.1]) by mails.dpdk.org (Postfix) with ESMTP id 1B914400EF; Wed, 1 Oct 2025 08:18:11 +0200 (CEST) Received: from mail-qv1-f98.google.com (mail-qv1-f98.google.com [209.85.219.98]) by mails.dpdk.org (Postfix) with ESMTP id E0AFC400EF for ; Wed, 1 Oct 2025 08:18:09 +0200 (CEST) Received: by mail-qv1-f98.google.com with SMTP id 6a1803df08f44-78f58f4230cso58384516d6.1 for ; Tue, 30 Sep 2025 23:18:09 -0700 (PDT) DKIM-Signature: v=1; a=rsa-sha256; c=relaxed/relaxed; d=iol.unh.edu; s=unh-iol; t=1759299489; x=1759904289; darn=dpdk.org; h=references:in-reply-to:cc:to:from:subject:message-id:date:from:to :cc:subject:date:message-id:reply-to; bh=Zj82HMwf5oJ3ghomx0dLGjVZeZpAV6BYCoB1Xv0Pp0s=; b=Je4K6gWzZThShCXnLOHuMx1ZpZBmcb+3yFi4KnFtWGCUhD9eeGBvVY8DdQZcZrC/OF ruOTK/nnMd1XXX2/62Scwwj2ZZ/GOSS24v0uC9EAdPzWpL28qKpE/dauJ0aDxdePrLpz xmcDO7ZFHQ2/A31SokIe9RYpWCae691zcrvgQ= X-Google-DKIM-Signature: v=1; a=rsa-sha256; c=relaxed/relaxed; d=1e100.net; s=20230601; t=1759299489; x=1759904289; h=references:in-reply-to:cc:to:from:subject:message-id:date :x-gm-message-state:from:to:cc:subject:date:message-id:reply-to; bh=Zj82HMwf5oJ3ghomx0dLGjVZeZpAV6BYCoB1Xv0Pp0s=; b=vyUqCwouQqJHUAJ17MFre2S1/q8BBTA6+Odx+8O38qtu6HDKTKVMz6K8E8y1ObcAeQ hX96BEz98+2ju2m2rqKnfXbQyvNxD8NvUpvijOf300R2LVWz0nilSUFo21HreWpgaX8S J2hx6dQodbU1D/oN1a3BywUJCDQXh0KASZA4Mo9fc7SUV41WjEsKV/hPrWc0YDjH8EXw RbYnScNucMCYSWeaAWUfo4EMZHFAHvP/qCl9ORWhaL20McDPdeAkaorkF72gQvt+jtym BATyNfKZD0KokJH1rdb3x0ppuot4G2sCwa2uaKRagEO0xCjEDBeOwSs7Tac/6gzhUikG u/Mw== X-Gm-Message-State: AOJu0Yxh4WQhYRKpLAnunXSJNEKqhHDszCh1gEhhRuEZGgnzD1E8a4mL sMcSEAax4tXvxWpHghKGYTf+8Vus0qq6k+a6ulvPe/49V6NrJ+6o/8L5icpgQM3YLGU734zn9PM flHraHNKci9cgyRhhSJjaq7SoP5CjWlAgMWpAY1YJ7JHS X-Gm-Gg: ASbGnctv0BQSYu1SJEQdu1vrsFaFEgaGNT3+UMHqmm7NcpWjP/2qtdLhiaMDQ5iPT0I 5zlKLkDl83anN3EPkQWXw4k0C1wQ9Ad5ewk8W/kpmKgDwEWvNiy87Dl7DExW6kQYrfhBUqDR6NV VUvpdyGvEXL1w0xuj9WZ3sGusKCr04RPaJEyv3EaArlJwu4kCLzuoU1QaUkcKPh2aqsTLpuE3rE BP5Z4f+1DzuuOsHvBEidDS4UeuuRnXT3NQk8DLL1YmrpDNtPclDbRwrFC2YHfNjEoNH4tM3ENhy XlrM8uRtmPbcX9uWncNuRmUQN211Mmq434/qUfxy39tUpukjYfbUJ+CQlrpx9RI4eeAhUPMpb00 LUQ== X-Google-Smtp-Source: AGHT+IHggx96I86dnGo+Gxf/rcsu8R7TR6A5BF+qkWSlQqsVfem/dh5QEVxy3X9vzcLebYjQ48prbHdSTzTR X-Received: by 2002:a05:6214:5093:b0:792:51e1:b85d with SMTP id 6a1803df08f44-8739ea2f367mr31806126d6.27.1759299489301; Tue, 30 Sep 2025 23:18:09 -0700 (PDT) Received: from postal.iol.unh.edu (postal.iol.unh.edu. [132.177.123.84]) by smtp-relay.gmail.com with ESMTPS id 6a1803df08f44-80161a315aasm11756806d6.26.2025.09.30.23.18.09 (version=TLS1_2 cipher=ECDHE-ECDSA-AES128-GCM-SHA256 bits=128/128); Tue, 30 Sep 2025 23:18:09 -0700 (PDT) X-Relaying-Domain: iol.unh.edu Date: Tue, 30 Sep 2025 23:18:09 -0700 (PDT) Message-ID: <68dcc7a1.050a0220.2f208b.7869SMTPIN_ADDED_MISSING@mx.google.com> Received: from [172.21.0.2] (unknown [172.18.0.240]) by postal.iol.unh.edu (Postfix) with ESMTP id 0BB306051830; Wed, 1 Oct 2025 02:18:09 -0400 (EDT) Subject: |SUCCESS| pw157147-157150 [PATCH] [v5,4/4] net/cpfl: add cpchnl get From: dpdklab@iol.unh.edu To: Test Report Cc: dpdk-test-reports@iol.unh.edu, Bruce Richardson In-Reply-To: <20250930182718.2997819-5-praveen.shetty@intel.com> References: <20250930182718.2997819-5-praveen.shetty@intel.com> Content-Type: text/plain X-BeenThere: test-report@dpdk.org X-Mailman-Version: 2.1.29 Precedence: list List-Id: automatic DPDK test reports List-Unsubscribe: , List-Archive: List-Post: List-Help: List-Subscribe: , Errors-To: test-report-bounces@dpdk.org Test-Label: iol-compile-amd64-testing Test-Status: SUCCESS http://dpdk.org/patch/157150 _Testing PASS_ Submitter: Shetty, Praveen Date: Tuesday, September 30 2025 18:27:18 DPDK git baseline: Repo:dpdk-next-net-intel Branch: master CommitID:9845e5848bbe337306fb6ae2a6b1ce5e6ab5b714 157147-157150 --> testing pass Upstream job id: Generic-DPDK-Compile-Meson#430239 Test environment and result as below: +-------------------------------+--------------------+-------------------+-------------------------+----------------------+-------------------+------------------+ | Environment | dpdk_meson_compile | dpdk_msvc_compile | dpdk_llvm_clang_compile | dpdk_mingw64_compile | dpdk_compile_spdk | dpdk_compile_ovs | +===============================+====================+===================+=========================+======================+===================+==================+ | Ubuntu 20.04 | PASS | SKIPPED | SKIPPED | SKIPPED | SKIPPED | SKIPPED | +-------------------------------+--------------------+-------------------+-------------------------+----------------------+-------------------+------------------+ | FreeBSD 14.2 | PASS | SKIPPED | SKIPPED | SKIPPED | SKIPPED | SKIPPED | +-------------------------------+--------------------+-------------------+-------------------------+----------------------+-------------------+------------------+ | CentOS Stream 9 | PASS | SKIPPED | SKIPPED | SKIPPED | PASS | SKIPPED | +-------------------------------+--------------------+-------------------+-------------------------+----------------------+-------------------+------------------+ | CentOS Stream 10 | PASS | SKIPPED | SKIPPED | SKIPPED | SKIPPED | SKIPPED | +-------------------------------+--------------------+-------------------+-------------------------+----------------------+-------------------+------------------+ | Debian GNU/Linux 12 | PASS | SKIPPED | SKIPPED | SKIPPED | PASS | SKIPPED | +-------------------------------+--------------------+-------------------+-------------------------+----------------------+-------------------+------------------+ | Fedora Linux 42 | PASS | SKIPPED | SKIPPED | SKIPPED | PASS | PASS | +-------------------------------+--------------------+-------------------+-------------------------+----------------------+-------------------+------------------+ | openSUSE Leap 15.6 | PASS | SKIPPED | SKIPPED | SKIPPED | SKIPPED | SKIPPED | +-------------------------------+--------------------+-------------------+-------------------------+----------------------+-------------------+------------------+ | Red Hat Enterprise Linux 8.10 | PASS | SKIPPED | SKIPPED | SKIPPED | SKIPPED | SKIPPED | +-------------------------------+--------------------+-------------------+-------------------------+----------------------+-------------------+------------------+ | Windows Server 2022 | SKIPPED | PASS | PASS | PASS | SKIPPED | SKIPPED | +-------------------------------+--------------------+-------------------+-------------------------+----------------------+-------------------+------------------+ Ubuntu 20.04 Kernel: 4.19 Compiler: gcc gcc (Ubuntu 9.4.0-1ubuntu1~20.04.2) 9.4.0 FreeBSD 14.2 Kernel: 14.2-RELEASE Compiler: clang 18.1.6 CentOS Stream 9 Kernel: 5.15 Compiler: gcc gcc (GCC) 11.5.0 20240719 (Red Hat 11.5.0-11) CentOS Stream 10 Kernel: 5.15 Compiler: gcc gcc (GCC) 14.2.1 20250110 (Red Hat 14.2.1-8) Debian GNU/Linux 12 Kernel: 5.15 Compiler: gcc gcc (Debian 12.2.0-14+deb12u1) 12.2.0 Fedora Linux 42 Kernel: 5.15 Compiler: clang gcc (GCC) 15.2.1 20250808 (Red Hat 15.2.1-1) openSUSE Leap 15.6 Kernel: 5.15 Compiler: gcc gcc (SUSE Linux) 7.5.0 Red Hat Enterprise Linux 8.10 Kernel: 5.15 Compiler: gcc gcc (GCC) 8.5.0 20210514 (Red Hat 8.5.0-22) Windows Server 2022 Kernel: 10.0.20348.2031 Compiler: clang 15.0.7, gcc 14.1.0 (MinGW), and MSVC VS 19.39.33521 To view detailed results, visit: https://lab.dpdk.org/results/dashboard/patchsets/34186/ UNH-IOL DPDK Community Lab To manage your email subscriptions, visit: https://lab.dpdk.org/results/dashboard/preferences/subscriptions/