From mboxrd@z Thu Jan 1 00:00:00 1970 Return-Path: Received: from mails.dpdk.org (mails.dpdk.org [217.70.189.124]) by inbox.dpdk.org (Postfix) with ESMTP id 31C8B4887D for ; Wed, 1 Oct 2025 08:18:23 +0200 (CEST) Received: from mails.dpdk.org (localhost [127.0.0.1]) by mails.dpdk.org (Postfix) with ESMTP id 2B33E400EF; Wed, 1 Oct 2025 08:18:23 +0200 (CEST) Received: from mail-pj1-f100.google.com (mail-pj1-f100.google.com [209.85.216.100]) by mails.dpdk.org (Postfix) with ESMTP id 3E365400EF for ; Wed, 1 Oct 2025 08:18:22 +0200 (CEST) Received: by mail-pj1-f100.google.com with SMTP id 98e67ed59e1d1-33082c95fd0so6953811a91.1 for ; Tue, 30 Sep 2025 23:18:22 -0700 (PDT) DKIM-Signature: v=1; a=rsa-sha256; c=relaxed/relaxed; d=iol.unh.edu; s=unh-iol; t=1759299501; x=1759904301; darn=dpdk.org; h=references:in-reply-to:cc:to:from:subject:message-id:date:from:to :cc:subject:date:message-id:reply-to; bh=q9smn6i84lU7aeHPSR7pQb9uy8MFZoY5ZT9GF4BEmFM=; b=E2kcHxqcaln/YGa7Onj9G8tAOZoXkW7fi3elJcSYFyODBKy2KRIsfgtiaQO2GO2YuD CtjU7frYz0a9hUPBpiNubnPLhGTpP1dSiH54sqGioASxhjIA0SarE4Mf9Z/dm+hOGf0H Hl7n2AlqpIu6CgMbyYRwFvoXhWEpADTxtLwb0= X-Google-DKIM-Signature: v=1; a=rsa-sha256; c=relaxed/relaxed; d=1e100.net; s=20230601; t=1759299501; x=1759904301; h=references:in-reply-to:cc:to:from:subject:message-id:date :x-gm-message-state:from:to:cc:subject:date:message-id:reply-to; bh=q9smn6i84lU7aeHPSR7pQb9uy8MFZoY5ZT9GF4BEmFM=; b=U02dmTY6wI/WgtGPBW7og7U0Xvflxnsp0pPm47/fkEOQPEOepX6wFF0t9h+87ichxn TG6t6Idq60ubMHAQ6kfQYy3x9Taug1Wwv6x8RjkrPChP8V7VAxPtoMnZGbCg9LqgSwdK RNJ3qQNjYBjZyrCQxTZe6WwJUpuCpTHL4oKqwCNP86gJ5MyTfSJxW+FCASTk3h+CZC6m 8EA/iGw74SnLKVydXykDKa2RDWlmiYs8IUm4fEM7rr0ZgxZ7x4zhTt2wbhwnBALlqCxo fz8p3gynaeuYoAnmx/SN/XtKkmF7OEPgNdXHd1NdsAj8tbiPJz7aLXs4/qnDtw2UCN0h X6fw== X-Gm-Message-State: AOJu0YzzZfW3sqEw1U/BoC77y3NyUP+7puvL93hOrscd6POmAOm4Tbxg D1s4VyVFM0mEsKFJJOZMvDTIaIevnhN8fRkdqCLmZ/UrGbuMDCqYZQr5RjoNZrkmdXZf7lMj67/ eYACfmxA2OQ498MunN+H0BbMwhgl15x3YbCKAl4nAJJf/RPAN3nZG/n2+0IQl X-Gm-Gg: ASbGnctbH3SnTRd2SyTDJrRTBJls6fs+583QORAsNjt7fDUW5WF8uA/W8Z8c9I9R1NH 5WAXyvvSJjwRxa5MAxTTmgjFWkcsi5aAPEanLDpMUiJvXL7CiJhFKf+iJWoDHkdii8+SmB7s/id bn1Mcv/ckIS0J3dGqBbWFok1huAqB1+23IFctDu9dKJU/g6nH29hrgEmR0hWLEOXYtVZLX7MS0/ W3ZkF9u9W3QmD+dtVt0eF5GzXTTU/QR75wleeaszVmrZajrXn0MDdD3i/0VuQtdhdK30BBK0Bwc b7oPRyUqkppxqIAS2Y0gf7I5I3xbNPYX/W3XLZm0mCtTYEwOicPcD+I= X-Google-Smtp-Source: AGHT+IGFHUYNflcoZlT66Dg6hpScIvX4F1UPVe911Sw2I9nAHHo492Uka4zA8xdG2UrpCCdO8ntYI+levNDv X-Received: by 2002:a17:90b:33c2:b0:31e:d4e3:4002 with SMTP id 98e67ed59e1d1-339a6e63b7emr2123108a91.2.1759299501286; Tue, 30 Sep 2025 23:18:21 -0700 (PDT) Received: from postal.iol.unh.edu (postal.iol.unh.edu. [2606:4100:3880:1234::84]) by smtp-relay.gmail.com with ESMTPS id 98e67ed59e1d1-339a6d93d99sm131566a91.0.2025.09.30.23.18.21 (version=TLS1_2 cipher=ECDHE-ECDSA-AES128-GCM-SHA256 bits=128/128); Tue, 30 Sep 2025 23:18:21 -0700 (PDT) X-Relaying-Domain: iol.unh.edu Date: Tue, 30 Sep 2025 23:18:21 -0700 (PDT) Message-ID: <68dcc7ad.170a0220.aee27.7af0SMTPIN_ADDED_MISSING@mx.google.com> Received: from [172.21.0.2] (unknown [172.18.0.240]) by postal.iol.unh.edu (Postfix) with ESMTP id 8C0F16051830; Wed, 1 Oct 2025 02:18:20 -0400 (EDT) Subject: |SUCCESS| pw157147-157150 [PATCH] [v5,4/4] net/cpfl: add cpchnl get From: dpdklab@iol.unh.edu To: Test Report Cc: dpdk-test-reports@iol.unh.edu, Bruce Richardson In-Reply-To: <20250930182718.2997819-5-praveen.shetty@intel.com> References: <20250930182718.2997819-5-praveen.shetty@intel.com> Content-Type: text/plain X-BeenThere: test-report@dpdk.org X-Mailman-Version: 2.1.29 Precedence: list List-Id: automatic DPDK test reports List-Unsubscribe: , List-Archive: List-Post: List-Help: List-Subscribe: , Errors-To: test-report-bounces@dpdk.org Test-Label: iol-compile-amd64-testing Test-Status: SUCCESS http://dpdk.org/patch/157150 _Testing PASS_ Submitter: Shetty, Praveen Date: Tuesday, September 30 2025 18:27:18 DPDK git baseline: Repo:dpdk-next-net-intel Branch: master CommitID:9845e5848bbe337306fb6ae2a6b1ce5e6ab5b714 157147-157150 --> testing pass Upstream job id: Generic-DPDK-Compile-Meson#430233 Test environment and result as below: +-------------------------------+--------------------+-------------------+-------------------------+----------------------+-------------------+------------------+ | Environment | dpdk_meson_compile | dpdk_msvc_compile | dpdk_llvm_clang_compile | dpdk_mingw64_compile | dpdk_compile_spdk | dpdk_compile_ovs | +===============================+====================+===================+=========================+======================+===================+==================+ | Ubuntu 20.04 | PASS | SKIPPED | SKIPPED | SKIPPED | SKIPPED | SKIPPED | +-------------------------------+--------------------+-------------------+-------------------------+----------------------+-------------------+------------------+ | FreeBSD 14.2 | PASS | SKIPPED | SKIPPED | SKIPPED | SKIPPED | SKIPPED | +-------------------------------+--------------------+-------------------+-------------------------+----------------------+-------------------+------------------+ | CentOS Stream 9 | PASS | SKIPPED | SKIPPED | SKIPPED | PASS | SKIPPED | +-------------------------------+--------------------+-------------------+-------------------------+----------------------+-------------------+------------------+ | CentOS Stream 10 | PASS | SKIPPED | SKIPPED | SKIPPED | SKIPPED | SKIPPED | +-------------------------------+--------------------+-------------------+-------------------------+----------------------+-------------------+------------------+ | Debian GNU/Linux 12 | PASS | SKIPPED | SKIPPED | SKIPPED | PASS | SKIPPED | +-------------------------------+--------------------+-------------------+-------------------------+----------------------+-------------------+------------------+ | Fedora Linux 42 | PASS | SKIPPED | SKIPPED | SKIPPED | PASS | PASS | +-------------------------------+--------------------+-------------------+-------------------------+----------------------+-------------------+------------------+ | openSUSE Leap 15.6 | PASS | SKIPPED | SKIPPED | SKIPPED | SKIPPED | SKIPPED | +-------------------------------+--------------------+-------------------+-------------------------+----------------------+-------------------+------------------+ | Red Hat Enterprise Linux 8.10 | PASS | SKIPPED | SKIPPED | SKIPPED | SKIPPED | SKIPPED | +-------------------------------+--------------------+-------------------+-------------------------+----------------------+-------------------+------------------+ | Windows Server 2022 | SKIPPED | PASS | PASS | PASS | SKIPPED | SKIPPED | +-------------------------------+--------------------+-------------------+-------------------------+----------------------+-------------------+------------------+ Ubuntu 20.04 Kernel: 4.19 Compiler: gcc gcc (Ubuntu 9.4.0-1ubuntu1~20.04.2) 9.4.0 FreeBSD 14.2 Kernel: 14.2-RELEASE Compiler: clang 18.1.6 CentOS Stream 9 Kernel: 5.15 Compiler: gcc gcc (GCC) 11.5.0 20240719 (Red Hat 11.5.0-11) CentOS Stream 10 Kernel: 5.15 Compiler: gcc gcc (GCC) 14.2.1 20250110 (Red Hat 14.2.1-8) Debian GNU/Linux 12 Kernel: 5.15 Compiler: gcc gcc (Debian 12.2.0-14+deb12u1) 12.2.0 Fedora Linux 42 Kernel: 5.15 Compiler: clang gcc (GCC) 15.2.1 20250808 (Red Hat 15.2.1-1) openSUSE Leap 15.6 Kernel: 5.15 Compiler: gcc gcc (SUSE Linux) 7.5.0 Red Hat Enterprise Linux 8.10 Kernel: 5.15 Compiler: gcc gcc (GCC) 8.5.0 20210514 (Red Hat 8.5.0-22) Windows Server 2022 Kernel: 10.0.20348.2031 Compiler: clang 15.0.7, gcc 14.1.0 (MinGW), and MSVC VS 19.39.33521 To view detailed results, visit: https://lab.dpdk.org/results/dashboard/patchsets/34186/ UNH-IOL DPDK Community Lab To manage your email subscriptions, visit: https://lab.dpdk.org/results/dashboard/preferences/subscriptions/