From mboxrd@z Thu Jan 1 00:00:00 1970 Return-Path: Received: from mails.dpdk.org (mails.dpdk.org [217.70.189.124]) by inbox.dpdk.org (Postfix) with ESMTP id A24A04887D for ; Wed, 1 Oct 2025 08:35:10 +0200 (CEST) Received: from mails.dpdk.org (localhost [127.0.0.1]) by mails.dpdk.org (Postfix) with ESMTP id 9EBBA400EF; Wed, 1 Oct 2025 08:35:10 +0200 (CEST) Received: from mail-pg1-f225.google.com (mail-pg1-f225.google.com [209.85.215.225]) by mails.dpdk.org (Postfix) with ESMTP id E83D4400EF for ; Wed, 1 Oct 2025 08:35:09 +0200 (CEST) Received: by mail-pg1-f225.google.com with SMTP id 41be03b00d2f7-b551b040930so4580224a12.2 for ; Tue, 30 Sep 2025 23:35:09 -0700 (PDT) DKIM-Signature: v=1; a=rsa-sha256; c=relaxed/relaxed; d=iol.unh.edu; s=unh-iol; t=1759300509; x=1759905309; darn=dpdk.org; h=references:in-reply-to:cc:to:from:subject:message-id:date:from:to :cc:subject:date:message-id:reply-to; bh=syfpUnbAF1o9ZOi419mzZkfkWu8e13MWjZpAMpFAyYU=; b=DxKsO3Ffn31dixa38M3nV8LvxM3dxpekuok0acqPO06mokXF/endlUqMjtC0mBzEIi /Lg0pvtQlE679+HsU2ryltGpYp5m1HAPmsfcd6e0n0YbWORslUTy/XmnxYarDZZbr/Kb bXLNSxNkRQibKJAZnx3sKg/ZRz9cndYPT8Glo= X-Google-DKIM-Signature: v=1; a=rsa-sha256; c=relaxed/relaxed; d=1e100.net; s=20230601; t=1759300509; x=1759905309; h=references:in-reply-to:cc:to:from:subject:message-id:date :x-gm-message-state:from:to:cc:subject:date:message-id:reply-to; bh=syfpUnbAF1o9ZOi419mzZkfkWu8e13MWjZpAMpFAyYU=; b=sxrLUI7Vx1h4JZU2jhE0WXU+DkgT063hVRpp5AKyXYERm8vmi0Z0dYus4MlylesL+F 0s/74LXMPb7Hb+FBPwVQyvQ6XIP4MZxnrDbBps4PeNHJSCe8dCEprsVyNVa6uCr7/iuv vmy7379AuEzOqQNlcH9Mji/x+FBqgdYwQYqCF9bhzNKahkr7AiFmZHroy1ekM8ZbPK2J Tdz/kV5gQhBJu3K5wKQdkku2UYPLN3w31f0mmBvNrcb9ID1OUkpRbbg636z0Dmu7vB4O LGOb8/P3ogBJnxL/8+1E4HBjlkse3KXumYg0bIKUfIBwlOI5KQV3muGgs+CYHFbYkUqs n/vw== X-Gm-Message-State: AOJu0YxOr0P+jNyeXIq9W1DyvCm4kyB7dwN438sV/DvPb8TCc/G+XdhR iriw7uYRGMdUt4Cax4xkwXZreEvRkz4pYSEPYisNcYWeYFA9jESiTi7LKYbekOLBocVE0bTl9Oj 2dpJOeopG/Qk876D771zxHdrpyFBAyPSdKVWSIgFyFhR2YJUtZuFKEdoZZ8YE X-Gm-Gg: ASbGncvheZfB600pxgKvdQhMb/bPTUo6Ab+w01H4Ip9HHMGGhIpDi3EqSFjWTopmAbA ER9w87ZBwfAZ+xKkygzIOqezaxCmQbK4P2NlTkjDmFFmo5J75TnGFJgMhsXNnzK0P7SJNgIR2Ze Es1OW6mywjReQyDdD4ffpIh1QSJv5OK9WgD9oOUk+BTBRRfiWHjPFnMWyN08MIO/ba/L4a7YIsp UI5fctWDpwHiy4RdieGX++Fr7myMQ0cZeAaKpo/L8OHXG43OBKgddXWuYx4cgOqQU7sTtgILUbO tyyaJbvldyzX69F6bOQf7Zt6loKBM5Vcqp4xufG1Phh/PwGGLtFN8aw= X-Google-Smtp-Source: AGHT+IEcXsrn6Fnk/rXqNe62mjK7hDKSbFUFhkD0wEPQzWSUcSOzGPNHtwKIKMdMua9acC2aJXe/clxb5vVo X-Received: by 2002:a17:903:37c5:b0:27e:c27f:b834 with SMTP id d9443c01a7336-28e7f4d4378mr29166005ad.56.1759300509042; Tue, 30 Sep 2025 23:35:09 -0700 (PDT) Received: from postal.iol.unh.edu (postal.iol.unh.edu. [2606:4100:3880:1234::84]) by smtp-relay.gmail.com with ESMTPS id d9443c01a7336-27eeb413eb2sm12514015ad.9.2025.09.30.23.35.08 (version=TLS1_2 cipher=ECDHE-ECDSA-AES128-GCM-SHA256 bits=128/128); Tue, 30 Sep 2025 23:35:09 -0700 (PDT) X-Relaying-Domain: iol.unh.edu Date: Tue, 30 Sep 2025 23:35:09 -0700 (PDT) Message-ID: <68dccb9d.170a0220.292632.db71SMTPIN_ADDED_MISSING@mx.google.com> Received: from [172.21.0.2] (unknown [172.18.0.240]) by postal.iol.unh.edu (Postfix) with ESMTP id 831F86051830; Wed, 1 Oct 2025 02:35:08 -0400 (EDT) Subject: |SUCCESS| pw157147-157150 [PATCH] [v5,4/4] net/cpfl: add cpchnl get From: dpdklab@iol.unh.edu To: Test Report Cc: dpdk-test-reports@iol.unh.edu, Bruce Richardson In-Reply-To: <20250930182718.2997819-5-praveen.shetty@intel.com> References: <20250930182718.2997819-5-praveen.shetty@intel.com> Content-Type: text/plain X-BeenThere: test-report@dpdk.org X-Mailman-Version: 2.1.29 Precedence: list List-Id: automatic DPDK test reports List-Unsubscribe: , List-Archive: List-Post: List-Help: List-Subscribe: , Errors-To: test-report-bounces@dpdk.org Test-Label: iol-compile-amd64-testing Test-Status: SUCCESS http://dpdk.org/patch/157150 _Testing PASS_ Submitter: Shetty, Praveen Date: Tuesday, September 30 2025 18:27:18 DPDK git baseline: Repo:dpdk-next-net-intel Branch: master CommitID:9845e5848bbe337306fb6ae2a6b1ce5e6ab5b714 157147-157150 --> testing pass Upstream job id: Generic-DPDK-Compile-Meson#430245 Test environment and result as below: +-------------------------------+--------------------+-------------------+-------------------------+----------------------+-------------------+------------------+ | Environment | dpdk_meson_compile | dpdk_msvc_compile | dpdk_llvm_clang_compile | dpdk_mingw64_compile | dpdk_compile_spdk | dpdk_compile_ovs | +===============================+====================+===================+=========================+======================+===================+==================+ | Ubuntu 20.04 | PASS | SKIPPED | SKIPPED | SKIPPED | SKIPPED | SKIPPED | +-------------------------------+--------------------+-------------------+-------------------------+----------------------+-------------------+------------------+ | FreeBSD 14.2 | PASS | SKIPPED | SKIPPED | SKIPPED | SKIPPED | SKIPPED | +-------------------------------+--------------------+-------------------+-------------------------+----------------------+-------------------+------------------+ | CentOS Stream 9 | PASS | SKIPPED | SKIPPED | SKIPPED | PASS | SKIPPED | +-------------------------------+--------------------+-------------------+-------------------------+----------------------+-------------------+------------------+ | CentOS Stream 10 | PASS | SKIPPED | SKIPPED | SKIPPED | SKIPPED | SKIPPED | +-------------------------------+--------------------+-------------------+-------------------------+----------------------+-------------------+------------------+ | Debian GNU/Linux 12 | PASS | SKIPPED | SKIPPED | SKIPPED | PASS | SKIPPED | +-------------------------------+--------------------+-------------------+-------------------------+----------------------+-------------------+------------------+ | Fedora Linux 42 | PASS | SKIPPED | SKIPPED | SKIPPED | PASS | PASS | +-------------------------------+--------------------+-------------------+-------------------------+----------------------+-------------------+------------------+ | openSUSE Leap 15.6 | PASS | SKIPPED | SKIPPED | SKIPPED | SKIPPED | SKIPPED | +-------------------------------+--------------------+-------------------+-------------------------+----------------------+-------------------+------------------+ | Red Hat Enterprise Linux 8.10 | PASS | SKIPPED | SKIPPED | SKIPPED | SKIPPED | SKIPPED | +-------------------------------+--------------------+-------------------+-------------------------+----------------------+-------------------+------------------+ | Red Hat Enterprise Linux 9.5 | PASS | SKIPPED | SKIPPED | SKIPPED | SKIPPED | SKIPPED | +-------------------------------+--------------------+-------------------+-------------------------+----------------------+-------------------+------------------+ | Windows Server 2022 | SKIPPED | PASS | PASS | PASS | SKIPPED | SKIPPED | +-------------------------------+--------------------+-------------------+-------------------------+----------------------+-------------------+------------------+ Ubuntu 20.04 Kernel: 4.19 Compiler: gcc gcc (Ubuntu 9.4.0-1ubuntu1~20.04.2) 9.4.0 FreeBSD 14.2 Kernel: 14.2-RELEASE Compiler: clang 18.1.6 CentOS Stream 9 Kernel: 5.15 Compiler: gcc gcc (GCC) 11.5.0 20240719 (Red Hat 11.5.0-11) CentOS Stream 10 Kernel: 5.15 Compiler: gcc gcc (GCC) 14.2.1 20250110 (Red Hat 14.2.1-8) Debian GNU/Linux 12 Kernel: 5.15 Compiler: gcc gcc (Debian 12.2.0-14+deb12u1) 12.2.0 Fedora Linux 42 Kernel: 5.15 Compiler: clang gcc (GCC) 15.2.1 20250808 (Red Hat 15.2.1-1) openSUSE Leap 15.6 Kernel: 5.15 Compiler: gcc gcc (SUSE Linux) 7.5.0 Red Hat Enterprise Linux 8.10 Kernel: 5.15 Compiler: gcc gcc (GCC) 8.5.0 20210514 (Red Hat 8.5.0-22) Red Hat Enterprise Linux 9.5 Kernel: 5.15 Compiler: gcc gcc (GCC) 11.5.0 20240719 (Red Hat 11.5.0-2) Windows Server 2022 Kernel: 10.0.20348.2031 Compiler: clang 15.0.7, gcc 14.1.0 (MinGW), and MSVC VS 19.39.33521 To view detailed results, visit: https://lab.dpdk.org/results/dashboard/patchsets/34186/ UNH-IOL DPDK Community Lab To manage your email subscriptions, visit: https://lab.dpdk.org/results/dashboard/preferences/subscriptions/