From mboxrd@z Thu Jan 1 00:00:00 1970 Return-Path: Received: from mails.dpdk.org (mails.dpdk.org [217.70.189.124]) by inbox.dpdk.org (Postfix) with ESMTP id 18B6B4887D for ; Wed, 1 Oct 2025 08:57:22 +0200 (CEST) Received: from mails.dpdk.org (localhost [127.0.0.1]) by mails.dpdk.org (Postfix) with ESMTP id EBF1D40666; Wed, 1 Oct 2025 08:57:21 +0200 (CEST) Received: from mail-il1-f228.google.com (mail-il1-f228.google.com [209.85.166.228]) by mails.dpdk.org (Postfix) with ESMTP id F030F40666 for ; Wed, 1 Oct 2025 08:57:20 +0200 (CEST) Received: by mail-il1-f228.google.com with SMTP id e9e14a558f8ab-4259247208aso33540465ab.3 for ; Tue, 30 Sep 2025 23:57:20 -0700 (PDT) DKIM-Signature: v=1; a=rsa-sha256; c=relaxed/relaxed; d=iol.unh.edu; s=unh-iol; t=1759301840; x=1759906640; darn=dpdk.org; h=references:in-reply-to:cc:to:from:subject:message-id:date:from:to :cc:subject:date:message-id:reply-to; bh=+Z/+gcyLqyAOS9xdeNVoE+Ld2jtoL3GFlyOZoA58740=; b=W9LyImlaHQ+O9NN7BNTIXUrScxwsqlwUMWYXu9YfPUM4evZGRsDZWB6B+hI9CdOJOc jfM1PNiqhaoJHzrI5XHbULGZn8rFPesj9Zs9d57OvusH4TBdM+bvsyxIWmSfVzOfdWJf m4PpyiGluu110qWqA3y/nfmNeB0XZ9JKeYVf0= X-Google-DKIM-Signature: v=1; a=rsa-sha256; c=relaxed/relaxed; d=1e100.net; s=20230601; t=1759301840; x=1759906640; h=references:in-reply-to:cc:to:from:subject:message-id:date :x-gm-message-state:from:to:cc:subject:date:message-id:reply-to; bh=+Z/+gcyLqyAOS9xdeNVoE+Ld2jtoL3GFlyOZoA58740=; b=JSaG0zzOfTbkdrQVWZFtl4Cetuy9qBepI8XAsCYnovaWG5zu6039mUlLjRKxA+Caon 1z4TBv0NjdBM3ryhdGULYSQMc2NX2IHS6alDXlYlmviw5eh0T3VyT2g+0J08QrNutQR2 CKqTZ44phiXDwze02rWOLyjsBh8lsjQS41y2tunzj0UaDtT9a1XKxVG2OJR3h2FGXslp 9JUdV+C2ftVctRrGyxPe3F6W8IFbmn0w4NpDYxDuQXLHZjyL1Af52SGB652r1UxaRjrA YfAjz7Ic92PmHF8xkmUIY9a7CaP6Nm5LtrHXKRdFSNRqsl52gJi/la92YWqfi8gWR7qk Ek3w== X-Gm-Message-State: AOJu0YyFU4hXNmUZ+BP2hgjRADVYE9ChCwYm8xBdNIZ6572na9B6JrqE wXExjvP6MTOKzIJTmSeXFYfrul55uE/IBTJXT5pdkWlN01PIt/ZxROe3WPuIZWfCouw2Ed6BsQW YO5BNlsI5GIZEEEC2WfTske6odzckWhYInt5yYqg1wscw X-Gm-Gg: ASbGncvxf0iUadRgwe1OBJziFZ75wMdzjHCYMW+bRLCWqs2lOCbhVBhSxCvS+fOfkvZ ZoV4hqqlf0eIHLi7z/bNAVoeeyZQpIamxUMZaFxVEG5rrJxZ+VriSNYDnGAT092gU1HaK4cVTB8 RBkdy9Elaex/7CaDZVIi7Ihcf7/qTj8n/ksa0H/wbUpdJR+9Ff0ljLcDeBpp16tkmXn7YRIG2WY yHkPLS12GfeNYAQNGC5NKFw/bVu13wHthQHD354MxJ2BhRrp4ZuQ1LcsAx0CeN68zG3xrb4clQN ackJPuPH/MF/FsujRmuUADOMKPN9BF+JMM8B9hLVOmvMtqfZlyCCsSCoG70z+BZ2/MLT0J3vcUS jqQ== X-Google-Smtp-Source: AGHT+IFumTYD2i+ft4+3oOKsQ4h8yjrzg1prEQqlBk8I6aMWfOx2hewJVyxcZUYjSZdQuKXAeEcz5EMGo4Yb X-Received: by 2002:a05:6e02:3c06:b0:42d:7dea:1e2b with SMTP id e9e14a558f8ab-42d81687e1cmr32423735ab.24.1759301840147; Tue, 30 Sep 2025 23:57:20 -0700 (PDT) Received: from postal.iol.unh.edu (postal.iol.unh.edu. [132.177.123.84]) by smtp-relay.gmail.com with ESMTPS id 8926c6da1cb9f-5736c43bca6sm532856173.19.2025.09.30.23.57.20 (version=TLS1_2 cipher=ECDHE-ECDSA-AES128-GCM-SHA256 bits=128/128); Tue, 30 Sep 2025 23:57:20 -0700 (PDT) X-Relaying-Domain: iol.unh.edu Date: Tue, 30 Sep 2025 23:57:20 -0700 (PDT) Message-ID: <68dcd0d0.050a0220.275214.0057SMTPIN_ADDED_MISSING@mx.google.com> Received: from [172.21.0.2] (unknown [172.18.0.240]) by postal.iol.unh.edu (Postfix) with ESMTP id B54D16051830; Wed, 1 Oct 2025 02:57:19 -0400 (EDT) Subject: |SUCCESS| pw157147-157150 [PATCH] [v5,4/4] net/cpfl: add cpchnl get From: dpdklab@iol.unh.edu To: Test Report Cc: dpdk-test-reports@iol.unh.edu, Bruce Richardson In-Reply-To: <20250930182718.2997819-5-praveen.shetty@intel.com> References: <20250930182718.2997819-5-praveen.shetty@intel.com> Content-Type: text/plain X-BeenThere: test-report@dpdk.org X-Mailman-Version: 2.1.29 Precedence: list List-Id: automatic DPDK test reports List-Unsubscribe: , List-Archive: List-Post: List-Help: List-Subscribe: , Errors-To: test-report-bounces@dpdk.org Test-Label: iol-compile-amd64-testing Test-Status: SUCCESS http://dpdk.org/patch/157150 _Testing PASS_ Submitter: Shetty, Praveen Date: Tuesday, September 30 2025 18:27:18 DPDK git baseline: Repo:dpdk-next-net-intel Branch: master CommitID:9845e5848bbe337306fb6ae2a6b1ce5e6ab5b714 157147-157150 --> testing pass Upstream job id: Generic-DPDK-Compile-Meson#430252 Test environment and result as below: +-------------------------------+--------------------+-------------------+-------------------------+----------------------+-------------------+------------------+ | Environment | dpdk_meson_compile | dpdk_msvc_compile | dpdk_llvm_clang_compile | dpdk_mingw64_compile | dpdk_compile_spdk | dpdk_compile_ovs | +===============================+====================+===================+=========================+======================+===================+==================+ | Ubuntu 20.04 | PASS | SKIPPED | SKIPPED | SKIPPED | SKIPPED | SKIPPED | +-------------------------------+--------------------+-------------------+-------------------------+----------------------+-------------------+------------------+ | FreeBSD 14.2 | PASS | SKIPPED | SKIPPED | SKIPPED | SKIPPED | SKIPPED | +-------------------------------+--------------------+-------------------+-------------------------+----------------------+-------------------+------------------+ | CentOS Stream 9 | PASS | SKIPPED | SKIPPED | SKIPPED | PASS | SKIPPED | +-------------------------------+--------------------+-------------------+-------------------------+----------------------+-------------------+------------------+ | CentOS Stream 10 | PASS | SKIPPED | SKIPPED | SKIPPED | SKIPPED | SKIPPED | +-------------------------------+--------------------+-------------------+-------------------------+----------------------+-------------------+------------------+ | Debian GNU/Linux 12 | PASS | SKIPPED | SKIPPED | SKIPPED | PASS | SKIPPED | +-------------------------------+--------------------+-------------------+-------------------------+----------------------+-------------------+------------------+ | Fedora Linux 42 | PASS | SKIPPED | SKIPPED | SKIPPED | PASS | PASS | +-------------------------------+--------------------+-------------------+-------------------------+----------------------+-------------------+------------------+ | openSUSE Leap 15.6 | PASS | SKIPPED | SKIPPED | SKIPPED | SKIPPED | SKIPPED | +-------------------------------+--------------------+-------------------+-------------------------+----------------------+-------------------+------------------+ | Red Hat Enterprise Linux 8.10 | PASS | SKIPPED | SKIPPED | SKIPPED | SKIPPED | SKIPPED | +-------------------------------+--------------------+-------------------+-------------------------+----------------------+-------------------+------------------+ | Red Hat Enterprise Linux 9.5 | PASS | SKIPPED | SKIPPED | SKIPPED | SKIPPED | SKIPPED | +-------------------------------+--------------------+-------------------+-------------------------+----------------------+-------------------+------------------+ | Ubuntu 22.04 | PASS | SKIPPED | SKIPPED | SKIPPED | PASS | SKIPPED | +-------------------------------+--------------------+-------------------+-------------------------+----------------------+-------------------+------------------+ | Windows Server 2022 | SKIPPED | PASS | PASS | PASS | SKIPPED | SKIPPED | +-------------------------------+--------------------+-------------------+-------------------------+----------------------+-------------------+------------------+ Ubuntu 20.04 Kernel: 4.19 Compiler: gcc gcc (Ubuntu 9.4.0-1ubuntu1~20.04.2) 9.4.0 FreeBSD 14.2 Kernel: 14.2-RELEASE Compiler: clang 18.1.6 CentOS Stream 9 Kernel: 5.15 Compiler: gcc gcc (GCC) 11.5.0 20240719 (Red Hat 11.5.0-11) CentOS Stream 10 Kernel: 5.15 Compiler: gcc gcc (GCC) 14.2.1 20250110 (Red Hat 14.2.1-8) Debian GNU/Linux 12 Kernel: 5.15 Compiler: gcc gcc (Debian 12.2.0-14+deb12u1) 12.2.0 Fedora Linux 42 Kernel: 5.15 Compiler: clang gcc (GCC) 15.2.1 20250808 (Red Hat 15.2.1-1) openSUSE Leap 15.6 Kernel: 5.15 Compiler: gcc gcc (SUSE Linux) 7.5.0 Red Hat Enterprise Linux 8.10 Kernel: 5.15 Compiler: gcc gcc (GCC) 8.5.0 20210514 (Red Hat 8.5.0-22) Red Hat Enterprise Linux 9.5 Kernel: 5.15 Compiler: gcc gcc (GCC) 11.5.0 20240719 (Red Hat 11.5.0-2) Ubuntu 22.04 Kernel: 5.15 Compiler: gcc gcc (Ubuntu 11.4.0-1ubuntu1~22.04) 11.4.0 Windows Server 2022 Kernel: 10.0.20348.2031 Compiler: clang 15.0.7, gcc 14.1.0 (MinGW), and MSVC VS 19.39.33521 To view detailed results, visit: https://lab.dpdk.org/results/dashboard/patchsets/34186/ UNH-IOL DPDK Community Lab To manage your email subscriptions, visit: https://lab.dpdk.org/results/dashboard/preferences/subscriptions/