From mboxrd@z Thu Jan 1 00:00:00 1970 Return-Path: Received: from mails.dpdk.org (mails.dpdk.org [217.70.189.124]) by inbox.dpdk.org (Postfix) with ESMTP id 4464B4887D for ; Wed, 1 Oct 2025 09:57:54 +0200 (CEST) Received: from mails.dpdk.org (localhost [127.0.0.1]) by mails.dpdk.org (Postfix) with ESMTP id 3F58B400EF; Wed, 1 Oct 2025 09:57:54 +0200 (CEST) Received: from mail-qt1-f225.google.com (mail-qt1-f225.google.com [209.85.160.225]) by mails.dpdk.org (Postfix) with ESMTP id BA8F6400EF for ; Wed, 1 Oct 2025 09:57:52 +0200 (CEST) Received: by mail-qt1-f225.google.com with SMTP id d75a77b69052e-4df81016e59so40962251cf.3 for ; Wed, 01 Oct 2025 00:57:52 -0700 (PDT) DKIM-Signature: v=1; a=rsa-sha256; c=relaxed/relaxed; d=iol.unh.edu; s=unh-iol; t=1759305472; x=1759910272; darn=dpdk.org; h=references:in-reply-to:cc:to:from:subject:message-id:date:from:to :cc:subject:date:message-id:reply-to; bh=fqbVGfNDh4t9qSmmiJpIKgTd2oNjeFQgo4mX6O4Fm5s=; b=D3wjd3NUEZGF3OW7jmH+OqeHTWXQWAlTg30R/dPRTZ5UQR6LTOGKh90X5LpJ8ES7aJ HIg5qu6081wPpu0kdCB838xKjIctTLbjurdzUlocOLTf3DEAIlUQ8Ef5bRUuN/Jr9cUb A8NhCc4gsYsNzTUVBRK8TXedTgfJu5yOJwFLQ= X-Google-DKIM-Signature: v=1; a=rsa-sha256; c=relaxed/relaxed; d=1e100.net; s=20230601; t=1759305472; x=1759910272; h=references:in-reply-to:cc:to:from:subject:message-id:date :x-gm-message-state:from:to:cc:subject:date:message-id:reply-to; bh=fqbVGfNDh4t9qSmmiJpIKgTd2oNjeFQgo4mX6O4Fm5s=; b=VOO5848+fEeoVc1uzm/6HrheGvqFHJfqNhNh34w6ZBCMHyf001tWoaVekeAwdJH5mt jIY0ppFIcgkZkpe7fmqqCY888gttHoKVx0AxEUPU9v02elMBn9FLrC6vZ/Hu+dziD+nc ldmrDXaEFI8Z9r97JN6ARsHl/LnxtTH4TDMwKSmFPdNGJdtOpW5xP6ajvq1SPC9Via0N MbxoathVwe89vI9teoaW9LZzRQ0s93JBJBI+cAmNaxPzOhxQ1EmpCpWcUk0wAxjbYLOj 6wySwLqmSZK8OBxAfNdj4kUP9BTWwCsIYQOTcjSAe38IMRHH+KJvtzl9aGxHjGoAI0c7 C1lg== X-Gm-Message-State: AOJu0YypomMIxmGG6D/+pcUiyodT+Y+HVZsHM0iUP1Q3QAGcYD7Imsw8 thA/u7SLixCez2gY2qyCaVRI36WE1UiV50Lafy5vlHl3o14qiV9yRwk+Cn+ol51XhFFwD8l3gVY 7zReOycYjtaWflUf17mxh7o/vPryFML20kHzIX+eJtUIL X-Gm-Gg: ASbGncunpVzjPIxLKiLTESu4gWAgdYbS6WsH1b8nbuE5Z1YLuX+ln5KWH3228zonv9C 0/rTuuzviX5hJQkAGRNj+NiOjlswXxWftXjf7MBHSN0w9EHWqVas8VsGe1eOmk90/TApTrRfaCJ 21cQ/GK0ITagNvmG0f9yneSCqXhvV0a21TzB2axiLLU0NBTQgrcCLzPR6MzTV9TBuOi7s0Afqc5 dwnTNcxDYNj3GH3Z20A2O7nlyFeBCJ31t9pTiQUgdL/LBTq/O3mog2jIhQ9kNWizwF0kwqKZTMn 5Tj4q3PxI4Qqy4N2WHROa4l5BhRoQQzjqmM4YLz2yDtGAdhiEKCtPJC2tISjR+BdgGUgy3fwJgM 4Vw== X-Google-Smtp-Source: AGHT+IGzBxnxouNo8bQokolPaWMWBS3lzZs/l/nHijIqpjs3rmVEFQD5uJ140QtSqiBwfrTx2av/wRFcHBZC X-Received: by 2002:ac8:7f42:0:b0:4de:5b49:dc94 with SMTP id d75a77b69052e-4e41c923fbdmr29634341cf.3.1759305472069; Wed, 01 Oct 2025 00:57:52 -0700 (PDT) Received: from postal.iol.unh.edu (postal.iol.unh.edu. [132.177.123.84]) by smtp-relay.gmail.com with ESMTPS id 6a1803df08f44-8016193ce9fsm10713176d6.21.2025.10.01.00.57.52 (version=TLS1_2 cipher=ECDHE-ECDSA-AES128-GCM-SHA256 bits=128/128); Wed, 01 Oct 2025 00:57:52 -0700 (PDT) X-Relaying-Domain: iol.unh.edu Date: Wed, 01 Oct 2025 00:57:52 -0700 (PDT) Message-ID: <68dcdf00.050a0220.aa48d.fa25SMTPIN_ADDED_MISSING@mx.google.com> Received: from [172.21.0.3] (unknown [172.18.0.240]) by postal.iol.unh.edu (Postfix) with ESMTP id 93E64604D420; Wed, 1 Oct 2025 03:57:51 -0400 (EDT) Subject: |SUCCESS| pw157156-157164 [PATCH] [v7,9/9] power: separate public an From: dpdklab@iol.unh.edu To: Test Report Cc: dpdk-test-reports@iol.unh.edu In-Reply-To: <20251001064512.2539269-10-david.marchand@redhat.com> References: <20251001064512.2539269-10-david.marchand@redhat.com> Content-Type: text/plain X-BeenThere: test-report@dpdk.org X-Mailman-Version: 2.1.29 Precedence: list List-Id: automatic DPDK test reports List-Unsubscribe: , List-Archive: List-Post: List-Help: List-Subscribe: , Errors-To: test-report-bounces@dpdk.org Test-Label: iol-unit-amd64-testing Test-Status: SUCCESS http://dpdk.org/patch/157164 _Testing PASS_ Submitter: David Marchand Date: Wednesday, October 01 2025 06:45:11 DPDK git baseline: Repo:dpdk Branch: master CommitID:f3878b615e69a12087a6c5d212723478cfc79c31 157156-157164 --> testing pass Upstream job id: Generic-VM-Unit-Test-DPDK#31514 Test environment and result as below: +-------------------------------+----------------+ | Environment | dpdk_unit_test | +===============================+================+ | Windows Server 2022 | PASS | +-------------------------------+----------------+ | CentOS Stream 9 | PASS | +-------------------------------+----------------+ | Debian GNU/Linux 12 | PASS | +-------------------------------+----------------+ | CentOS Stream 10 | PASS | +-------------------------------+----------------+ | Fedora Linux 40 | PASS | +-------------------------------+----------------+ | Fedora Linux 41 | PASS | +-------------------------------+----------------+ | Red Hat Enterprise Linux 8.10 | PASS | +-------------------------------+----------------+ | Fedora Linux 42 | PASS | +-------------------------------+----------------+ | Ubuntu 22.04 | PASS | +-------------------------------+----------------+ | Red Hat Enterprise Linux 9.5 | PASS | +-------------------------------+----------------+ | Ubuntu 20.04 | PASS | +-------------------------------+----------------+ | Ubuntu 24.04 | PASS | +-------------------------------+----------------+ Windows Server 2022 Kernel: 10.0.20348.2031 Compiler: clang 15.0.7, gcc 14.1.0 (MinGW), and MSVC VS 19.39.33521 CentOS Stream 9 Kernel: 5.15 Compiler: gcc gcc (GCC) 11.5.0 20240719 (Red Hat 11.5.0-11) Debian GNU/Linux 12 Kernel: 5.15 Compiler: gcc gcc (Debian 12.2.0-14+deb12u1) 12.2.0 CentOS Stream 10 Kernel: 5.15 Compiler: gcc gcc (GCC) 14.2.1 20250110 (Red Hat 14.2.1-8) Fedora Linux 40 Kernel: 5.15 Compiler: clang gcc (GCC) 14.2.1 20240912 (Red Hat 14.2.1-3) Fedora Linux 41 Kernel: 5.15 Compiler: gcc gcc (GCC) 14.3.1 20250523 (Red Hat 14.3.1-1) Red Hat Enterprise Linux 8.10 Kernel: 5.15 Compiler: gcc gcc (GCC) 8.5.0 20210514 (Red Hat 8.5.0-22) Fedora Linux 42 Kernel: 5.15 Compiler: clang gcc (GCC) 15.2.1 20250808 (Red Hat 15.2.1-1) Ubuntu 22.04 Kernel: 5.15 Compiler: gcc gcc (Ubuntu 11.4.0-1ubuntu1~22.04) 11.4.0 Red Hat Enterprise Linux 9.5 Kernel: 5.15 Compiler: gcc gcc (GCC) 11.5.0 20240719 (Red Hat 11.5.0-2) Ubuntu 20.04 Kernel: 5.15 Compiler: gcc gcc (Ubuntu 9.4.0-1ubuntu1~20.04.2) 9.4.0 Ubuntu 24.04 Kernel: 5.15 Compiler: gcc gcc (Ubuntu 13.3.0-6ubuntu2~24.04) 13.3.0 To view detailed results, visit: https://lab.dpdk.org/results/dashboard/patchsets/34188/ UNH-IOL DPDK Community Lab To manage your email subscriptions, visit: https://lab.dpdk.org/results/dashboard/preferences/subscriptions/