From mboxrd@z Thu Jan 1 00:00:00 1970 Return-Path: Received: from mails.dpdk.org (mails.dpdk.org [217.70.189.124]) by inbox.dpdk.org (Postfix) with ESMTP id 728684887D for ; Wed, 1 Oct 2025 09:59:21 +0200 (CEST) Received: from mails.dpdk.org (localhost [127.0.0.1]) by mails.dpdk.org (Postfix) with ESMTP id 6CD02400EF; Wed, 1 Oct 2025 09:59:21 +0200 (CEST) Received: from mail-il1-f227.google.com (mail-il1-f227.google.com [209.85.166.227]) by mails.dpdk.org (Postfix) with ESMTP id 0FE95400EF for ; Wed, 1 Oct 2025 09:59:20 +0200 (CEST) Received: by mail-il1-f227.google.com with SMTP id e9e14a558f8ab-42d857dcf92so1050295ab.1 for ; Wed, 01 Oct 2025 00:59:20 -0700 (PDT) DKIM-Signature: v=1; a=rsa-sha256; c=relaxed/relaxed; d=iol.unh.edu; s=unh-iol; t=1759305559; x=1759910359; darn=dpdk.org; h=references:in-reply-to:cc:to:from:subject:message-id:date:from:to :cc:subject:date:message-id:reply-to; bh=Q7OLLpYwksrLrz5iBkyNVZAuDbR8Mn+/JxIVNlcfIZg=; b=iNY3BWcTwcQSW/hkBZw9bkNOcVDDjiXknhB8Rkyjxmah4CgSUEvBBvjozZV3/Z1pz+ 5NCLwbaybqAceqDAfJ9VxGCxLcHGR+ZFBZXqcNvur9yujXRhHj+qywhJLORCtj11Is7e c7dWukfhOFqP5VZn5BbmepYjOJTUcFym7HOvo= X-Google-DKIM-Signature: v=1; a=rsa-sha256; c=relaxed/relaxed; d=1e100.net; s=20230601; t=1759305559; x=1759910359; h=references:in-reply-to:cc:to:from:subject:message-id:date :x-gm-message-state:from:to:cc:subject:date:message-id:reply-to; bh=Q7OLLpYwksrLrz5iBkyNVZAuDbR8Mn+/JxIVNlcfIZg=; b=Azb71ODNJG3CPoKyHZHirIo6oCdyxr6q1h0iIW0bKbwG4eGmmR/myCia/BnkYvwaQ3 xwnzK3B6qyYabNX/U7x3ZIQc6QxWDCdr1A/Bkdkv2EDVYiAo4OjV8cBk1EiL/IpCaml8 SAhRiPUNhjqvOIjqQ5grDfn+WgUn91AeZhyH/KSL6PJqnWSDFRI/vqLpxycnU1c+5I1l pMb56Nu5y6ajlthHqL8JR2NA8cISdHqM1tM+dNxsDzHT8KH/8q0fsz1/GsUuo0jynPYW K0D4AxF84htmUrHg1KpBBTryZ4IP/2BEBqcvPjU0zgAmIXyDxiIVv+TfZ5m6fLqnrWbU +Dug== X-Gm-Message-State: AOJu0YwFeTrutXmGAZn6BLWFSKy3s+BT8SAL/I94Mbpi3dVRngE6Nb7+ V7B7HrHYOQCIq0VDgPQLz5LSegDi5lXjgX4L+eMT3bMm1DSVgITUcH6FBF9J0ZJqLEjVXANjzPF uyakUMv7ZR0s62UzjojQaoIQZgJGeEo0TbQXUV6jAn7i1 X-Gm-Gg: ASbGncs6AXgEs3q5M17VXIattr7CdXzCu2oBd7O8igAl/OvC3YzVh6P0GXWkHqy+B3d 1laEB3xcK/oHP8VFcGudRZpI2tGGkkN1YMvtepDa43GlqaL1dqtMRhgmJtFJw26lh8Vocfj2lYa 9B5gAFp99ld3FgpU5aILNqhS95RJ6+QzJ14ANu1XJBY9YCw0Hm9g+FTNUSFj1TI/HJ/6cn8PPT5 ZCbBov4CcnwjtqPbEJJFBxibMPwdRDztf8rW7PRIbMYTp40Vmp9ukGLBsmBu1u/TZqzlzOOtVbT UAj8FeQlKFFf02qP21duisasfmrVNypFGEyKd3MHPnyi9fBGZ4LIB5xx2cCi+IJRLDvHt9J+Uiu JKg== X-Google-Smtp-Source: AGHT+IHof/yQr68r5cIQgWUNMB5H6l2sr1g9wU48gyIpY7JBwyTuGmQEYLST7+0jhALfYweXdkMQMF4IeF9B X-Received: by 2002:a05:6e02:1887:b0:428:306a:175d with SMTP id e9e14a558f8ab-42d8167fd3dmr36696195ab.28.1759305559260; Wed, 01 Oct 2025 00:59:19 -0700 (PDT) Received: from postal.iol.unh.edu (postal.iol.unh.edu. [132.177.123.84]) by smtp-relay.gmail.com with ESMTPS id e9e14a558f8ab-42d86db0f12sm290165ab.7.2025.10.01.00.59.19 (version=TLS1_2 cipher=ECDHE-ECDSA-AES128-GCM-SHA256 bits=128/128); Wed, 01 Oct 2025 00:59:19 -0700 (PDT) X-Relaying-Domain: iol.unh.edu Date: Wed, 01 Oct 2025 00:59:19 -0700 (PDT) Message-ID: <68dcdf57.050a0220.82b4f.1bd6SMTPIN_ADDED_MISSING@mx.google.com> Received: from [172.21.0.2] (unknown [172.18.0.240]) by postal.iol.unh.edu (Postfix) with ESMTP id CB858604D420; Wed, 1 Oct 2025 03:59:18 -0400 (EDT) Subject: |SUCCESS| pw157156-157164 [PATCH] [v7,9/9] power: separate public an From: dpdklab@iol.unh.edu To: Test Report Cc: dpdk-test-reports@iol.unh.edu In-Reply-To: <20251001064512.2539269-10-david.marchand@redhat.com> References: <20251001064512.2539269-10-david.marchand@redhat.com> Content-Type: text/plain X-BeenThere: test-report@dpdk.org X-Mailman-Version: 2.1.29 Precedence: list List-Id: automatic DPDK test reports List-Unsubscribe: , List-Archive: List-Post: List-Help: List-Subscribe: , Errors-To: test-report-bounces@dpdk.org Test-Label: iol-compile-amd64-testing Test-Status: SUCCESS http://dpdk.org/patch/157164 _Testing PASS_ Submitter: David Marchand Date: Wednesday, October 01 2025 06:45:11 DPDK git baseline: Repo:dpdk Branch: master CommitID:f3878b615e69a12087a6c5d212723478cfc79c31 157156-157164 --> testing pass Upstream job id: Windows-Compile-DPDK-Native#31346 Test environment and result as below: +---------------------+-------------------------+--------------------+-------------------+----------------------+ | Environment | dpdk_llvm_clang_compile | dpdk_meson_compile | dpdk_msvc_compile | dpdk_mingw64_compile | +=====================+=========================+====================+===================+======================+ | Windows Server 2022 | PASS | SKIPPED | PASS | PASS | +---------------------+-------------------------+--------------------+-------------------+----------------------+ | Ubuntu 20.04 | SKIPPED | PASS | SKIPPED | SKIPPED | +---------------------+-------------------------+--------------------+-------------------+----------------------+ | FreeBSD 14.2 | SKIPPED | PASS | SKIPPED | SKIPPED | +---------------------+-------------------------+--------------------+-------------------+----------------------+ Windows Server 2022 Kernel: 10.0.20348.2031 Compiler: clang 15.0.7, gcc 14.1.0 (MinGW), and MSVC VS 19.39.33521 Ubuntu 20.04 Kernel: 4.19 Compiler: gcc gcc (Ubuntu 9.4.0-1ubuntu1~20.04.2) 9.4.0 FreeBSD 14.2 Kernel: 14.2-RELEASE Compiler: clang 18.1.6 To view detailed results, visit: https://lab.dpdk.org/results/dashboard/patchsets/34188/ UNH-IOL DPDK Community Lab To manage your email subscriptions, visit: https://lab.dpdk.org/results/dashboard/preferences/subscriptions/