From mboxrd@z Thu Jan 1 00:00:00 1970 Return-Path: Received: from mails.dpdk.org (mails.dpdk.org [217.70.189.124]) by inbox.dpdk.org (Postfix) with ESMTP id C38EE4887F for ; Wed, 1 Oct 2025 10:10:14 +0200 (CEST) Received: from mails.dpdk.org (localhost [127.0.0.1]) by mails.dpdk.org (Postfix) with ESMTP id 8E183400EF; Wed, 1 Oct 2025 10:10:14 +0200 (CEST) Received: from mail-pg1-f226.google.com (mail-pg1-f226.google.com [209.85.215.226]) by mails.dpdk.org (Postfix) with ESMTP id 2DD8B400EF for ; Wed, 1 Oct 2025 10:10:13 +0200 (CEST) Received: by mail-pg1-f226.google.com with SMTP id 41be03b00d2f7-b54dd647edcso5856647a12.1 for ; Wed, 01 Oct 2025 01:10:13 -0700 (PDT) DKIM-Signature: v=1; a=rsa-sha256; c=relaxed/relaxed; d=iol.unh.edu; s=unh-iol; t=1759306212; x=1759911012; darn=dpdk.org; h=references:in-reply-to:cc:to:from:subject:message-id:date:from:to :cc:subject:date:message-id:reply-to; bh=x3mfqjbGcLV1UXiqtieERtDoqImRfPbjitFlZyjxWQA=; b=N8PIsJXFzqjyM1JwzQLYitA4RXfgZe0N5hTtW/IPWssMjb+6XP9q6J8ZVAmd9HRmAs Paq4qCd9NPHfEjzfdrpV4RNmWXODYWQkw95o5g5gi0h3RX9AZjdpUtxPsnDUCubRBpgB h9G5CMWIQB2pLQgZ6A4Ej924s0boHNGJSJtH4= X-Google-DKIM-Signature: v=1; a=rsa-sha256; c=relaxed/relaxed; d=1e100.net; s=20230601; t=1759306212; x=1759911012; h=references:in-reply-to:cc:to:from:subject:message-id:date :x-gm-message-state:from:to:cc:subject:date:message-id:reply-to; bh=x3mfqjbGcLV1UXiqtieERtDoqImRfPbjitFlZyjxWQA=; b=dDjP4ySoB6hnLUnPljbjYOIlSVmyl2tLUIlA/w60G5L0DMA5KgA525by/ip/Zhnyff oCfywfWPn3wSjFXV1T+DQe4DJrAU1lqpXphtq7rm5RIO/m+VdNElOIBTPHk/8aZFwQmw A0ZvSE86nR5NShu/iMVJybQg9Ao+HQ4ZPS7+ylixwmSF++uD2XH/ZJGjvHhmKCdJV5uB QBYg3tgo6m3kpsNKksoXYciNzyCFrpmlpmbe0SPcK3No5qHxjAEgceLqZh1x+P71Crls NUE7dCZ1pb6QnY0ErOkOgDiW2xMlHBaOUpUlpjX+ZapohkQL0v9rhCfiGi101W+rX8qZ BKJQ== X-Gm-Message-State: AOJu0YzB7ocgpjvpFGRGTUtBE31MTAsVX8DL3JPV4/T1uPdN8tgVD5qN Svwx6w/MTXRLxeTzm8hfPYN4bxPgUqMor1UZwgSWGuPBcAM6bW+/auzppJZRs1ze094e9i6BEYz u4LZ3cPt6Ho6nMBqwWo0cDtJwfK5y84MQV3j9Uxw7zHjdpd61K38cGM+ay8yh X-Gm-Gg: ASbGncuhB3IauI3FWw4R9iCpPpnCDo8UDqnb8WRtTO3ECnEZLHagW1CxFN0JR0MfH7w GL37hLkJP7+KlWWvfbqMtTLoYja27OQvVFZ01S5eBMve9r5jrQEK5Pn8yUmVGSfEA5FA03ETibB LbgJuh/SP5t9XnUh6Bnq3goYY/StgF84W9zkgX2kdtX5HnLajBunCWfUTU1wFtUVsvES+x4hw8N es2gGaT5qfrdybCSLrEo70sHTALhIv2mA8l+cMNn0bm6S4YDOEcp80gq8t2Q8YcqR9ofN6IulVs 6gzFHO8I9mauOh/tE5WB6BpZsQo0IrtoN4WxuVuwBE/mk9y7wmoo7k4= X-Google-Smtp-Source: AGHT+IGnrXqznYFdbSmDN/jxR8hG/9eFgPjg6OxPvy27MC7/+AtYQLG6vGU03b145jWeQYAw7khmA/R9S1j+ X-Received: by 2002:a17:902:ef0c:b0:24c:da3b:7376 with SMTP id d9443c01a7336-28e7f2dc9d5mr32813835ad.26.1759306212256; Wed, 01 Oct 2025 01:10:12 -0700 (PDT) Received: from postal.iol.unh.edu (postal.iol.unh.edu. [2606:4100:3880:1234::84]) by smtp-relay.gmail.com with ESMTPS id d9443c01a7336-27ed66dcf5dsm14547395ad.19.2025.10.01.01.10.12 (version=TLS1_2 cipher=ECDHE-ECDSA-AES128-GCM-SHA256 bits=128/128); Wed, 01 Oct 2025 01:10:12 -0700 (PDT) X-Relaying-Domain: iol.unh.edu Date: Wed, 01 Oct 2025 01:10:12 -0700 (PDT) Message-ID: <68dce1e4.170a0220.3a164b.73b8SMTPIN_ADDED_MISSING@mx.google.com> Received: from [172.21.0.7] (unknown [172.18.0.240]) by postal.iol.unh.edu (Postfix) with ESMTP id 463B5604D420; Wed, 1 Oct 2025 04:10:11 -0400 (EDT) Subject: |SUCCESS| pw157156-157164 [PATCH] [v7,9/9] power: separate public an From: dpdklab@iol.unh.edu To: Test Report Cc: dpdk-test-reports@iol.unh.edu In-Reply-To: <20251001064512.2539269-10-david.marchand@redhat.com> References: <20251001064512.2539269-10-david.marchand@redhat.com> Content-Type: text/plain X-BeenThere: test-report@dpdk.org X-Mailman-Version: 2.1.29 Precedence: list List-Id: automatic DPDK test reports List-Unsubscribe: , List-Archive: List-Post: List-Help: List-Subscribe: , Errors-To: test-report-bounces@dpdk.org Test-Label: iol-unit-amd64-testing Test-Status: SUCCESS http://dpdk.org/patch/157164 _Testing PASS_ Submitter: David Marchand Date: Wednesday, October 01 2025 06:45:11 DPDK git baseline: Repo:dpdk Branch: master CommitID:f3878b615e69a12087a6c5d212723478cfc79c31 157156-157164 --> testing pass Upstream job id: Generic-VM-Unit-Test-DPDK#31515 Test environment and result as below: +-------------------------------+----------------+ | Environment | dpdk_unit_test | +===============================+================+ | Windows Server 2022 | PASS | +-------------------------------+----------------+ | CentOS Stream 9 | PASS | +-------------------------------+----------------+ | Debian GNU/Linux 12 | PASS | +-------------------------------+----------------+ | CentOS Stream 10 | PASS | +-------------------------------+----------------+ | Fedora Linux 40 | PASS | +-------------------------------+----------------+ | Fedora Linux 41 | PASS | +-------------------------------+----------------+ | Red Hat Enterprise Linux 8.10 | PASS | +-------------------------------+----------------+ | Fedora Linux 42 | PASS | +-------------------------------+----------------+ | Ubuntu 22.04 | PASS | +-------------------------------+----------------+ | Red Hat Enterprise Linux 9.5 | PASS | +-------------------------------+----------------+ | Ubuntu 20.04 | PASS | +-------------------------------+----------------+ | Ubuntu 24.04 | PASS | +-------------------------------+----------------+ Windows Server 2022 Kernel: 10.0.20348.2031 Compiler: clang 15.0.7, gcc 14.1.0 (MinGW), and MSVC VS 19.39.33521 CentOS Stream 9 Kernel: 5.15 Compiler: gcc gcc (GCC) 11.5.0 20240719 (Red Hat 11.5.0-11) Debian GNU/Linux 12 Kernel: 5.15 Compiler: gcc gcc (Debian 12.2.0-14+deb12u1) 12.2.0 CentOS Stream 10 Kernel: 5.15 Compiler: gcc gcc (GCC) 14.2.1 20250110 (Red Hat 14.2.1-8) Fedora Linux 40 Kernel: 5.15 Compiler: clang gcc (GCC) 14.2.1 20240912 (Red Hat 14.2.1-3) Fedora Linux 41 Kernel: 5.15 Compiler: gcc gcc (GCC) 14.3.1 20250523 (Red Hat 14.3.1-1) Red Hat Enterprise Linux 8.10 Kernel: 5.15 Compiler: gcc gcc (GCC) 8.5.0 20210514 (Red Hat 8.5.0-22) Fedora Linux 42 Kernel: 5.15 Compiler: clang gcc (GCC) 15.2.1 20250808 (Red Hat 15.2.1-1) Ubuntu 22.04 Kernel: 5.15 Compiler: gcc gcc (Ubuntu 11.4.0-1ubuntu1~22.04) 11.4.0 Red Hat Enterprise Linux 9.5 Kernel: 5.15 Compiler: gcc gcc (GCC) 11.5.0 20240719 (Red Hat 11.5.0-2) Ubuntu 20.04 Kernel: 5.15 Compiler: gcc gcc (Ubuntu 9.4.0-1ubuntu1~20.04.2) 9.4.0 Ubuntu 24.04 Kernel: 5.15 Compiler: gcc gcc (Ubuntu 13.3.0-6ubuntu2~24.04) 13.3.0 To view detailed results, visit: https://lab.dpdk.org/results/dashboard/patchsets/34188/ UNH-IOL DPDK Community Lab To manage your email subscriptions, visit: https://lab.dpdk.org/results/dashboard/preferences/subscriptions/