From mboxrd@z Thu Jan 1 00:00:00 1970 Return-Path: Received: from mails.dpdk.org (mails.dpdk.org [217.70.189.124]) by inbox.dpdk.org (Postfix) with ESMTP id 746A34887F for ; Wed, 1 Oct 2025 11:05:59 +0200 (CEST) Received: from mails.dpdk.org (localhost [127.0.0.1]) by mails.dpdk.org (Postfix) with ESMTP id 3CA2B402E1; Wed, 1 Oct 2025 11:05:59 +0200 (CEST) Received: from mail-qk1-f227.google.com (mail-qk1-f227.google.com [209.85.222.227]) by mails.dpdk.org (Postfix) with ESMTP id 9500E402E1 for ; Wed, 1 Oct 2025 11:05:57 +0200 (CEST) Received: by mail-qk1-f227.google.com with SMTP id af79cd13be357-8593bcdd909so729192585a.3 for ; Wed, 01 Oct 2025 02:05:57 -0700 (PDT) DKIM-Signature: v=1; a=rsa-sha256; c=relaxed/relaxed; d=iol.unh.edu; s=unh-iol; t=1759309557; x=1759914357; darn=dpdk.org; h=references:in-reply-to:cc:to:from:subject:message-id:date:from:to :cc:subject:date:message-id:reply-to; bh=mvWZrWignVJnoK7HUav2IaGPe9Q1vOSYHTK2w8mZnjA=; b=Baug5z1eBd+U5aS+832vf4idZ1R8bFHh8AX0/9AQ9CkgNre2CwZw66DZC6wqa+vAl8 qKLZ9yTlB1VpeJhIAU4v3z4IE9ZdJ8zl1yA9XVV+vsD78dYPAXFPI4GrH74IbZf1qme3 Rd8lX56czaqUHrB/TWN4qTGJOGu8Cb9YSXnYY= X-Google-DKIM-Signature: v=1; a=rsa-sha256; c=relaxed/relaxed; d=1e100.net; s=20230601; t=1759309557; x=1759914357; h=references:in-reply-to:cc:to:from:subject:message-id:date :x-gm-message-state:from:to:cc:subject:date:message-id:reply-to; bh=mvWZrWignVJnoK7HUav2IaGPe9Q1vOSYHTK2w8mZnjA=; b=dw8rp5Pbnd5OoZR2tEecz8jiOIkrEIekvAXXLokKVZPUk0k0ZqvhmJGXHVys/wrbgM qZ38YK/QZSZ6bJ+EixK3r9ZEchQM88SQlE4ua5wWBztmmz8UAZbc9+mCduDeJ6CAljjm bZr+D0ATZakpS29AblxLapauc4JD1HwRKhYJwo00tMN/167cDWPVNJTEi/NAs6PA3/Jc E/8cDWX/oI3SxnUJMUy/yVQEXSTsWmc1dhy5fTp5TZprNhmHYEFiy0YV43lYd2iTxAJ/ dFsDTr7jTMcsbh1CJ9fiYwJIywbJsFAO3uwzAmk9Pgi47ZoaLwGd9y34G43lQ4i+L2TU fg8A== X-Gm-Message-State: AOJu0Yy19NjyNvp60oL4qw8s7IFVeK2Wl7pIOirV3wUdywzONNKehaau /e0ulU+mn6tXGML0S+2jk60IhAF0uC/u8qAbNz0XwGhAZwJsd21fBxWnWer08gAzcM47FbYLIX3 aTPF3NvAnYmKKzgxxQyto6RvYoVmXoC56H7M3juvrctiQPCXv926XDFz8e/I6 X-Gm-Gg: ASbGncs6p+LOQKuKXlgcgsWIWDSdkPnsRfpK/c93eA5O8KqJHyADsSZrvOuErqY4XV0 m1nuWFSlBXWAx8bcxLlF1m4acwhyp5KNjibUKi3efY4pxC763b6Y9EE89MTfb6L05OBsNN2zdSz aYh8ybFmZnSr/tfLFMOQXShMrQLLdYD38oDWWEs8iGol1YqSk2c3EpzkzdZSaADMemH51R7Ar8F 8FjccPY8jvQgtRstgkftCRk2DCh0X0krYDGaLGph300tDYWHnbejGCZotXcg8qk3vOsnnSxKZeM vJq7Lko6zJViTnf0vpGp/57GQdO5GHA1a7bz8N6jcElce4cU5KE9qFk= X-Google-Smtp-Source: AGHT+IHY5Ita2vBTJyOFsMUbjg1vfDBAMMreGLSIeB78q70VcesIP8UdxkXiCV2AiB33nUN7K4BL5EyWoXc7 X-Received: by 2002:a05:6214:f6d:b0:7cd:91ff:6214 with SMTP id 6a1803df08f44-873a988f900mr33749026d6.62.1759309556919; Wed, 01 Oct 2025 02:05:56 -0700 (PDT) Received: from postal.iol.unh.edu (postal.iol.unh.edu. [2606:4100:3880:1234::84]) by smtp-relay.gmail.com with ESMTPS id 6a1803df08f44-8016851881esm11758456d6.34.2025.10.01.02.05.56 (version=TLS1_2 cipher=ECDHE-ECDSA-AES128-GCM-SHA256 bits=128/128); Wed, 01 Oct 2025 02:05:56 -0700 (PDT) X-Relaying-Domain: iol.unh.edu Date: Wed, 01 Oct 2025 02:05:56 -0700 (PDT) Message-ID: <68dceef4.050a0220.30e0a0.6c52SMTPIN_ADDED_MISSING@mx.google.com> Received: from [172.21.0.3] (unknown [172.18.0.240]) by postal.iol.unh.edu (Postfix) with ESMTP id A0A236051830; Wed, 1 Oct 2025 05:05:56 -0400 (EDT) Subject: |SUCCESS| pw157165-157167 [PATCH] [v2,3/3] app/test: add ML crypto t From: dpdklab@iol.unh.edu To: Test Report Cc: dpdk-test-reports@iol.unh.edu In-Reply-To: <20251001073758.1295-4-gmuthukrishn@marvell.com> References: <20251001073758.1295-4-gmuthukrishn@marvell.com> Content-Type: text/plain X-BeenThere: test-report@dpdk.org X-Mailman-Version: 2.1.29 Precedence: list List-Id: automatic DPDK test reports List-Unsubscribe: , List-Archive: List-Post: List-Help: List-Subscribe: , Errors-To: test-report-bounces@dpdk.org Test-Label: iol-compile-amd64-testing Test-Status: SUCCESS http://dpdk.org/patch/157167 _Testing PASS_ Submitter: Gowrishankar Muthukrishnan Date: Wednesday, October 01 2025 07:37:55 DPDK git baseline: Repo:dpdk Branch: master CommitID:f3878b615e69a12087a6c5d212723478cfc79c31 157165-157167 --> testing pass Upstream job id: Windows-Compile-DPDK-Native#31348 Test environment and result as below: +---------------------+--------------------+-------------------------+-------------------+----------------------+ | Environment | dpdk_meson_compile | dpdk_llvm_clang_compile | dpdk_msvc_compile | dpdk_mingw64_compile | +=====================+====================+=========================+===================+======================+ | Ubuntu 20.04 | PASS | SKIPPED | SKIPPED | SKIPPED | +---------------------+--------------------+-------------------------+-------------------+----------------------+ | FreeBSD 14.2 | PASS | SKIPPED | SKIPPED | SKIPPED | +---------------------+--------------------+-------------------------+-------------------+----------------------+ | Windows Server 2022 | SKIPPED | PASS | PASS | PASS | +---------------------+--------------------+-------------------------+-------------------+----------------------+ Ubuntu 20.04 Kernel: 4.19 Compiler: gcc gcc (Ubuntu 9.4.0-1ubuntu1~20.04.2) 9.4.0 FreeBSD 14.2 Kernel: 14.2-RELEASE Compiler: clang 18.1.6 Windows Server 2022 Kernel: 10.0.20348.2031 Compiler: clang 15.0.7, gcc 14.1.0 (MinGW), and MSVC VS 19.39.33521 To view detailed results, visit: https://lab.dpdk.org/results/dashboard/patchsets/34189/ UNH-IOL DPDK Community Lab To manage your email subscriptions, visit: https://lab.dpdk.org/results/dashboard/preferences/subscriptions/