From mboxrd@z Thu Jan 1 00:00:00 1970 Return-Path: Received: from mails.dpdk.org (mails.dpdk.org [217.70.189.124]) by inbox.dpdk.org (Postfix) with ESMTP id B48AD4887F for ; Wed, 1 Oct 2025 11:18:11 +0200 (CEST) Received: from mails.dpdk.org (localhost [127.0.0.1]) by mails.dpdk.org (Postfix) with ESMTP id B027540657; Wed, 1 Oct 2025 11:18:11 +0200 (CEST) Received: from mail-il1-f228.google.com (mail-il1-f228.google.com [209.85.166.228]) by mails.dpdk.org (Postfix) with ESMTP id CD28A40657 for ; Wed, 1 Oct 2025 11:18:10 +0200 (CEST) Received: by mail-il1-f228.google.com with SMTP id e9e14a558f8ab-425911e5661so28143015ab.1 for ; Wed, 01 Oct 2025 02:18:10 -0700 (PDT) DKIM-Signature: v=1; a=rsa-sha256; c=relaxed/relaxed; d=iol.unh.edu; s=unh-iol; t=1759310290; x=1759915090; darn=dpdk.org; h=references:in-reply-to:cc:to:from:subject:message-id:date:from:to :cc:subject:date:message-id:reply-to; bh=enyubtS6DxeeIN4wykJ59/EPQ8dRbpW+o247Fg3de9o=; b=gMiqVA1PaCqmocQvc1qaKQi2jyEW8FBmrRIbm4UaDyy82H1g1EYKmhR5oPcVfRB8+E b6LFbyx4rD2zacrxtKT7gmNFnDWI/+NUoBklvnJkKudxbUbtDMkxxUobvcvMLzLtac+Y B8qMazXRlkk4LhzpDP9gHT3+xbNOIlz0lZfvI= X-Google-DKIM-Signature: v=1; a=rsa-sha256; c=relaxed/relaxed; d=1e100.net; s=20230601; t=1759310290; x=1759915090; h=references:in-reply-to:cc:to:from:subject:message-id:date :x-gm-message-state:from:to:cc:subject:date:message-id:reply-to; bh=enyubtS6DxeeIN4wykJ59/EPQ8dRbpW+o247Fg3de9o=; b=F5Ab8nwEb9QrMuBPUWYkq/EYYAZm0avOuQwwQBUUTw34GRN9okRcJ9kqsSLLGBySUu U9KONHHtBGakap7UufFD/3pJltmiHpbXAhMHT+PYqDQdDIX5/2Q48HDgsualLIpmmQXJ rPEeWaSl2ncFGon1PCte1kaK/5mnWyHvGZp03Aio9u5FEOkIGhaEz7NHeUcJqDawloX4 2iqThEgyRXSOCQiQB4N2bI3jNnHKlZRvAstNPohAH/qcdG8ervT3JfwGT0AdEULtOMPS TzllI8sH6kR3CzN27CBLyAu/sv247d0poNCWR9v44iDyyj1PoopTC2XqzaVFLB9ZvZKc g2Kg== X-Gm-Message-State: AOJu0Yx2d0taq6KXvPCJDdDRMwPoPmF5TaarUBMImtDcWVpsS6+kLSHa qOCU865DJSkpzkwEwwJVAaq1JUNMxMgYTBxcnQ6Fouu9JVwwvy7QS0nRbNohtvB46iobe93MC5o 3NN6vU1M/+sjyJQZT+BeybQf1zWtfpoy369AjvPs5qim2 X-Gm-Gg: ASbGncuu8mMtwM0wGfe2N+5lIKigwKr7YTj7AGNv/wwSIgr/yOLM8YX4QebNHg65w8k PtshVnpfYW5Hisw9mcYijCWcFm+UVypJuWtuou4W8ZfWqsISIsFSQu6HrnQam6BDaribgsm5SvN VJMMNx9BX+/2ue/fgXL3f3f+HTCuKoaNZ1kKAtslXPNj7LmV46BOa1hyDGBzcKZs+Kmoci8llph cJKIlRUlJY3oIyxMNYeJ0G5bbBFMA177rsckTf0SCHBMZeX6f40DPc5rvTYiiREolMyG8aLYVN0 6rMDhjezkiaGhZYxqanp52R3bHoFMgLK7qqsH7sJzVsr7siqBbzN6Sq2wOI+t7ERSdR1zTxgbUr xWg== X-Google-Smtp-Source: AGHT+IHfwe8UDhz5l/TPy1I/hi61VzD5Vu7JExJmkMtX+XxHcwunRaAwoW+fsJltx4CdDFeowQ30XXcKWNb4 X-Received: by 2002:a05:6e02:1fc4:b0:42a:cc5e:bde5 with SMTP id e9e14a558f8ab-42d8161765bmr37053935ab.21.1759310290094; Wed, 01 Oct 2025 02:18:10 -0700 (PDT) Received: from postal.iol.unh.edu (postal.iol.unh.edu. [132.177.123.84]) by smtp-relay.gmail.com with ESMTPS id e9e14a558f8ab-42d87d83e9csm230385ab.3.2025.10.01.02.18.10 (version=TLS1_2 cipher=ECDHE-ECDSA-AES128-GCM-SHA256 bits=128/128); Wed, 01 Oct 2025 02:18:10 -0700 (PDT) X-Relaying-Domain: iol.unh.edu Date: Wed, 01 Oct 2025 02:18:10 -0700 (PDT) Message-ID: <68dcf1d2.050a0220.1f98c3.1566SMTPIN_ADDED_MISSING@mx.google.com> Received: from [172.21.0.2] (unknown [172.18.0.240]) by postal.iol.unh.edu (Postfix) with ESMTP id A19866051830; Wed, 1 Oct 2025 05:18:09 -0400 (EDT) Subject: |SUCCESS| pw157168-157169 [PATCH] [v5,2/2] net/idpf: enable AVX2 for From: dpdklab@iol.unh.edu To: Test Report Cc: dpdk-test-reports@iol.unh.edu, Bruce Richardson In-Reply-To: <20251001075609.2608021-3-shaiq.wani@intel.com> References: <20251001075609.2608021-3-shaiq.wani@intel.com> Content-Type: text/plain X-BeenThere: test-report@dpdk.org X-Mailman-Version: 2.1.29 Precedence: list List-Id: automatic DPDK test reports List-Unsubscribe: , List-Archive: List-Post: List-Help: List-Subscribe: , Errors-To: test-report-bounces@dpdk.org Test-Label: iol-unit-amd64-testing Test-Status: SUCCESS http://dpdk.org/patch/157169 _Testing PASS_ Submitter: Shaiq Wani Date: Wednesday, October 01 2025 07:56:09 DPDK git baseline: Repo:dpdk-next-net-intel Branch: master CommitID:9845e5848bbe337306fb6ae2a6b1ce5e6ab5b714 157168-157169 --> testing pass Upstream job id: Generic-Unit-Test-DPDK#377500 Test environment and result as below: +-------------------------------+----------------+ | Environment | dpdk_unit_test | +===============================+================+ | CentOS Stream 9 | PASS | +-------------------------------+----------------+ | Fedora Linux 40 | PASS | +-------------------------------+----------------+ | CentOS Stream 10 | PASS | +-------------------------------+----------------+ | Debian GNU/Linux 12 | PASS | +-------------------------------+----------------+ | Fedora Linux 41 | PASS | +-------------------------------+----------------+ | Fedora Linux 42 | PASS | +-------------------------------+----------------+ | Red Hat Enterprise Linux 9.5 | PASS | +-------------------------------+----------------+ | Red Hat Enterprise Linux 8.10 | PASS | +-------------------------------+----------------+ | Ubuntu 22.04 | PASS | +-------------------------------+----------------+ | Ubuntu 20.04 | PASS | +-------------------------------+----------------+ | Ubuntu 24.04 | PASS | +-------------------------------+----------------+ CentOS Stream 9 Kernel: 5.15 Compiler: gcc gcc (GCC) 11.5.0 20240719 (Red Hat 11.5.0-11) Fedora Linux 40 Kernel: 5.15 Compiler: gcc gcc (GCC) 14.2.1 20240912 (Red Hat 14.2.1-3) CentOS Stream 10 Kernel: 5.15 Compiler: gcc gcc (GCC) 14.2.1 20250110 (Red Hat 14.2.1-8) Debian GNU/Linux 12 Kernel: 5.15 Compiler: gcc gcc (Debian 12.2.0-14+deb12u1) 12.2.0 Fedora Linux 41 Kernel: 5.15 Compiler: gcc gcc (GCC) 14.3.1 20250523 (Red Hat 14.3.1-1) Fedora Linux 42 Kernel: 5.15 Compiler: gcc gcc (GCC) 15.2.1 20250808 (Red Hat 15.2.1-1) Red Hat Enterprise Linux 9.5 Kernel: 5.15 Compiler: gcc gcc (GCC) 11.5.0 20240719 (Red Hat 11.5.0-2) Red Hat Enterprise Linux 8.10 Kernel: 5.15 Compiler: gcc gcc (GCC) 8.5.0 20210514 (Red Hat 8.5.0-22) Ubuntu 22.04 Kernel: 5.15 Compiler: gcc gcc (Ubuntu 11.4.0-1ubuntu1~22.04) 11.4.0 Ubuntu 20.04 Kernel: 5.15 Compiler: gcc gcc (Ubuntu 9.4.0-1ubuntu1~20.04.2) 9.4.0 Ubuntu 24.04 Kernel: 5.15 Compiler: gcc gcc (Ubuntu 13.3.0-6ubuntu2~24.04) 13.3.0 To view detailed results, visit: https://lab.dpdk.org/results/dashboard/patchsets/34190/ UNH-IOL DPDK Community Lab To manage your email subscriptions, visit: https://lab.dpdk.org/results/dashboard/preferences/subscriptions/