From mboxrd@z Thu Jan 1 00:00:00 1970 Return-Path: Received: from mails.dpdk.org (mails.dpdk.org [217.70.189.124]) by inbox.dpdk.org (Postfix) with ESMTP id C75544887F for ; Wed, 1 Oct 2025 11:18:40 +0200 (CEST) Received: from mails.dpdk.org (localhost [127.0.0.1]) by mails.dpdk.org (Postfix) with ESMTP id C1AC840657; Wed, 1 Oct 2025 11:18:40 +0200 (CEST) Received: from mail-pf1-f227.google.com (mail-pf1-f227.google.com [209.85.210.227]) by mails.dpdk.org (Postfix) with ESMTP id 04C3440657 for ; Wed, 1 Oct 2025 11:18:40 +0200 (CEST) Received: by mail-pf1-f227.google.com with SMTP id d2e1a72fcca58-77f5d497692so9561856b3a.1 for ; Wed, 01 Oct 2025 02:18:39 -0700 (PDT) DKIM-Signature: v=1; a=rsa-sha256; c=relaxed/relaxed; d=iol.unh.edu; s=unh-iol; t=1759310319; x=1759915119; darn=dpdk.org; h=references:in-reply-to:cc:to:from:subject:message-id:date:from:to :cc:subject:date:message-id:reply-to; bh=FxHWAOq4hLA2AeQhEvO8HC+jFr5ZrmPiBbULRSr2Bhs=; b=RpeYsq4poQeM4aaA+YboHrmwA8MRj61wsK/Pr/A5wSA82DXrz4AQPPly1Sm6V00to1 Hj3J7tSrs3mbbyih+9HCGdmchv372boi9l9PtZh9jcTl+Sqz2GhT58AmsUIVh91QCbj0 rXX6CRKOhVIEYqMNrwI+sKU7KlYZS//YIQQaI= X-Google-DKIM-Signature: v=1; a=rsa-sha256; c=relaxed/relaxed; d=1e100.net; s=20230601; t=1759310319; x=1759915119; h=references:in-reply-to:cc:to:from:subject:message-id:date :x-gm-message-state:from:to:cc:subject:date:message-id:reply-to; bh=FxHWAOq4hLA2AeQhEvO8HC+jFr5ZrmPiBbULRSr2Bhs=; b=u0pFAnOHaQatNJSJDV2ZXvuBpFuuBcd2UXe8VIvgLZJttPoLKcYDMENpv2J5OGwNgI HGLxKS2EJ1cjvCqsvTLcybaDMqqhlnJkKB8/lttBbX1qQnhibz6NW3KJzffBjzWEVmRt Te3kqUwNlzLOVv08I0kjRqKtvLNUH3o0lT8lFYe2MDdOH+monWYR/oHtIzPLWH/tLidv oZ0zUOJuZEi1qI8Yd6M+G0itvTs5B1cnW8OJ3Z0yc/hXZ0zCvX4S4e4J8HhvaACh8nJg Vfb/O7P1Fw13Ga9PQALwtUlJMC72+yXpFINkMqcGnl8CxN+5KW1nGZnZ8K7SE9WmkKNu Qc7Q== X-Gm-Message-State: AOJu0YxVPFVwu4w+sYpLrmgV4ijlawsAvv+V5Xp704AkfRCB86aKrUry QQZXn2UswHF+UFlY58BZIE9ByBjjP0HLCOhC/33nDqFg7p55tD+gj+qZxnvnX/Q0apss1wPiVjg kaGjCIpIGRwQfx8abQF+7cA0dIkwt4N2osYir+MGLn8wN X-Gm-Gg: ASbGncv5np0/mt+vDhZxYhv/eKZ7YnO2M3UeHkOxgzUg1jPJy5ToIjfDkFDyTB48pY7 VADSCl4O8g20gWwlMEoGmhncqbuLCnjSlwSnCzLtY8lQ/wuWfbtgdLQhRcInSkw2oePVqjBz3Dw lftYgZ6WxImC5MMAHkOTRunEmDWcXwDEjW1jkr1u6dHJwD4eLGmhd5FbtrUQ0vi5MvAwwRio82S ZVLA51ZdkLyM8HqriiZnXcMM9hwR6vQCJ1sPAw/A6KhX9XLfgRCxfrGuQzxm2obC+xfVLn9RIPA 4HWttpPCPZ7wrsk/T0Zalui6FOwJO2NoitFIrvl8X4BDCvxsNSViN/HfBjacMHxu5OaniT+ujox n8Q== X-Google-Smtp-Source: AGHT+IEoJ9IS2nepunTFD9DBkpQdAGjbd4Ai7mNXHn4SFqbt0YT72m+c7b0ghQP9ErGP8HMOrfNLTtYXVL02 X-Received: by 2002:a05:6a20:3d85:b0:319:fc6f:8adf with SMTP id adf61e73a8af0-321d13d55aamr3888426637.12.1759310319113; Wed, 01 Oct 2025 02:18:39 -0700 (PDT) Received: from postal.iol.unh.edu (postal.iol.unh.edu. [132.177.123.84]) by smtp-relay.gmail.com with ESMTPS id 41be03b00d2f7-b57c53c0b8bsm815034a12.4.2025.10.01.02.18.38 (version=TLS1_2 cipher=ECDHE-ECDSA-AES128-GCM-SHA256 bits=128/128); Wed, 01 Oct 2025 02:18:39 -0700 (PDT) X-Relaying-Domain: iol.unh.edu Date: Wed, 01 Oct 2025 02:18:39 -0700 (PDT) Message-ID: <68dcf1ef.630a0220.15b893.0a1dSMTPIN_ADDED_MISSING@mx.google.com> Received: from [172.21.0.3] (unknown [172.18.0.240]) by postal.iol.unh.edu (Postfix) with ESMTP id 588606051830; Wed, 1 Oct 2025 05:18:38 -0400 (EDT) Subject: |SUCCESS| pw157114-157133 [PATCH] [v4,20/20] doc: update for txgbe From: dpdklab@iol.unh.edu To: Test Report Cc: dpdk-test-reports@iol.unh.edu, Stephen Hemminger In-Reply-To: <20250930095953.18508-21-zaiyuwang@trustnetic.com> References: <20250930095953.18508-21-zaiyuwang@trustnetic.com> Content-Type: text/plain X-BeenThere: test-report@dpdk.org X-Mailman-Version: 2.1.29 Precedence: list List-Id: automatic DPDK test reports List-Unsubscribe: , List-Archive: List-Post: List-Help: List-Subscribe: , Errors-To: test-report-bounces@dpdk.org Test-Label: iol-unit-arm64-testing Test-Status: SUCCESS http://dpdk.org/patch/157133 _Testing PASS_ Submitter: Zaiyu Wang Date: Tuesday, September 30 2025 09:59:52 DPDK git baseline: Repo:dpdk-next-net Branch: master CommitID:c04bbd131b2c14b3049bf86d3ef367b34e6fdf1e 157114-157133 --> testing pass Upstream job id: Generic-Unit-Test-DPDK#376613 Test environment and result as below: +------------------------------+------------------------------+---------------------------+--------------+----------------+ | Environment | cryptodev_sw_snow3g_autotest | cryptodev_sw_zuc_autotest | lpm_autotest | dpdk_unit_test | +==============================+==============================+===========================+==============+================+ | Debian 12 (arm) | PASS | PASS | SKIPPED | SKIPPED | +------------------------------+------------------------------+---------------------------+--------------+----------------+ | Ubuntu 20.04 | SKIPPED | SKIPPED | PASS | PASS | +------------------------------+------------------------------+---------------------------+--------------+----------------+ | CentOS Stream 9 | SKIPPED | SKIPPED | SKIPPED | PASS | +------------------------------+------------------------------+---------------------------+--------------+----------------+ | Ubuntu 22.04 | SKIPPED | SKIPPED | SKIPPED | PASS | +------------------------------+------------------------------+---------------------------+--------------+----------------+ | Debian GNU/Linux 12 | SKIPPED | SKIPPED | SKIPPED | PASS | +------------------------------+------------------------------+---------------------------+--------------+----------------+ | CentOS Stream 10 | SKIPPED | SKIPPED | SKIPPED | PASS | +------------------------------+------------------------------+---------------------------+--------------+----------------+ | Fedora Linux 40 | SKIPPED | SKIPPED | SKIPPED | PASS | +------------------------------+------------------------------+---------------------------+--------------+----------------+ | Fedora Linux 41 | SKIPPED | SKIPPED | SKIPPED | PASS | +------------------------------+------------------------------+---------------------------+--------------+----------------+ | Fedora Linux 42 | SKIPPED | SKIPPED | SKIPPED | PASS | +------------------------------+------------------------------+---------------------------+--------------+----------------+ | Red Hat Enterprise Linux 9.5 | SKIPPED | SKIPPED | SKIPPED | PASS | +------------------------------+------------------------------+---------------------------+--------------+----------------+ | Ubuntu 24.04 | SKIPPED | SKIPPED | SKIPPED | PASS | +------------------------------+------------------------------+---------------------------+--------------+----------------+ Debian 12 (arm) Kernel: Depends on container host Compiler: gcc (Debian 12.2.0-14) 12.2.0 Ubuntu 20.04 Kernel: 5.4 Compiler: gcc gcc (Ubuntu 9.4.0-1ubuntu1~20.04.2) 9.4.0 CentOS Stream 9 Kernel: 5.4 Compiler: gcc gcc (GCC) 11.5.0 20240719 (Red Hat 11.5.0-11) Ubuntu 22.04 Kernel: 5.15 Compiler: gcc gcc (Ubuntu 11.4.0-1ubuntu1~22.04.2) 11.4.0 Debian GNU/Linux 12 Kernel: 5.4 Compiler: gcc gcc (Debian 12.2.0-14+deb12u1) 12.2.0 CentOS Stream 10 Kernel: 5.4 Compiler: gcc gcc (GCC) 14.2.1 20250110 (Red Hat 14.2.1-8) Fedora Linux 40 Kernel: 5.4 Compiler: gcc gcc (GCC) 14.2.1 20240912 (Red Hat 14.2.1-3) Fedora Linux 41 Kernel: 5.4 Compiler: clang gcc (GCC) 14.3.1 20250523 (Red Hat 14.3.1-1) Fedora Linux 42 Kernel: 5.4 Compiler: gcc gcc (GCC) 15.2.1 20250808 (Red Hat 15.2.1-1) Red Hat Enterprise Linux 9.5 Kernel: 5.4 Compiler: gcc gcc (GCC) 11.5.0 20240719 (Red Hat 11.5.0-2) Ubuntu 24.04 Kernel: 5.4 Compiler: gcc gcc (Ubuntu 13.3.0-6ubuntu2~24.04) 13.3.0 To view detailed results, visit: https://lab.dpdk.org/results/dashboard/patchsets/34180/ UNH-IOL DPDK Community Lab To manage your email subscriptions, visit: https://lab.dpdk.org/results/dashboard/preferences/subscriptions/