From: dpdklab@iol.unh.edu
To: Test Report <test-report@dpdk.org>
Cc: dpdk-test-reports@iol.unh.edu,
Bruce Richardson <bruce.richardson@intel.com>
Subject: |SUCCESS| pw157143 [PATCH] net/ice: fix initialization with 8 ports
Date: Wed, 01 Oct 2025 02:23:18 -0700 (PDT) [thread overview]
Message-ID: <68dcf306.050a0220.3da2e1.05adSMTPIN_ADDED_MISSING@mx.google.com> (raw)
In-Reply-To: <20250930142850.1782615-1-bruce.richardson@intel.com>
Test-Label: iol-compile-arm64-testing
Test-Status: SUCCESS
http://dpdk.org/patch/157143
_Testing PASS_
Submitter: Bruce Richardson <bruce.richardson@intel.com>
Date: Tuesday, September 30 2025 14:28:50
DPDK git baseline: Repo:dpdk-next-net-intel
Branch: master
CommitID:9845e5848bbe337306fb6ae2a6b1ce5e6ab5b714
157143 --> testing pass
Upstream job id: Generic-DPDK-Compile-Meson#430140
Test environment and result as below:
+------------------------------+--------------------+
| Environment | dpdk_meson_compile |
+==============================+====================+
| Red Hat Enterprise Linux 9.5 | PASS |
+------------------------------+--------------------+
| Ubuntu 20.04 | PASS |
+------------------------------+--------------------+
| Debian GNU/Linux 12 | PASS |
+------------------------------+--------------------+
| Fedora Linux 42 | PASS |
+------------------------------+--------------------+
| Ubuntu 22.04 | PASS |
+------------------------------+--------------------+
| Ubuntu 24.04 | PASS |
+------------------------------+--------------------+
| CentOS Stream 9 | PASS |
+------------------------------+--------------------+
| CentOS Stream 10 | PASS |
+------------------------------+--------------------+
Red Hat Enterprise Linux 9.5
Kernel: 5.4
Compiler: gcc gcc (GCC) 11.5.0 20240719 (Red Hat 11.5.0-2)
Ubuntu 20.04
Kernel: 5.15
Compiler: aarch64-linux-gnu-gcc gcc (Ubuntu 9.4.0-1ubuntu1~20.04.2) 9.4.0
Debian GNU/Linux 12
Kernel: 5.4
Compiler: gcc gcc (Debian 12.2.0-14+deb12u1) 12.2.0
Fedora Linux 42
Kernel: 5.4
Compiler: gcc gcc (GCC) 15.2.1 20250808 (Red Hat 15.2.1-1)
Ubuntu 22.04
Kernel: 5.4
Compiler: gcc gcc (Ubuntu 11.4.0-1ubuntu1~22.04) 11.4.0
Ubuntu 24.04
Kernel: 5.4
Compiler: gcc gcc (Ubuntu 13.3.0-6ubuntu2~24.04) 13.3.0
CentOS Stream 9
Kernel: 5.4
Compiler: gcc gcc (GCC) 11.5.0 20240719 (Red Hat 11.5.0-11)
CentOS Stream 10
Kernel: 5.4
Compiler: gcc gcc (GCC) 14.2.1 20250110 (Red Hat 14.2.1-8)
To view detailed results, visit:
https://lab.dpdk.org/results/dashboard/patchsets/34184/
UNH-IOL DPDK Community Lab
To manage your email subscriptions, visit:
https://lab.dpdk.org/results/dashboard/preferences/subscriptions/
next prev parent reply other threads:[~2025-10-01 9:23 UTC|newest]
Thread overview: 30+ messages / expand[flat|nested] mbox.gz Atom feed top
[not found] <20250930142850.1782615-1-bruce.richardson@intel.com>
2025-09-30 13:55 ` qemudev
2025-09-30 14:00 ` qemudev
2025-09-30 14:30 ` checkpatch
2025-09-30 14:50 ` |PENDING| " dpdklab
2025-09-30 14:53 ` dpdklab
2025-09-30 14:55 ` |SUCCESS| " dpdklab
2025-09-30 14:59 ` dpdklab
2025-09-30 14:59 ` |PENDING| " dpdklab
2025-09-30 15:02 ` dpdklab
2025-09-30 15:12 ` |SUCCESS| " dpdklab
2025-09-30 15:16 ` dpdklab
2025-09-30 15:16 ` dpdklab
2025-09-30 15:16 ` dpdklab
2025-09-30 15:25 ` dpdklab
2025-09-30 15:33 ` dpdklab
2025-09-30 15:33 ` dpdklab
2025-09-30 15:34 ` dpdklab
2025-09-30 15:35 ` dpdklab
2025-09-30 15:38 ` dpdklab
2025-09-30 16:11 ` 0-day Robot
2025-09-30 16:11 ` 0-day Robot
2025-09-30 20:41 ` dpdklab
2025-09-30 20:53 ` |PENDING| " dpdklab
2025-09-30 20:58 ` |SUCCESS| " dpdklab
2025-09-30 21:19 ` dpdklab
2025-09-30 22:53 ` dpdklab
2025-09-30 23:22 ` dpdklab
2025-10-01 9:23 ` dpdklab [this message]
2025-10-01 11:13 ` dpdklab
2025-10-01 14:09 ` dpdklab
Reply instructions:
You may reply publicly to this message via plain-text email
using any one of the following methods:
* Save the following mbox file, import it into your mail client,
and reply-to-all from there: mbox
Avoid top-posting and favor interleaved quoting:
https://en.wikipedia.org/wiki/Posting_style#Interleaved_style
* Reply using the --to, --cc, and --in-reply-to
switches of git-send-email(1):
git send-email \
--in-reply-to=68dcf306.050a0220.3da2e1.05adSMTPIN_ADDED_MISSING@mx.google.com \
--to=dpdklab@iol.unh.edu \
--cc=bruce.richardson@intel.com \
--cc=dpdk-test-reports@iol.unh.edu \
--cc=test-report@dpdk.org \
/path/to/YOUR_REPLY
https://kernel.org/pub/software/scm/git/docs/git-send-email.html
* If your mail client supports setting the In-Reply-To header
via mailto: links, try the mailto: link
Be sure your reply has a Subject: header at the top and a blank line
before the message body.
This is a public inbox, see mirroring instructions
for how to clone and mirror all data and code used for this inbox;
as well as URLs for NNTP newsgroup(s).