From mboxrd@z Thu Jan 1 00:00:00 1970 Return-Path: Received: from mails.dpdk.org (mails.dpdk.org [217.70.189.124]) by inbox.dpdk.org (Postfix) with ESMTP id 472664887F for ; Wed, 1 Oct 2025 11:23:20 +0200 (CEST) Received: from mails.dpdk.org (localhost [127.0.0.1]) by mails.dpdk.org (Postfix) with ESMTP id 4264A40657; Wed, 1 Oct 2025 11:23:20 +0200 (CEST) Received: from mail-yw1-f225.google.com (mail-yw1-f225.google.com [209.85.128.225]) by mails.dpdk.org (Postfix) with ESMTP id 3A2B440657 for ; Wed, 1 Oct 2025 11:23:19 +0200 (CEST) Received: by mail-yw1-f225.google.com with SMTP id 00721157ae682-71d6014810fso74084027b3.0 for ; Wed, 01 Oct 2025 02:23:19 -0700 (PDT) DKIM-Signature: v=1; a=rsa-sha256; c=relaxed/relaxed; d=iol.unh.edu; s=unh-iol; t=1759310598; x=1759915398; darn=dpdk.org; h=references:in-reply-to:cc:to:from:subject:message-id:date:from:to :cc:subject:date:message-id:reply-to; bh=pdvvZPpQXJwJEsYz1oAD/yxCI4zyLMqOtr62Su34v8A=; b=H6DEuKlbiDSWU3pzAYqS28y8Oa7EvlidAllvbHt65OB42lCThKUjWzIatpV4bcy8lE sJisItQyJrOLSA1s9jVkfhmOYhYWQ2f9DXg3HDc/n3CwPG0J8Ul/KcFaG0cPxXR0nb0F e19fNb/h4P3dEqLOeC/iQIsqmHULCBQl5/eJ8= X-Google-DKIM-Signature: v=1; a=rsa-sha256; c=relaxed/relaxed; d=1e100.net; s=20230601; t=1759310598; x=1759915398; h=references:in-reply-to:cc:to:from:subject:message-id:date :x-gm-message-state:from:to:cc:subject:date:message-id:reply-to; bh=pdvvZPpQXJwJEsYz1oAD/yxCI4zyLMqOtr62Su34v8A=; b=BulpEz4CJsrEAMtGGHxtw5goKZss9Q8Z73Eri1XEVW1/HEI1kKfHm2vfXK4XXtZX3I OSdaozAFzXdbDbW5tIOHqyKVJQiqCYNsViN8cAOTep3OePvZcKD//oZCMqpZqvoTMx2V Nt6E6l9cX9ChQBuED7TyrHCMM+LLjhNIlkPeq59oGOxAJ+O9LcNalTYrL4qGjcD3dw/C QoIyhCZuuNE2C3u+j3x9TNTK6wNS6r8M4iCdwqK3PCvn8tmV8K+ZarEBwLtcJKLieJx7 8cjfWRs+fe8h3JJP/K6YgqZMo0sKmWfNhcN7juNLm4fiVfcHdpNwr9CWm/TWKtSyd4mh srKg== X-Gm-Message-State: AOJu0YyAEjE137Cxq32ZKt/f3/VkZAY3JJOTe25zOSPdEwOU1XP7oDJH qfkXCNdUhld2yLD3hlBVre3MT/cNRze9AvT8lJa41ddokFZlcyaL46PG/QWdlYEORp+YiOls2a0 I7jkafMMXI4NQ15fstj14FqJxopwnqWQNP2DAqSFGPuIr X-Gm-Gg: ASbGncsSlVqwHKTRMWUY9PR+Sq9Pelr+2qhKoHLLtBcyL+sMMzvEDHxRWykPcFGS1/9 DvmfY8fbksZ5Murwj7Seh2uh5xxNB0TnvtFTz1i6spAaM0l9R8TTpAz2hjyRq7tfZo+HZXBBNI9 +JigpN+pozmbtbgCImL/csy53v3uJO6TV25SqUb7eFXaZ6soOyJM+OyrUg4uGcUqRoB9jlEVvPv gfGbzvMhkt27/5OfhK91KTDfzOaaqNsIZcphDX31KMiV3HtG1JrvtbRxzmh63dx12USytZaSZi6 Su2RT1rmetAyOEEqQM99o2j4ssxD59BfZ+dEPnK+WbQh03GojVO4tC7aF6IutwmocwH6CZpKBGk nPg== X-Google-Smtp-Source: AGHT+IEbJJUZjxJP+rXbhz2uw2E9fHzS9dbOkXpGqZBb+Bz2CvHkmDviWMlkpAhhq1k3UIsS/h8e/D54E35m X-Received: by 2002:a05:690c:3811:b0:76e:72c8:b599 with SMTP id 00721157ae682-77f6f0dd3bamr39042207b3.16.1759310598522; Wed, 01 Oct 2025 02:23:18 -0700 (PDT) Received: from postal.iol.unh.edu (postal.iol.unh.edu. [132.177.123.84]) by smtp-relay.gmail.com with ESMTPS id 956f58d0204a3-6361e7b47dfsm735435d50.1.2025.10.01.02.23.18 (version=TLS1_2 cipher=ECDHE-ECDSA-AES128-GCM-SHA256 bits=128/128); Wed, 01 Oct 2025 02:23:18 -0700 (PDT) X-Relaying-Domain: iol.unh.edu Date: Wed, 01 Oct 2025 02:23:18 -0700 (PDT) Message-ID: <68dcf306.050a0220.3da2e1.05adSMTPIN_ADDED_MISSING@mx.google.com> Received: from [172.21.0.2] (unknown [172.18.0.240]) by postal.iol.unh.edu (Postfix) with ESMTP id D11736051830; Wed, 1 Oct 2025 05:23:17 -0400 (EDT) Subject: |SUCCESS| pw157143 [PATCH] net/ice: fix initialization with 8 ports From: dpdklab@iol.unh.edu To: Test Report Cc: dpdk-test-reports@iol.unh.edu, Bruce Richardson In-Reply-To: <20250930142850.1782615-1-bruce.richardson@intel.com> References: <20250930142850.1782615-1-bruce.richardson@intel.com> Content-Type: text/plain X-BeenThere: test-report@dpdk.org X-Mailman-Version: 2.1.29 Precedence: list List-Id: automatic DPDK test reports List-Unsubscribe: , List-Archive: List-Post: List-Help: List-Subscribe: , Errors-To: test-report-bounces@dpdk.org Test-Label: iol-compile-arm64-testing Test-Status: SUCCESS http://dpdk.org/patch/157143 _Testing PASS_ Submitter: Bruce Richardson Date: Tuesday, September 30 2025 14:28:50 DPDK git baseline: Repo:dpdk-next-net-intel Branch: master CommitID:9845e5848bbe337306fb6ae2a6b1ce5e6ab5b714 157143 --> testing pass Upstream job id: Generic-DPDK-Compile-Meson#430140 Test environment and result as below: +------------------------------+--------------------+ | Environment | dpdk_meson_compile | +==============================+====================+ | Red Hat Enterprise Linux 9.5 | PASS | +------------------------------+--------------------+ | Ubuntu 20.04 | PASS | +------------------------------+--------------------+ | Debian GNU/Linux 12 | PASS | +------------------------------+--------------------+ | Fedora Linux 42 | PASS | +------------------------------+--------------------+ | Ubuntu 22.04 | PASS | +------------------------------+--------------------+ | Ubuntu 24.04 | PASS | +------------------------------+--------------------+ | CentOS Stream 9 | PASS | +------------------------------+--------------------+ | CentOS Stream 10 | PASS | +------------------------------+--------------------+ Red Hat Enterprise Linux 9.5 Kernel: 5.4 Compiler: gcc gcc (GCC) 11.5.0 20240719 (Red Hat 11.5.0-2) Ubuntu 20.04 Kernel: 5.15 Compiler: aarch64-linux-gnu-gcc gcc (Ubuntu 9.4.0-1ubuntu1~20.04.2) 9.4.0 Debian GNU/Linux 12 Kernel: 5.4 Compiler: gcc gcc (Debian 12.2.0-14+deb12u1) 12.2.0 Fedora Linux 42 Kernel: 5.4 Compiler: gcc gcc (GCC) 15.2.1 20250808 (Red Hat 15.2.1-1) Ubuntu 22.04 Kernel: 5.4 Compiler: gcc gcc (Ubuntu 11.4.0-1ubuntu1~22.04) 11.4.0 Ubuntu 24.04 Kernel: 5.4 Compiler: gcc gcc (Ubuntu 13.3.0-6ubuntu2~24.04) 13.3.0 CentOS Stream 9 Kernel: 5.4 Compiler: gcc gcc (GCC) 11.5.0 20240719 (Red Hat 11.5.0-11) CentOS Stream 10 Kernel: 5.4 Compiler: gcc gcc (GCC) 14.2.1 20250110 (Red Hat 14.2.1-8) To view detailed results, visit: https://lab.dpdk.org/results/dashboard/patchsets/34184/ UNH-IOL DPDK Community Lab To manage your email subscriptions, visit: https://lab.dpdk.org/results/dashboard/preferences/subscriptions/