From mboxrd@z Thu Jan 1 00:00:00 1970 Return-Path: Received: from mails.dpdk.org (mails.dpdk.org [217.70.189.124]) by inbox.dpdk.org (Postfix) with ESMTP id DE4764887F for ; Wed, 1 Oct 2025 11:36:45 +0200 (CEST) Received: from mails.dpdk.org (localhost [127.0.0.1]) by mails.dpdk.org (Postfix) with ESMTP id D291A40A71; Wed, 1 Oct 2025 11:36:45 +0200 (CEST) Received: from mail-pg1-f226.google.com (mail-pg1-f226.google.com [209.85.215.226]) by mails.dpdk.org (Postfix) with ESMTP id F15A440A71 for ; Wed, 1 Oct 2025 11:36:44 +0200 (CEST) Received: by mail-pg1-f226.google.com with SMTP id 41be03b00d2f7-b54dd647edcso5918394a12.1 for ; Wed, 01 Oct 2025 02:36:44 -0700 (PDT) DKIM-Signature: v=1; a=rsa-sha256; c=relaxed/relaxed; d=iol.unh.edu; s=unh-iol; t=1759311404; x=1759916204; darn=dpdk.org; h=references:in-reply-to:cc:to:from:subject:message-id:date:from:to :cc:subject:date:message-id:reply-to; bh=U7iiOHl8Vs8kQzkYneT+sDAiyYuWa1fuoqBSb5GvoMM=; b=Hrg83zmnOMw6FelmPoauYJIlO/Yk2Cu6IrPY8f0WbwDznrT+VWprX08f+9anLDYzGm CY28H+8Zx054BuVHd9oRbFhwPHtS6oo4l14j31vFugthm5At/CEroTvwmbpWbgMd81ej 3AvCYymiUMsXpZ3CbPZpicVg0KnLMOcnpChy4= X-Google-DKIM-Signature: v=1; a=rsa-sha256; c=relaxed/relaxed; d=1e100.net; s=20230601; t=1759311404; x=1759916204; h=references:in-reply-to:cc:to:from:subject:message-id:date :x-gm-message-state:from:to:cc:subject:date:message-id:reply-to; bh=U7iiOHl8Vs8kQzkYneT+sDAiyYuWa1fuoqBSb5GvoMM=; b=Rn5peM8qJuhsNjgqCuth+OdEpP2JfSBWwyzQkWtGFP961yhr1jdXLiYzhp2knziNjc X/7thgWbw7DelpQuNIRJrnQfA4KC7Do4lOCBGqyUYXwijH9QRLMmrWZpKsA4i07qyw29 36oaYI5I2jT8YSEttJExokQYtCT8VUGuEJaUg8rhJG8saf6PkfUBRFeWYRgNuVIpe+g3 5GMA0cV3xwRW05Z8hgM6yQQq/q4iLu7A5KQ3l/6qmjG5uDaFX3shky/Lad976nSnDN0c BNJjoc7jUli2lHy4QVe+EjcO6Ge7hbqoJKBRoNNjlBElFeUn2jDXlbsdp2QNqcEqH48Z 9xOQ== X-Gm-Message-State: AOJu0YxHY47XKlo4/JRUV/fPCReoL3r/cJE3ERiJmDgfdFozJUwynMgL obhW4+OJ9jYqafVm+qAbM2iWstBLhnWmkcSel4nTTsLV/7YU49vfvLVzUIq8uUC2s/GjbHuDSC1 NvwGIdAAbZPwMee2+OqekMbE3MH/k2akTpR8hoZqYG1si X-Gm-Gg: ASbGncu5dgv9+19TzndR125KbB9pSi/PmSRzYB6O/ELwnqXyeMBLhrHCKRE6nZjfxcL ZV7U0iJlPrPs9bxH3br4L2Xi02a6a0wne7cKUzrPGbIIEckbCMPiC2S6H4PnjPX8Ca37fXzrv+W yUtZAAxSFahppDqZqv2CRh5fTUJ1WHPHOkWf2K5OWFZtit53bE1pve9H+T3LxQpKiEM4yzzxTWi NLiybHt/2bOHbhkDsb1MPhlLLje5UnnlkeEU7IUb9++oirvuYWpMT7765fz6T85JeVva50FVsEx ZQO3tZLd0fcdn/ecfmgm8/GOsgnJuDsfC0xIFcv4kAUrfQoNsPsAMs+i12K/uUHwCYpdFIOxIsz 4Gw== X-Google-Smtp-Source: AGHT+IHDcyaWSJlWwlEafadULnVj1YNDxiCccH1fYpuPNVp5r1trtJu2eDUdvETo32gsMMSFQkr0KbtfmGz1 X-Received: by 2002:a17:902:ef0c:b0:24c:da3b:7376 with SMTP id d9443c01a7336-28e7f2dc9d5mr35270095ad.26.1759311403309; Wed, 01 Oct 2025 02:36:43 -0700 (PDT) Received: from postal.iol.unh.edu (postal.iol.unh.edu. [132.177.123.84]) by smtp-relay.gmail.com with ESMTPS id d9443c01a7336-27ed6827e1asm13284265ad.62.2025.10.01.02.36.43 (version=TLS1_2 cipher=ECDHE-ECDSA-AES128-GCM-SHA256 bits=128/128); Wed, 01 Oct 2025 02:36:43 -0700 (PDT) X-Relaying-Domain: iol.unh.edu Date: Wed, 01 Oct 2025 02:36:43 -0700 (PDT) Message-ID: <68dcf62b.170a0220.314ac9.de98SMTPIN_ADDED_MISSING@mx.google.com> Received: from [172.21.0.2] (unknown [172.18.0.240]) by postal.iol.unh.edu (Postfix) with ESMTP id C6F5D6051830; Wed, 1 Oct 2025 05:36:42 -0400 (EDT) Subject: |SUCCESS| pw157170 [PATCH] ci: configure Coderabbit From: dpdklab@iol.unh.edu To: Test Report Cc: dpdk-test-reports@iol.unh.edu In-Reply-To: <20251001081825.2638077-1-david.marchand@redhat.com> References: <20251001081825.2638077-1-david.marchand@redhat.com> Content-Type: text/plain X-BeenThere: test-report@dpdk.org X-Mailman-Version: 2.1.29 Precedence: list List-Id: automatic DPDK test reports List-Unsubscribe: , List-Archive: List-Post: List-Help: List-Subscribe: , Errors-To: test-report-bounces@dpdk.org Test-Label: iol-unit-amd64-testing Test-Status: SUCCESS http://dpdk.org/patch/157170 _Testing PASS_ Submitter: David Marchand Date: Wednesday, October 01 2025 08:18:25 DPDK git baseline: Repo:dpdk Branch: master CommitID:f3878b615e69a12087a6c5d212723478cfc79c31 157170 --> testing pass Upstream job id: Generic-Unit-Test-DPDK#377539 Test environment and result as below: +-------------------------------+----------------+ | Environment | dpdk_unit_test | +===============================+================+ | CentOS Stream 9 | PASS | +-------------------------------+----------------+ | CentOS Stream 10 | PASS | +-------------------------------+----------------+ | Debian GNU/Linux 12 | PASS | +-------------------------------+----------------+ | Fedora Linux 40 | PASS | +-------------------------------+----------------+ | Fedora Linux 41 | PASS | +-------------------------------+----------------+ | Fedora Linux 42 | PASS | +-------------------------------+----------------+ | Red Hat Enterprise Linux 8.10 | PASS | +-------------------------------+----------------+ | Red Hat Enterprise Linux 9.5 | PASS | +-------------------------------+----------------+ | Ubuntu 22.04 | PASS | +-------------------------------+----------------+ | Ubuntu 20.04 | PASS | +-------------------------------+----------------+ | Ubuntu 24.04 | PASS | +-------------------------------+----------------+ CentOS Stream 9 Kernel: 5.15 Compiler: gcc gcc (GCC) 11.5.0 20240719 (Red Hat 11.5.0-11) CentOS Stream 10 Kernel: 5.15 Compiler: gcc gcc (GCC) 14.2.1 20250110 (Red Hat 14.2.1-8) Debian GNU/Linux 12 Kernel: 5.15 Compiler: gcc gcc (Debian 12.2.0-14+deb12u1) 12.2.0 Fedora Linux 40 Kernel: 5.15 Compiler: gcc gcc (GCC) 14.2.1 20240912 (Red Hat 14.2.1-3) Fedora Linux 41 Kernel: 5.15 Compiler: gcc gcc (GCC) 14.3.1 20250523 (Red Hat 14.3.1-1) Fedora Linux 42 Kernel: 5.15 Compiler: clang gcc (GCC) 15.2.1 20250808 (Red Hat 15.2.1-1) Red Hat Enterprise Linux 8.10 Kernel: 5.15 Compiler: gcc gcc (GCC) 8.5.0 20210514 (Red Hat 8.5.0-22) Red Hat Enterprise Linux 9.5 Kernel: 5.15 Compiler: gcc gcc (GCC) 11.5.0 20240719 (Red Hat 11.5.0-2) Ubuntu 22.04 Kernel: 5.15 Compiler: gcc gcc (Ubuntu 11.4.0-1ubuntu1~22.04) 11.4.0 Ubuntu 20.04 Kernel: 5.15 Compiler: gcc gcc (Ubuntu 9.4.0-1ubuntu1~20.04.2) 9.4.0 Ubuntu 24.04 Kernel: 5.15 Compiler: gcc gcc (Ubuntu 13.3.0-6ubuntu2~24.04) 13.3.0 To view detailed results, visit: https://lab.dpdk.org/results/dashboard/patchsets/34191/ UNH-IOL DPDK Community Lab To manage your email subscriptions, visit: https://lab.dpdk.org/results/dashboard/preferences/subscriptions/