From mboxrd@z Thu Jan 1 00:00:00 1970 Return-Path: Received: from mails.dpdk.org (mails.dpdk.org [217.70.189.124]) by inbox.dpdk.org (Postfix) with ESMTP id 5557B4887F for ; Wed, 1 Oct 2025 11:40:05 +0200 (CEST) Received: from mails.dpdk.org (localhost [127.0.0.1]) by mails.dpdk.org (Postfix) with ESMTP id 297F140A71; Wed, 1 Oct 2025 11:40:05 +0200 (CEST) Received: from mail-pf1-f228.google.com (mail-pf1-f228.google.com [209.85.210.228]) by mails.dpdk.org (Postfix) with ESMTP id EC7FF40A71 for ; Wed, 1 Oct 2025 11:40:03 +0200 (CEST) Received: by mail-pf1-f228.google.com with SMTP id d2e1a72fcca58-78af743c232so504050b3a.1 for ; Wed, 01 Oct 2025 02:40:03 -0700 (PDT) DKIM-Signature: v=1; a=rsa-sha256; c=relaxed/relaxed; d=iol.unh.edu; s=unh-iol; t=1759311603; x=1759916403; darn=dpdk.org; h=references:in-reply-to:cc:to:from:subject:message-id:date:from:to :cc:subject:date:message-id:reply-to; bh=bKjdAoykZHjiB32IUtvmgrg8kxEjwF6N+ogVC52QXn8=; b=P7d6GtpzGLYlrHi6z76e/VP61y8KtIj8thRciQZVjtgEP9+GX2t1+k4mOVEFHdiysM /fDdL5iJL4mag1/wfOzA7kDAbjewzs2Gzxhg3YJslVhtDWTHd8xryxFJagIAYiy+5X5C l/4t+zKBisZaPzWUYo7PYLpYZvfPjnNgjWLx0= X-Google-DKIM-Signature: v=1; a=rsa-sha256; c=relaxed/relaxed; d=1e100.net; s=20230601; t=1759311603; x=1759916403; h=references:in-reply-to:cc:to:from:subject:message-id:date :x-gm-message-state:from:to:cc:subject:date:message-id:reply-to; bh=bKjdAoykZHjiB32IUtvmgrg8kxEjwF6N+ogVC52QXn8=; b=vNlIibFdb0rJjyvLLzwARuOUGlzXgzHFPJTrYRCI6jiyBuLVvJ4IqFwVmPS0qX02Lp dzOmApvGU/+kJn8uGubhaxytGC/rGiKf1xEDQqZ0E3fp9xzgNFcQDNLk8iG6DvyO+a9J U1M9N8TZLSjBZ61ryLtdaVYbblcJIHbVDHkkfah+7K2OVNmhkHcqtFjNJpipXXSPrF8R K1xkCB1JYdDAgBfn5TilL5JloFsgWslxueAvAdJc2L+/MrMA3u4UV1FE4+9R8fH85S8b O5aQnnu5XaPlyPP5V5QfQcXBI6Dwewn7b0WshCv5T32FPzVuWjQR/iTBgS6F38mnPxX0 NaHg== X-Gm-Message-State: AOJu0YwmU5tzmb2yQCcTOyAjIegNogcPP3u2Aby69o8GTMiwXlBY5e5b 3WVXY5+TA1HfxwkMNPzdpX5LhqmUv+RSooImCZvYja5V/v/s0H0nUJFZ+1dOqiE7+JUEejYqg5+ 2EYcVqzsu6p8lbrJLoYXaArfdxSBMvdz5QpQqCZ27pzJah05xkf+1gU3DT8nm X-Gm-Gg: ASbGnctcJMgnKUI63vLgeYab+fASmE6fZo7mTo5wdXfM+tiEBGuVILFLtLd7kVHyKgS EN8EkzyuZ2sV+c357G1Be+mQr8PAHJs3OyZWhBvFEm48k0akYR/cD4fvDgXP3G2jlxIMZy9j7HO PsLiuymTn2tSpFMTGQvoFhl81geitnZygBmciMGybF6zDGahJ3oVaMGwz7iS2IV6sKpw4y446p5 CJI+ULnMMjpHjedKr+EolMI1M09ykVqqhUL7rvOewRemDiawXLHhjrYS+UP/Axxm8QL0jwLp3fr Vc3ZlOBFCgf5JZUxMtR6x8c6PKJ++0FWgfnR2ct9G84uzCTWb0kcPFM= X-Google-Smtp-Source: AGHT+IG+1moHsnE6Y8TTn3AedQtdKcRyBRfaUngCc0aQ7dOvxrSbUWJQxZRWegwnS5cZtLvE5RdJWhusSpp0 X-Received: by 2002:a17:902:f642:b0:273:3f62:6eca with SMTP id d9443c01a7336-28e7f29211emr34966285ad.18.1759311603072; Wed, 01 Oct 2025 02:40:03 -0700 (PDT) Received: from postal.iol.unh.edu (postal.iol.unh.edu. [2606:4100:3880:1234::84]) by smtp-relay.gmail.com with ESMTPS id d9443c01a7336-27ed6845576sm14134975ad.69.2025.10.01.02.40.02 (version=TLS1_2 cipher=ECDHE-ECDSA-AES128-GCM-SHA256 bits=128/128); Wed, 01 Oct 2025 02:40:03 -0700 (PDT) X-Relaying-Domain: iol.unh.edu Date: Wed, 01 Oct 2025 02:40:03 -0700 (PDT) Message-ID: <68dcf6f3.170a0220.26d80c.4c6cSMTPIN_ADDED_MISSING@mx.google.com> Received: from [172.21.0.3] (unknown [172.18.0.240]) by postal.iol.unh.edu (Postfix) with ESMTP id 7D1246051830; Wed, 1 Oct 2025 05:40:02 -0400 (EDT) Subject: |SUCCESS| pw157147-157150 [PATCH] [v5,4/4] net/cpfl: add cpchnl get From: dpdklab@iol.unh.edu To: Test Report Cc: dpdk-test-reports@iol.unh.edu, Bruce Richardson In-Reply-To: <20250930182718.2997819-5-praveen.shetty@intel.com> References: <20250930182718.2997819-5-praveen.shetty@intel.com> Content-Type: text/plain X-BeenThere: test-report@dpdk.org X-Mailman-Version: 2.1.29 Precedence: list List-Id: automatic DPDK test reports List-Unsubscribe: , List-Archive: List-Post: List-Help: List-Subscribe: , Errors-To: test-report-bounces@dpdk.org Test-Label: iol-compile-amd64-testing Test-Status: SUCCESS http://dpdk.org/patch/157150 _Testing PASS_ Submitter: Shetty, Praveen Date: Tuesday, September 30 2025 18:27:18 DPDK git baseline: Repo:dpdk-next-net-intel Branch: master CommitID:9845e5848bbe337306fb6ae2a6b1ce5e6ab5b714 157147-157150 --> testing pass Upstream job id: Generic-DPDK-Compile-Meson#430259 Test environment and result as below: +-------------------------------+--------------------+-------------------+-------------------------+----------------------+-------------------+------------------+ | Environment | dpdk_meson_compile | dpdk_msvc_compile | dpdk_llvm_clang_compile | dpdk_mingw64_compile | dpdk_compile_spdk | dpdk_compile_ovs | +===============================+====================+===================+=========================+======================+===================+==================+ | Ubuntu 20.04 | PASS | SKIPPED | SKIPPED | SKIPPED | SKIPPED | SKIPPED | +-------------------------------+--------------------+-------------------+-------------------------+----------------------+-------------------+------------------+ | FreeBSD 14.2 | PASS | SKIPPED | SKIPPED | SKIPPED | SKIPPED | SKIPPED | +-------------------------------+--------------------+-------------------+-------------------------+----------------------+-------------------+------------------+ | CentOS Stream 9 | PASS | SKIPPED | SKIPPED | SKIPPED | PASS | SKIPPED | +-------------------------------+--------------------+-------------------+-------------------------+----------------------+-------------------+------------------+ | CentOS Stream 10 | PASS | SKIPPED | SKIPPED | SKIPPED | SKIPPED | SKIPPED | +-------------------------------+--------------------+-------------------+-------------------------+----------------------+-------------------+------------------+ | Debian GNU/Linux 12 | PASS | SKIPPED | SKIPPED | SKIPPED | PASS | SKIPPED | +-------------------------------+--------------------+-------------------+-------------------------+----------------------+-------------------+------------------+ | Fedora Linux 42 | PASS | SKIPPED | SKIPPED | SKIPPED | PASS | PASS | +-------------------------------+--------------------+-------------------+-------------------------+----------------------+-------------------+------------------+ | openSUSE Leap 15.6 | PASS | SKIPPED | SKIPPED | SKIPPED | SKIPPED | SKIPPED | +-------------------------------+--------------------+-------------------+-------------------------+----------------------+-------------------+------------------+ | Red Hat Enterprise Linux 8.10 | PASS | SKIPPED | SKIPPED | SKIPPED | SKIPPED | SKIPPED | +-------------------------------+--------------------+-------------------+-------------------------+----------------------+-------------------+------------------+ | Red Hat Enterprise Linux 9.5 | PASS | SKIPPED | SKIPPED | SKIPPED | SKIPPED | SKIPPED | +-------------------------------+--------------------+-------------------+-------------------------+----------------------+-------------------+------------------+ | Ubuntu 22.04 | PASS | SKIPPED | SKIPPED | SKIPPED | PASS | SKIPPED | +-------------------------------+--------------------+-------------------+-------------------------+----------------------+-------------------+------------------+ | Ubuntu 24.04 | PASS | SKIPPED | SKIPPED | SKIPPED | PASS | PASS | +-------------------------------+--------------------+-------------------+-------------------------+----------------------+-------------------+------------------+ | Alpine Linux 3.22.0 | PASS | SKIPPED | SKIPPED | SKIPPED | SKIPPED | SKIPPED | +-------------------------------+--------------------+-------------------+-------------------------+----------------------+-------------------+------------------+ | Windows Server 2022 | SKIPPED | PASS | PASS | PASS | SKIPPED | SKIPPED | +-------------------------------+--------------------+-------------------+-------------------------+----------------------+-------------------+------------------+ Ubuntu 20.04 Kernel: 4.19 Compiler: gcc gcc (Ubuntu 9.4.0-1ubuntu1~20.04.2) 9.4.0 FreeBSD 14.2 Kernel: 14.2-RELEASE Compiler: clang 18.1.6 CentOS Stream 9 Kernel: 5.15 Compiler: gcc gcc (GCC) 11.5.0 20240719 (Red Hat 11.5.0-11) CentOS Stream 10 Kernel: 5.15 Compiler: gcc gcc (GCC) 14.2.1 20250110 (Red Hat 14.2.1-8) Debian GNU/Linux 12 Kernel: 5.15 Compiler: gcc gcc (Debian 12.2.0-14+deb12u1) 12.2.0 Fedora Linux 42 Kernel: 5.15 Compiler: clang gcc (GCC) 15.2.1 20250808 (Red Hat 15.2.1-1) openSUSE Leap 15.6 Kernel: 5.15 Compiler: gcc gcc (SUSE Linux) 7.5.0 Red Hat Enterprise Linux 8.10 Kernel: 5.15 Compiler: gcc gcc (GCC) 8.5.0 20210514 (Red Hat 8.5.0-22) Red Hat Enterprise Linux 9.5 Kernel: 5.15 Compiler: gcc gcc (GCC) 11.5.0 20240719 (Red Hat 11.5.0-2) Ubuntu 22.04 Kernel: 5.15 Compiler: gcc gcc (Ubuntu 11.4.0-1ubuntu1~22.04) 11.4.0 Ubuntu 24.04 Kernel: 5.15 Compiler: gcc gcc (Ubuntu 13.3.0-6ubuntu2~24.04) 13.3.0 Alpine Linux 3.22.0 Kernel: 5.15 Compiler: gcc gcc (Alpine 14.2.0) 14.2.0 Windows Server 2022 Kernel: 10.0.20348.2031 Compiler: clang 15.0.7, gcc 14.1.0 (MinGW), and MSVC VS 19.39.33521 To view detailed results, visit: https://lab.dpdk.org/results/dashboard/patchsets/34186/ UNH-IOL DPDK Community Lab To manage your email subscriptions, visit: https://lab.dpdk.org/results/dashboard/preferences/subscriptions/