From mboxrd@z Thu Jan 1 00:00:00 1970 Return-Path: Received: from mails.dpdk.org (mails.dpdk.org [217.70.189.124]) by inbox.dpdk.org (Postfix) with ESMTP id 5CB7A4887F for ; Wed, 1 Oct 2025 11:41:16 +0200 (CEST) Received: from mails.dpdk.org (localhost [127.0.0.1]) by mails.dpdk.org (Postfix) with ESMTP id 565C740A71; Wed, 1 Oct 2025 11:41:16 +0200 (CEST) Received: from mail-qv1-f100.google.com (mail-qv1-f100.google.com [209.85.219.100]) by mails.dpdk.org (Postfix) with ESMTP id 9FD6B40A71 for ; Wed, 1 Oct 2025 11:41:14 +0200 (CEST) Received: by mail-qv1-f100.google.com with SMTP id 6a1803df08f44-78eba712e89so55991816d6.3 for ; Wed, 01 Oct 2025 02:41:14 -0700 (PDT) DKIM-Signature: v=1; a=rsa-sha256; c=relaxed/relaxed; d=iol.unh.edu; s=unh-iol; t=1759311674; x=1759916474; darn=dpdk.org; h=references:in-reply-to:cc:to:from:subject:message-id:date:from:to :cc:subject:date:message-id:reply-to; bh=OyE7w0fkJLE8HZj5mr/j4HseAYH1vxYBG3UU85HZqlg=; b=FxoCJQCqdtjgmeN0JMBPg/rMBWyN7zXZoXiS+p5dsS8OTLUdQWmE5tGMrLjCGYwDaM NKNjPH+atRwq+WYNqtyrQ52/X278TRAHBzwgBkntkB0Sha6KpdPNsimTtzvOGFSCHPzN Eh1XW2BoMJ9kHS5INWl7+zXj4uzvuR67pAGvU= X-Google-DKIM-Signature: v=1; a=rsa-sha256; c=relaxed/relaxed; d=1e100.net; s=20230601; t=1759311674; x=1759916474; h=references:in-reply-to:cc:to:from:subject:message-id:date :x-gm-message-state:from:to:cc:subject:date:message-id:reply-to; bh=OyE7w0fkJLE8HZj5mr/j4HseAYH1vxYBG3UU85HZqlg=; b=u2Ed5vLR+d/a05hPR6dnGu16zCPtUN1il6+9xu5PkAoTm8UrmPSiGWX683OF8WTA6C N+EkQuqWUjhoB0CLeg+O7Pg+YGI0xg3nGLuM/laxXIXRcW4fzfRiUjFtYbgETAxLjdfE 6badzz061A9e/g97sAryQbkhQOPGwdpkjvV3bbMj0Pp9MvtsaUTVm2ToGxM3mONvez6K B2k5tlCAs0Ck2b243Vdg8QYS2uh+mwPTAVWaLEPPTzsx0RY8hcmR2K9JYlxj3H6lKQHj Tshh+SsafH5ERBhytcbN9FzvZoFwGa1+F7d/m3hqoy6auSmBC1af6QQMcisn+AfVsX2X y6ww== X-Gm-Message-State: AOJu0YyGDz08TCbgphzNd83Wi0+sfblHQW5y44sfhG4W84794jilycVU MICho2F4FuXVTEtIOko2T/VIPeYLpl5X8vbDWmrPZLAGRXtVkmBwRjXxXybI4ZStuIIXGPj9kSU WuVUP7BEoSd0b9G69gpdFFKihtYnDnsDEkUjj7CHsYw8U X-Gm-Gg: ASbGnctyd4SH4XXOQPTG4Z0kCBspG5yeBW5li4Wo/y1gj73T90AEnpojF+fCL0l6i73 Tfvp2Gr/ftKZzNpv+r1NBY+YUOTSVYJoDmpF0lSgpxIJdQmXB48PstsgRF2CHsYpNcFp8F2A7LU bkBFR6yuXBiMXs1Ul/WeuR/Fmyf0rcc8BSZC160UddRZyiNDGBRhSfYoNTgjGRx4V7B2Q65Lnps MiK7WB/6H/RVqukBINZN+cMVgSgDGFKxeYuKt6HpMAPOOdau/q2mMARb5oPI0KQRS1rI/GGZgUf MmdePyefLBPjbnkaklmJTrM+jEJuU9iWDqDsu9j1e2I0D2lh2zLQLyTSMU9cdEJwg6YDonIdhX6 SWQ== X-Google-Smtp-Source: AGHT+IG8vuolKrvDYcZMVQaY2SPFfJsQa5eDv5ywDq0TrAOgoMiIMTQEZ25+lXek3HHDf3Bektwmv7KVlxZQ X-Received: by 2002:ad4:5ba8:0:b0:81c:96cc:f7f8 with SMTP id 6a1803df08f44-873a5fffe0cmr41203986d6.36.1759311673971; Wed, 01 Oct 2025 02:41:13 -0700 (PDT) Received: from postal.iol.unh.edu (postal.iol.unh.edu. [132.177.123.84]) by smtp-relay.gmail.com with ESMTPS id 6a1803df08f44-8016193d064sm11589216d6.28.2025.10.01.02.41.13 (version=TLS1_2 cipher=ECDHE-ECDSA-AES128-GCM-SHA256 bits=128/128); Wed, 01 Oct 2025 02:41:13 -0700 (PDT) X-Relaying-Domain: iol.unh.edu Date: Wed, 01 Oct 2025 02:41:13 -0700 (PDT) Message-ID: <68dcf739.d40a0220.3cef0f.583eSMTPIN_ADDED_MISSING@mx.google.com> Received: from [172.21.0.3] (unknown [172.18.0.240]) by postal.iol.unh.edu (Postfix) with ESMTP id AF65A6051830; Wed, 1 Oct 2025 05:41:13 -0400 (EDT) Subject: |SUCCESS| pw157168-157169 [PATCH] [v5,2/2] net/idpf: enable AVX2 for From: dpdklab@iol.unh.edu To: Test Report Cc: dpdk-test-reports@iol.unh.edu, Bruce Richardson In-Reply-To: <20251001075609.2608021-3-shaiq.wani@intel.com> References: <20251001075609.2608021-3-shaiq.wani@intel.com> Content-Type: text/plain X-BeenThere: test-report@dpdk.org X-Mailman-Version: 2.1.29 Precedence: list List-Id: automatic DPDK test reports List-Unsubscribe: , List-Archive: List-Post: List-Help: List-Subscribe: , Errors-To: test-report-bounces@dpdk.org Test-Label: iol-compile-amd64-testing Test-Status: SUCCESS http://dpdk.org/patch/157169 _Testing PASS_ Submitter: Shaiq Wani Date: Wednesday, October 01 2025 07:56:09 DPDK git baseline: Repo:dpdk-next-net-intel Branch: master CommitID:9845e5848bbe337306fb6ae2a6b1ce5e6ab5b714 157168-157169 --> testing pass Upstream job id: Windows-Compile-DPDK-Native#31349 Test environment and result as below: +---------------------+--------------------+-------------------+-------------------------+ | Environment | dpdk_meson_compile | dpdk_msvc_compile | dpdk_llvm_clang_compile | +=====================+====================+===================+=========================+ | Ubuntu 20.04 | PASS | SKIPPED | SKIPPED | +---------------------+--------------------+-------------------+-------------------------+ | FreeBSD 14.2 | PASS | SKIPPED | SKIPPED | +---------------------+--------------------+-------------------+-------------------------+ | Windows Server 2022 | SKIPPED | PASS | PASS | +---------------------+--------------------+-------------------+-------------------------+ Ubuntu 20.04 Kernel: 4.19 Compiler: gcc gcc (Ubuntu 9.4.0-1ubuntu1~20.04.2) 9.4.0 FreeBSD 14.2 Kernel: 14.2-RELEASE Compiler: clang 18.1.6 Windows Server 2022 Kernel: 10.0.20348.2031 Compiler: clang 15.0.7, gcc 14.1.0 (MinGW), and MSVC VS 19.39.33521 To view detailed results, visit: https://lab.dpdk.org/results/dashboard/patchsets/34190/ UNH-IOL DPDK Community Lab To manage your email subscriptions, visit: https://lab.dpdk.org/results/dashboard/preferences/subscriptions/