From mboxrd@z Thu Jan 1 00:00:00 1970 Return-Path: Received: from mails.dpdk.org (mails.dpdk.org [217.70.189.124]) by inbox.dpdk.org (Postfix) with ESMTP id 3A59C48880 for ; Wed, 1 Oct 2025 12:02:23 +0200 (CEST) Received: from mails.dpdk.org (localhost [127.0.0.1]) by mails.dpdk.org (Postfix) with ESMTP id 1F9D7406B6; Wed, 1 Oct 2025 12:02:23 +0200 (CEST) Received: from mail-qt1-f226.google.com (mail-qt1-f226.google.com [209.85.160.226]) by mails.dpdk.org (Postfix) with ESMTP id CC995406B6 for ; Wed, 1 Oct 2025 12:02:21 +0200 (CEST) Received: by mail-qt1-f226.google.com with SMTP id d75a77b69052e-4de584653cfso82996741cf.0 for ; Wed, 01 Oct 2025 03:02:21 -0700 (PDT) DKIM-Signature: v=1; a=rsa-sha256; c=relaxed/relaxed; d=iol.unh.edu; s=unh-iol; t=1759312941; x=1759917741; darn=dpdk.org; h=references:in-reply-to:cc:to:from:subject:message-id:date:from:to :cc:subject:date:message-id:reply-to; bh=JU5GEr/dxKKa0tlWo/kHrASzmdmrTlk8owLjNcWrIm8=; b=JQRJz3xCKF03Ic4bufGdYNWEkBYDYrvuneh1hoHDjLLh1cO67bonugfYILEIn235yY cc8bNLlrVWFVrUiGxTWp+B6JNTIZMrleHnsc64KmiWZuaXjr+rSqg6JyQAaODpeXuKE4 E6x/CvjGt8oLpr2AuGE3kLnxRK+yMbwAmWebE= X-Google-DKIM-Signature: v=1; a=rsa-sha256; c=relaxed/relaxed; d=1e100.net; s=20230601; t=1759312941; x=1759917741; h=references:in-reply-to:cc:to:from:subject:message-id:date :x-gm-message-state:from:to:cc:subject:date:message-id:reply-to; bh=JU5GEr/dxKKa0tlWo/kHrASzmdmrTlk8owLjNcWrIm8=; b=AMds5W8v4NoCvFxvS5gvil91G8Aiy1TQW/HGCABV6Tj5XYVnFrcNqupQJfqAtOR3TJ 8WzJr49RbY86yf5YS/OVfUDurBdPYieN7rIuMlB3dJqWF+pAN2Vt3NQDvUkRx5OGyynJ NGujWEUK0idLQ7EaMONU+t6kMMOEUiqKc2CCWu7vFAZ5zUQTWtO9/jh4zMBHv2jYPL/g /76AwYYyi/r7P4YGGesO5FO3G7XCuUi9yqJ62CN5elnE0LHl7JlMMKAf6bRlXH4+PNTc Dimh8w5adXHpk9ywBy/pBWnSOSEXNa1IpqbTx9GgJyCEz58UKXPTBTjDco+BgVe6pmDT uAWQ== X-Gm-Message-State: AOJu0YwuHZIKo4uguB/MqRjC+D1EyZMw8isteQhfpi4lUChsIuf1rygv bHm5wCxBZ3hpkHEou5PDzKUjt6n0tBUmNvFmwNzjFA/vCBt3eIRBCgl5W8tiGIZbThyjLojjJrf ZfGKeuTw2WUe6L6YUwYDGbCnMD+q6AvSnpGva+TsVhlEcwggARR29p2/pSoNT X-Gm-Gg: ASbGnct4gSqXDVjn+PeuBP3lTbwMoMYd+CcUvtDziOh6zfBL4pzdSnVSjKSLuGNxoWd wEIgpLsCx7+7p+pv1p3u2T7VoCdKWgyk0ZkFYfYpZtG93e1a0JPd3JRSKWAsH66eKPXAp06YuKl YBJEkA2hVb2IbkxpzfAYe640sJghZneIBft19OGWYc6scCICb0nwxyYq6irZC3vnXkYZAVtUzX/ MORC9q2k4li4BrbKHoXCI5O34muxDy3p05XvPj8jieauxJKVtGoEHGt5DdLG276rwqV9w9ZjOCi StzW/45hReY9keFZbbvMVs31ifmoDd31vMqew/gQY4hvZxFAxUgnTbg= X-Google-Smtp-Source: AGHT+IHzK3p8yylYMS7183FNEEje2qL+iERlo34ryl8+B39ajitW9V++qP2ND5O2xBj81LYcByW8rQCOe+JU X-Received: by 2002:ac8:594b:0:b0:4b3:65e:76ff with SMTP id d75a77b69052e-4e41bd7a45amr30189031cf.15.1759312941113; Wed, 01 Oct 2025 03:02:21 -0700 (PDT) Received: from postal.iol.unh.edu (postal.iol.unh.edu. [2606:4100:3880:1234::84]) by smtp-relay.gmail.com with ESMTPS id d75a77b69052e-4db0ed52ad3sm5283701cf.10.2025.10.01.03.02.21 (version=TLS1_2 cipher=ECDHE-ECDSA-AES128-GCM-SHA256 bits=128/128); Wed, 01 Oct 2025 03:02:21 -0700 (PDT) X-Relaying-Domain: iol.unh.edu Date: Wed, 01 Oct 2025 03:02:21 -0700 (PDT) Message-ID: <68dcfc2d.050a0220.6a49b.ec8aSMTPIN_ADDED_MISSING@mx.google.com> Received: from [172.21.0.2] (unknown [172.18.0.240]) by postal.iol.unh.edu (Postfix) with ESMTP id CDEB06051830; Wed, 1 Oct 2025 06:02:20 -0400 (EDT) Subject: |SUCCESS| pw157168-157169 [PATCH] [v5,2/2] net/idpf: enable AVX2 for From: dpdklab@iol.unh.edu To: Test Report Cc: dpdk-test-reports@iol.unh.edu, Bruce Richardson In-Reply-To: <20251001075609.2608021-3-shaiq.wani@intel.com> References: <20251001075609.2608021-3-shaiq.wani@intel.com> Content-Type: text/plain X-BeenThere: test-report@dpdk.org X-Mailman-Version: 2.1.29 Precedence: list List-Id: automatic DPDK test reports List-Unsubscribe: , List-Archive: List-Post: List-Help: List-Subscribe: , Errors-To: test-report-bounces@dpdk.org Test-Label: iol-unit-amd64-testing Test-Status: SUCCESS http://dpdk.org/patch/157169 _Testing PASS_ Submitter: Shaiq Wani Date: Wednesday, October 01 2025 07:56:09 DPDK git baseline: Repo:dpdk-next-net-intel Branch: master CommitID:9845e5848bbe337306fb6ae2a6b1ce5e6ab5b714 157168-157169 --> testing pass Upstream job id: Generic-VM-Unit-Test-DPDK#31519 Test environment and result as below: +-------------------------------+----------------+ | Environment | dpdk_unit_test | +===============================+================+ | CentOS Stream 9 | PASS | +-------------------------------+----------------+ | Fedora Linux 40 | PASS | +-------------------------------+----------------+ | CentOS Stream 10 | PASS | +-------------------------------+----------------+ | Debian GNU/Linux 12 | PASS | +-------------------------------+----------------+ | Fedora Linux 41 | PASS | +-------------------------------+----------------+ | Fedora Linux 42 | PASS | +-------------------------------+----------------+ | Red Hat Enterprise Linux 9.5 | PASS | +-------------------------------+----------------+ | Red Hat Enterprise Linux 8.10 | PASS | +-------------------------------+----------------+ | Ubuntu 22.04 | PASS | +-------------------------------+----------------+ | Ubuntu 20.04 | PASS | +-------------------------------+----------------+ | Ubuntu 24.04 | PASS | +-------------------------------+----------------+ | Windows Server 2022 | PASS | +-------------------------------+----------------+ CentOS Stream 9 Kernel: 5.15 Compiler: gcc gcc (GCC) 11.5.0 20240719 (Red Hat 11.5.0-11) Fedora Linux 40 Kernel: 5.15 Compiler: gcc gcc (GCC) 14.2.1 20240912 (Red Hat 14.2.1-3) CentOS Stream 10 Kernel: 5.15 Compiler: gcc gcc (GCC) 14.2.1 20250110 (Red Hat 14.2.1-8) Debian GNU/Linux 12 Kernel: 5.15 Compiler: gcc gcc (Debian 12.2.0-14+deb12u1) 12.2.0 Fedora Linux 41 Kernel: 5.15 Compiler: gcc gcc (GCC) 14.3.1 20250523 (Red Hat 14.3.1-1) Fedora Linux 42 Kernel: 5.15 Compiler: gcc gcc (GCC) 15.2.1 20250808 (Red Hat 15.2.1-1) Red Hat Enterprise Linux 9.5 Kernel: 5.15 Compiler: gcc gcc (GCC) 11.5.0 20240719 (Red Hat 11.5.0-2) Red Hat Enterprise Linux 8.10 Kernel: 5.15 Compiler: gcc gcc (GCC) 8.5.0 20210514 (Red Hat 8.5.0-22) Ubuntu 22.04 Kernel: 5.15 Compiler: gcc gcc (Ubuntu 11.4.0-1ubuntu1~22.04) 11.4.0 Ubuntu 20.04 Kernel: 5.15 Compiler: gcc gcc (Ubuntu 9.4.0-1ubuntu1~20.04.2) 9.4.0 Ubuntu 24.04 Kernel: 5.15 Compiler: gcc gcc (Ubuntu 13.3.0-6ubuntu2~24.04) 13.3.0 Windows Server 2022 Kernel: 10.0.20348.2031 Compiler: clang 15.0.7, gcc 14.1.0 (MinGW), and MSVC VS 19.39.33521 To view detailed results, visit: https://lab.dpdk.org/results/dashboard/patchsets/34190/ UNH-IOL DPDK Community Lab To manage your email subscriptions, visit: https://lab.dpdk.org/results/dashboard/preferences/subscriptions/