From mboxrd@z Thu Jan 1 00:00:00 1970 Return-Path: Received: from mails.dpdk.org (mails.dpdk.org [217.70.189.124]) by inbox.dpdk.org (Postfix) with ESMTP id 667A248880 for ; Wed, 1 Oct 2025 12:12:44 +0200 (CEST) Received: from mails.dpdk.org (localhost [127.0.0.1]) by mails.dpdk.org (Postfix) with ESMTP id 40F80406B6; Wed, 1 Oct 2025 12:12:44 +0200 (CEST) Received: from mail-pg1-f227.google.com (mail-pg1-f227.google.com [209.85.215.227]) by mails.dpdk.org (Postfix) with ESMTP id 2B87E406B6 for ; Wed, 1 Oct 2025 12:12:42 +0200 (CEST) Received: by mail-pg1-f227.google.com with SMTP id 41be03b00d2f7-b58445361e8so799560a12.0 for ; Wed, 01 Oct 2025 03:12:42 -0700 (PDT) DKIM-Signature: v=1; a=rsa-sha256; c=relaxed/relaxed; d=iol.unh.edu; s=unh-iol; t=1759313561; x=1759918361; darn=dpdk.org; h=cc:to:from:subject:message-id:date:from:to:cc:subject:date :message-id:reply-to; bh=kfFH4SLWs9TTu6wkedbchzan2opTN4AO/k9NbA2A65A=; b=beOvzcfNY3OkyyQXo3Blc4UWx15zCyvRDVracK5RpqpErSd5FZ81+XW7jw9o+nFy3I KfkNy7DzdInMpI+kyx+O/pTgubJEduGhowkQV3Ozqcyqbw8+gbvh5fBluv0SOqRj//lJ U2EYtkQpC+VdR4n6tHzpFfQzbo8+ldR6irl1Y= X-Google-DKIM-Signature: v=1; a=rsa-sha256; c=relaxed/relaxed; d=1e100.net; s=20230601; t=1759313561; x=1759918361; h=cc:to:from:subject:message-id:date:x-gm-message-state:from:to:cc :subject:date:message-id:reply-to; bh=kfFH4SLWs9TTu6wkedbchzan2opTN4AO/k9NbA2A65A=; b=PFotuqbP0eqHHKrnvXpqycNb8Sad3M/05MFCWZueAI+41hM5ft7RWzl/63k4d+YJi6 JYEoOxpNKgy/T+kk7o/3PMLjTt6MsyehfOgIEc1LUOs5ocMEaIuCHrI5JkJGKM+GWisR uZGZdkZCs/sivmMjMKiq372qgwnnuAaxQitHQe6t0PmUfwwg3WSlw3gbW4zKGPtvvi8l AMx/Vpo8MRnkKLGBWB15Y9pxaQN+Q/gX8NxWuKb6twSolilmp6WXVhkHkA2LPDFVrWI2 jgu08cMpvk+BnxmNvEY0/1ArUK+iq1PZxBqeMJnHmjtbtyV1cQpR9Q2Ix/lN1g8iiJtz wBww== X-Gm-Message-State: AOJu0YwMozPgUuN56wuPmcK5GSgbpYG455xo8qCa98r8CkNkJuDc5ol0 XckIE8r7Jd/oD08EnKqJdZtygXy29sCU4HU772eq74OjPJyi82JKDDz3E4TKQmSFQwDfWrGP1aQ hGfM3qgINlyuxEjm/kPP/Cl6N6P/XkKiyhTZqqhrjXFT99TzNRBCHHU6Ya1t8 X-Gm-Gg: ASbGnctnwxmsndxv5kR+7v6P6/pqHV/947Gy8/+OnPUkbqpwZ5rIi7OhHDtOUg+TKc9 dXJR/4G5tjYk6fu2y/FtBl7b0mogs+VssToLRQoao/janZLTb4xbVLhc/+0hFdH7I1No2xGUcFD +7jRnyOVP/Gghb6xJKpZG9yaEgltTmbry1c7PqaLgObdGAK09w5osfNRjTNPsBDE24yMlxm4l8U 2QyM+cPjhsXbPzB0XzWQrxjOlh65c3p77YvOY3derXM4VtezMpHVCREBUoUvzivhOduAY73WoFf 62xQoakbmOwUd6uJwgO3sOJI26+0rwsH+pg353b7PDCN5AqUDwonLOg= X-Google-Smtp-Source: AGHT+IEvjV2L/2bCa/5jds5M+c8gVCCn8eufyeu3dJnSYmpnrc8lWdUNgsy4biCfOnco8I85JQfHWsurHMeO X-Received: by 2002:a17:903:2289:b0:282:2c52:508e with SMTP id d9443c01a7336-28e7ea049e0mr40994505ad.8.1759313561157; Wed, 01 Oct 2025 03:12:41 -0700 (PDT) Received: from postal.iol.unh.edu (postal.iol.unh.edu. [2606:4100:3880:1234::84]) by smtp-relay.gmail.com with ESMTPS id d9443c01a7336-27eeb413eb2sm12866995ad.9.2025.10.01.03.12.41 (version=TLS1_2 cipher=ECDHE-ECDSA-AES128-GCM-SHA256 bits=128/128); Wed, 01 Oct 2025 03:12:41 -0700 (PDT) X-Relaying-Domain: iol.unh.edu Date: Wed, 01 Oct 2025 03:12:41 -0700 (PDT) Message-ID: <68dcfe99.170a0220.292632.fab7SMTPIN_ADDED_MISSING@mx.google.com> Received: from [172.21.0.2] (unknown [172.18.0.240]) by postal.iol.unh.edu (Postfix) with ESMTP id 55D046051830; Wed, 1 Oct 2025 06:12:40 -0400 (EDT) Subject: |SUCCESS| [GIT MASTER] 8fafc107475f8456cf90cbb7e805236aafa6d547 From: dpdklab@iol.unh.edu To: Test Report Cc: dpdk-test-reports@iol.unh.edu, Akhil Goyal Content-Type: text/plain X-BeenThere: test-report@dpdk.org X-Mailman-Version: 2.1.29 Precedence: list List-Id: automatic DPDK test reports List-Unsubscribe: , List-Archive: List-Post: List-Help: List-Subscribe: , Errors-To: test-report-bounces@dpdk.org _Testing PASS_ Branch: dpdk-next-crypto 8fafc107475f8456cf90cbb7e805236aafa6d547 --> testing pass Upstream job id: Generic-DPDK-Compile-Meson#430275 Test environment and result as below: +-------------------------------+--------------------+-------------------+-------------------------+----------------------+-------------------+------------------+ | Environment | dpdk_meson_compile | dpdk_msvc_compile | dpdk_llvm_clang_compile | dpdk_mingw64_compile | dpdk_compile_spdk | dpdk_compile_ovs | +===============================+====================+===================+=========================+======================+===================+==================+ | Ubuntu 20.04 | PASS | SKIPPED | SKIPPED | SKIPPED | SKIPPED | SKIPPED | +-------------------------------+--------------------+-------------------+-------------------------+----------------------+-------------------+------------------+ | FreeBSD 14.2 | PASS | SKIPPED | SKIPPED | SKIPPED | SKIPPED | SKIPPED | +-------------------------------+--------------------+-------------------+-------------------------+----------------------+-------------------+------------------+ | CentOS Stream 9 | PASS | SKIPPED | SKIPPED | SKIPPED | PASS | SKIPPED | +-------------------------------+--------------------+-------------------+-------------------------+----------------------+-------------------+------------------+ | Debian GNU/Linux 12 | PASS | SKIPPED | SKIPPED | SKIPPED | PASS | SKIPPED | +-------------------------------+--------------------+-------------------+-------------------------+----------------------+-------------------+------------------+ | CentOS Stream 10 | PASS | SKIPPED | SKIPPED | SKIPPED | SKIPPED | SKIPPED | +-------------------------------+--------------------+-------------------+-------------------------+----------------------+-------------------+------------------+ | Fedora Linux 42 | PASS | SKIPPED | SKIPPED | SKIPPED | PASS | PASS | +-------------------------------+--------------------+-------------------+-------------------------+----------------------+-------------------+------------------+ | openSUSE Leap 15.6 | PASS | SKIPPED | SKIPPED | SKIPPED | SKIPPED | SKIPPED | +-------------------------------+--------------------+-------------------+-------------------------+----------------------+-------------------+------------------+ | Red Hat Enterprise Linux 8.10 | PASS | SKIPPED | SKIPPED | SKIPPED | SKIPPED | SKIPPED | +-------------------------------+--------------------+-------------------+-------------------------+----------------------+-------------------+------------------+ | Red Hat Enterprise Linux 9.5 | PASS | SKIPPED | SKIPPED | SKIPPED | SKIPPED | SKIPPED | +-------------------------------+--------------------+-------------------+-------------------------+----------------------+-------------------+------------------+ | Ubuntu 22.04 | PASS | SKIPPED | SKIPPED | SKIPPED | PASS | SKIPPED | +-------------------------------+--------------------+-------------------+-------------------------+----------------------+-------------------+------------------+ | Ubuntu 24.04 | PASS | SKIPPED | SKIPPED | SKIPPED | PASS | PASS | +-------------------------------+--------------------+-------------------+-------------------------+----------------------+-------------------+------------------+ | Windows Server 2022 | SKIPPED | PASS | PASS | PASS | SKIPPED | SKIPPED | +-------------------------------+--------------------+-------------------+-------------------------+----------------------+-------------------+------------------+ Ubuntu 20.04 Kernel: 4.19 Compiler: gcc gcc (Ubuntu 9.4.0-1ubuntu1~20.04.2) 9.4.0 FreeBSD 14.2 Kernel: 14.2-RELEASE Compiler: clang 18.1.6 CentOS Stream 9 Kernel: 5.15 Compiler: gcc gcc (GCC) 11.5.0 20240719 (Red Hat 11.5.0-11) Debian GNU/Linux 12 Kernel: 5.15 Compiler: gcc gcc (Debian 12.2.0-14+deb12u1) 12.2.0 CentOS Stream 10 Kernel: 5.15 Compiler: gcc gcc (GCC) 14.2.1 20250110 (Red Hat 14.2.1-8) Fedora Linux 42 Kernel: 5.15 Compiler: gcc gcc (GCC) 15.2.1 20250808 (Red Hat 15.2.1-1) openSUSE Leap 15.6 Kernel: 5.15 Compiler: gcc gcc (SUSE Linux) 7.5.0 Red Hat Enterprise Linux 8.10 Kernel: 5.15 Compiler: gcc gcc (GCC) 8.5.0 20210514 (Red Hat 8.5.0-22) Red Hat Enterprise Linux 9.5 Kernel: 5.15 Compiler: gcc gcc (GCC) 11.5.0 20240719 (Red Hat 11.5.0-2) Ubuntu 22.04 Kernel: 5.15 Compiler: gcc gcc (Ubuntu 11.4.0-1ubuntu1~22.04) 11.4.0 Ubuntu 24.04 Kernel: 5.15 Compiler: gcc gcc (Ubuntu 13.3.0-6ubuntu2~24.04) 13.3.0 Windows Server 2022 Kernel: 10.0.20348.2031 Compiler: clang 15.0.7, gcc 14.1.0 (MinGW), and MSVC VS 19.39.33521 To view detailed results, visit: https://lab.dpdk.org/results/dashboard/tarballs/35065/ UNH-IOL DPDK Community Lab To manage your email subscriptions, visit: https://lab.dpdk.org/results/dashboard/preferences/subscriptions/