From mboxrd@z Thu Jan 1 00:00:00 1970 Return-Path: Received: from mails.dpdk.org (mails.dpdk.org [217.70.189.124]) by inbox.dpdk.org (Postfix) with ESMTP id 6D80748880 for ; Wed, 1 Oct 2025 12:14:03 +0200 (CEST) Received: from mails.dpdk.org (localhost [127.0.0.1]) by mails.dpdk.org (Postfix) with ESMTP id 67EDB406B6; Wed, 1 Oct 2025 12:14:03 +0200 (CEST) Received: from mail-il1-f227.google.com (mail-il1-f227.google.com [209.85.166.227]) by mails.dpdk.org (Postfix) with ESMTP id A8A01406B6 for ; Wed, 1 Oct 2025 12:14:01 +0200 (CEST) Received: by mail-il1-f227.google.com with SMTP id e9e14a558f8ab-4256f499013so34370765ab.1 for ; Wed, 01 Oct 2025 03:14:01 -0700 (PDT) DKIM-Signature: v=1; a=rsa-sha256; c=relaxed/relaxed; d=iol.unh.edu; s=unh-iol; t=1759313641; x=1759918441; darn=dpdk.org; h=references:in-reply-to:cc:to:from:subject:message-id:date:from:to :cc:subject:date:message-id:reply-to; bh=hSK2TnKD/X7iGOd3VWlOGp06iZ8wbiJYMh+NXxryYqQ=; b=Ddbd3yybf+6EEG47fLqZ6INi9bkafF+K6VU9I8NthkCpIGdXYMfXLefnYJcDcCWTJt SnbWskD1V19mm/S+vIMpMB++usvsMnzumCMbAT/dEAmC4LDvWxQ9KBNFEgFPIfHJqnF/ fXh0Wbim95PKirB1xU/4gVYkdUCmlMzKwyceQ= X-Google-DKIM-Signature: v=1; a=rsa-sha256; c=relaxed/relaxed; d=1e100.net; s=20230601; t=1759313641; x=1759918441; h=references:in-reply-to:cc:to:from:subject:message-id:date :x-gm-message-state:from:to:cc:subject:date:message-id:reply-to; bh=hSK2TnKD/X7iGOd3VWlOGp06iZ8wbiJYMh+NXxryYqQ=; b=jrpsRtcJjuoMwAbRL3ZYgsLulHOHD8z/1l597nR4kwlJNYM2CnPIHq9UH7FSU6Dl+a KC/6IE/AOQzJPkBo31Aaq2Kdh7nr/NesUzpkooOcxCEKl8pZZJD8NdRao5tHy0hPYAiL ezR4VSLbhZsixDZaL+oseJ2/KBImcNZ/1F/NDfYiQPRYnvcWYR6IbNPidm7ythk+Mvsp wXYUhrURff4hoxH1Bv7gCAzo29dSBVhd1ZptIaghoLTnSdnc+T6gYoQiG+wZpciOK8g6 qxVaqcgyZdHcA++9tjIWMLT8BRhppMSalMNt+SNLJweZCBplfa/zInq5Tkr+wuRc4pmJ pOMQ== X-Gm-Message-State: AOJu0YzBTg51HPVIiG1dDAYWwsdZLvc1+BIlmjXPVBnqZajPU10tcjAk IpsFK7ISOsX9GSdxqDN4vEDMPva/9x9u6m1mf0OdfJyT6yHNeGgNKQ+wRbbPb4wVj1RVsXmHoNG eNjlsZeADfbkp+cM+FFItsg1M5vo3zrrzSRtWPG7DUhQ+P+I7JntCJoFmt03/ X-Gm-Gg: ASbGncsmC1oAMyiK6bV9BlTBQPjakhOwuSPrq2FwOIWbFE4r8BEd0KJgBzJC7tDkYrZ YLZk+tpTwZmhUga4AGO9oNzJNMsQGzsBao0dFg2kxlM6JNgGyaf6yyLNi49m0D5x2sFsnOMgzEi PIYyHHc+TJ2Yn1/qKDz+9ycu2Fg80iLkb2YzCG8Mx+FUlg/rYStJmD2Rd4cNA01t4MBHkoMHlc9 +H9H+xZvRflnTqo6KuxVBiAYja3N30zQGO0zuvhcnkX7G1CPzV60J4W52jo80PUWffgxJI4WGrZ KSZ557XXuVDUtEz6Ch06f5xhk89b7OXqYuxfnJq3aZfCiAqSIMoJ8fI= X-Google-Smtp-Source: AGHT+IEswwq+nCbLlKdZ8mY1S4qG8JB1U/Iv0LYhYONO1sN0WPZoqvM2D7ZgQlajjteJjWgeUYOILiBm6TBN X-Received: by 2002:a05:6e02:2142:b0:42d:876e:61bd with SMTP id e9e14a558f8ab-42d876e6694mr7146685ab.28.1759313640929; Wed, 01 Oct 2025 03:14:00 -0700 (PDT) Received: from postal.iol.unh.edu (postal.iol.unh.edu. [2606:4100:3880:1234::84]) by smtp-relay.gmail.com with ESMTPS id 8926c6da1cb9f-57861f15e8asm276544173.21.2025.10.01.03.14.00 (version=TLS1_2 cipher=ECDHE-ECDSA-AES128-GCM-SHA256 bits=128/128); Wed, 01 Oct 2025 03:14:00 -0700 (PDT) X-Relaying-Domain: iol.unh.edu Date: Wed, 01 Oct 2025 03:14:00 -0700 (PDT) Message-ID: <68dcfee8.050a0220.a6115.fd88SMTPIN_ADDED_MISSING@mx.google.com> Received: from [172.21.0.2] (unknown [172.18.0.240]) by postal.iol.unh.edu (Postfix) with ESMTP id 817BA6051830; Wed, 1 Oct 2025 06:14:00 -0400 (EDT) Subject: |SUCCESS| pw157170 [PATCH] ci: configure Coderabbit From: dpdklab@iol.unh.edu To: Test Report Cc: dpdk-test-reports@iol.unh.edu In-Reply-To: <20251001081825.2638077-1-david.marchand@redhat.com> References: <20251001081825.2638077-1-david.marchand@redhat.com> Content-Type: text/plain X-BeenThere: test-report@dpdk.org X-Mailman-Version: 2.1.29 Precedence: list List-Id: automatic DPDK test reports List-Unsubscribe: , List-Archive: List-Post: List-Help: List-Subscribe: , Errors-To: test-report-bounces@dpdk.org Test-Label: iol-compile-amd64-testing Test-Status: SUCCESS http://dpdk.org/patch/157170 _Testing PASS_ Submitter: David Marchand Date: Wednesday, October 01 2025 08:18:25 DPDK git baseline: Repo:dpdk Branch: master CommitID:f3878b615e69a12087a6c5d212723478cfc79c31 157170 --> testing pass Upstream job id: Windows-Compile-DPDK-VS#7073 Test environment and result as below: +---------------------+--------------------+-------------------+ | Environment | dpdk_meson_compile | dpdk_msvc_compile | +=====================+====================+===================+ | Ubuntu 20.04 | PASS | SKIPPED | +---------------------+--------------------+-------------------+ | FreeBSD 14.2 | PASS | SKIPPED | +---------------------+--------------------+-------------------+ | Windows Server 2022 | SKIPPED | PASS | +---------------------+--------------------+-------------------+ Ubuntu 20.04 Kernel: 4.19 Compiler: gcc gcc (Ubuntu 9.4.0-1ubuntu1~20.04.2) 9.4.0 FreeBSD 14.2 Kernel: 14.2-RELEASE Compiler: clang 18.1.6 Windows Server 2022 Kernel: 10.0.20348.2031 Compiler: clang 15.0.7, gcc 14.1.0 (MinGW), and MSVC VS 19.39.33521 To view detailed results, visit: https://lab.dpdk.org/results/dashboard/patchsets/34191/ UNH-IOL DPDK Community Lab To manage your email subscriptions, visit: https://lab.dpdk.org/results/dashboard/preferences/subscriptions/