From mboxrd@z Thu Jan 1 00:00:00 1970 Return-Path: Received: from mails.dpdk.org (mails.dpdk.org [217.70.189.124]) by inbox.dpdk.org (Postfix) with ESMTP id 8BD0848880 for ; Wed, 1 Oct 2025 12:15:12 +0200 (CEST) Received: from mails.dpdk.org (localhost [127.0.0.1]) by mails.dpdk.org (Postfix) with ESMTP id 87457406B6; Wed, 1 Oct 2025 12:15:12 +0200 (CEST) Received: from mail-yw1-f226.google.com (mail-yw1-f226.google.com [209.85.128.226]) by mails.dpdk.org (Postfix) with ESMTP id 83A32406B6 for ; Wed, 1 Oct 2025 12:15:11 +0200 (CEST) Received: by mail-yw1-f226.google.com with SMTP id 00721157ae682-71d5fe46572so13544327b3.1 for ; Wed, 01 Oct 2025 03:15:11 -0700 (PDT) DKIM-Signature: v=1; a=rsa-sha256; c=relaxed/relaxed; d=iol.unh.edu; s=unh-iol; t=1759313711; x=1759918511; darn=dpdk.org; h=references:in-reply-to:cc:to:from:subject:message-id:date:from:to :cc:subject:date:message-id:reply-to; bh=FyblDVeQXsAmdrSrLgsK/dIvJ4j1WeGP6DRXF6LeD+w=; b=JXOi2BYoEqXnnlRRnTkE/YoMHr2R7ib3If2ohBQBwzVtOY+wLBTslL6jmRaGdNtjVC 7iYnefayUQD7fTO3qdafrWtLPYpkxrr6Ws+ykbuv9vEkvRYcHDHnKdMVXETxyUX7mSzj HU+PkZ5rQVeDJK2wjNHU2hsFQ+JLVXdmA1k8A= X-Google-DKIM-Signature: v=1; a=rsa-sha256; c=relaxed/relaxed; d=1e100.net; s=20230601; t=1759313711; x=1759918511; h=references:in-reply-to:cc:to:from:subject:message-id:date :x-gm-message-state:from:to:cc:subject:date:message-id:reply-to; bh=FyblDVeQXsAmdrSrLgsK/dIvJ4j1WeGP6DRXF6LeD+w=; b=eiWGcdEDkXIsxAIktRUAdi/jVuKVFTHt7u/1RMyizCyiJ15DkAfiErFCx7uN6jdULX xxOdkUBrHCSkId4dCS4X0DurWXWcoh7/S1YP+3JMO5pMlOplQSLekyjhgcMYRDiN8M+9 QtGjnsg4ZUR0s0mwS0Htzl62AJrOd46u/iSbdTFZ0iVeR+zmCWncjZCZjCrqToyIA+iv dBW6QBY3xkbuL/a3tEeQk3EweqXj2TgXnjQpaMAtB9oMlj+XIJBM6Oo2AlkshfmjsjI1 2OUI93aaYgngypdAYoAVFgKrjhxHPpHSLmExAkfhJCuwn4MPJJRshlG2v86HC8sU9Up0 Wr7A== X-Gm-Message-State: AOJu0Yz0nyoS1sJx4w9DCKAPYhE8GO9i1naH5beXDIXAThlIhqED2mC9 EPAWMzKuvufV1XlPzbGNQtv0CRzU6ELSldz2320+y3ATwpmW7MU4Cbd5rKAYnLcxHtN+JLW7WYE SyyRKSTC4CtJ4/8XCwE1dFAvFZvcXo0N/Wjyt5Kg25Iat X-Gm-Gg: ASbGncsyTN1X97LDCJ06mALyk+bXrcxhpbw/V2kPmi01u1qw7Fwjr8RaKzz+W3YlaWR GJZVKEBZvegyxRcXfp2Z+cjS2MNX4QeigA25RqUpuyEuEIQ+RPgDtg9uxNvvuL/Q1m/W9Y8AyTr Vo/d7q6w7fscupNHVb33uSRXBzOIprByoZVnk3tUmakzkk0+31hMouI6qF0uk/2G+yoosva1GyL OYH9d9Ckm6LLoPzKB0iPk8TT+/Z0BQDSt2nI2xwYLyw3QKDiOQtn90ZWsXWNrDfwxVNloHlxpRB KwE66aYRQOXh/8WgrIen6GHYoZsArHqhy4XBp/VDTX9ncGI2KvVSy7r7T4HYMXsV+NMdAiF7jYm c9A== X-Google-Smtp-Source: AGHT+IEwMMW/QP4/syh8cbtVGGy583DqpYEkMyWXMUGzVQXZizUxEc0aFVo3VZruYgiL15Ge7qIg7Ljneldg X-Received: by 2002:a05:690c:4509:b0:772:495e:56de with SMTP id 00721157ae682-77e5c5f5fb7mr98582587b3.0.1759313710721; Wed, 01 Oct 2025 03:15:10 -0700 (PDT) Received: from postal.iol.unh.edu (postal.iol.unh.edu. [132.177.123.84]) by smtp-relay.gmail.com with ESMTPS id 00721157ae682-7701563a5cesm6813997b3.3.2025.10.01.03.15.10 (version=TLS1_2 cipher=ECDHE-ECDSA-AES128-GCM-SHA256 bits=128/128); Wed, 01 Oct 2025 03:15:10 -0700 (PDT) X-Relaying-Domain: iol.unh.edu Date: Wed, 01 Oct 2025 03:15:10 -0700 (PDT) Message-ID: <68dcff2e.050a0220.608a0.97ffSMTPIN_ADDED_MISSING@mx.google.com> Received: from [172.21.0.2] (unknown [172.18.0.240]) by postal.iol.unh.edu (Postfix) with ESMTP id 659CA60003F7; Wed, 1 Oct 2025 06:15:10 -0400 (EDT) Subject: |SUCCESS| pw157168-157169 [PATCH] [v5,2/2] net/idpf: enable AVX2 for From: dpdklab@iol.unh.edu To: Test Report Cc: dpdk-test-reports@iol.unh.edu, Bruce Richardson In-Reply-To: <20251001075609.2608021-3-shaiq.wani@intel.com> References: <20251001075609.2608021-3-shaiq.wani@intel.com> Content-Type: text/plain X-BeenThere: test-report@dpdk.org X-Mailman-Version: 2.1.29 Precedence: list List-Id: automatic DPDK test reports List-Unsubscribe: , List-Archive: List-Post: List-Help: List-Subscribe: , Errors-To: test-report-bounces@dpdk.org Test-Label: iol-compile-amd64-testing Test-Status: SUCCESS http://dpdk.org/patch/157169 _Testing PASS_ Submitter: Shaiq Wani Date: Wednesday, October 01 2025 07:56:09 DPDK git baseline: Repo:dpdk-next-net-intel Branch: master CommitID:9845e5848bbe337306fb6ae2a6b1ce5e6ab5b714 157168-157169 --> testing pass Upstream job id: Windows-Compile-DPDK-Native#31350 Test environment and result as below: +---------------------+--------------------+-------------------+-------------------------+----------------------+ | Environment | dpdk_meson_compile | dpdk_msvc_compile | dpdk_llvm_clang_compile | dpdk_mingw64_compile | +=====================+====================+===================+=========================+======================+ | Ubuntu 20.04 | PASS | SKIPPED | SKIPPED | SKIPPED | +---------------------+--------------------+-------------------+-------------------------+----------------------+ | FreeBSD 14.2 | PASS | SKIPPED | SKIPPED | SKIPPED | +---------------------+--------------------+-------------------+-------------------------+----------------------+ | Windows Server 2022 | SKIPPED | PASS | PASS | PASS | +---------------------+--------------------+-------------------+-------------------------+----------------------+ Ubuntu 20.04 Kernel: 4.19 Compiler: gcc gcc (Ubuntu 9.4.0-1ubuntu1~20.04.2) 9.4.0 FreeBSD 14.2 Kernel: 14.2-RELEASE Compiler: clang 18.1.6 Windows Server 2022 Kernel: 10.0.20348.2031 Compiler: clang 15.0.7, gcc 14.1.0 (MinGW), and MSVC VS 19.39.33521 To view detailed results, visit: https://lab.dpdk.org/results/dashboard/patchsets/34190/ UNH-IOL DPDK Community Lab To manage your email subscriptions, visit: https://lab.dpdk.org/results/dashboard/preferences/subscriptions/