From mboxrd@z Thu Jan 1 00:00:00 1970 Return-Path: Received: from mails.dpdk.org (mails.dpdk.org [217.70.189.124]) by inbox.dpdk.org (Postfix) with ESMTP id 509D248880 for ; Wed, 1 Oct 2025 12:22:26 +0200 (CEST) Received: from mails.dpdk.org (localhost [127.0.0.1]) by mails.dpdk.org (Postfix) with ESMTP id 26DB2406B6; Wed, 1 Oct 2025 12:22:26 +0200 (CEST) Received: from mail-il1-f228.google.com (mail-il1-f228.google.com [209.85.166.228]) by mails.dpdk.org (Postfix) with ESMTP id CA6C1406B6 for ; Wed, 1 Oct 2025 12:22:24 +0200 (CEST) Received: by mail-il1-f228.google.com with SMTP id e9e14a558f8ab-4248b34fc8eso70266335ab.3 for ; Wed, 01 Oct 2025 03:22:24 -0700 (PDT) DKIM-Signature: v=1; a=rsa-sha256; c=relaxed/relaxed; d=iol.unh.edu; s=unh-iol; t=1759314144; x=1759918944; darn=dpdk.org; h=references:in-reply-to:cc:to:from:subject:message-id:date:from:to :cc:subject:date:message-id:reply-to; bh=+bwaATWxdB0S0KDSi234hUW1X8nkXg3bwSt263QUFz0=; b=ATXX0b+b4crRj9qblGyIU35gQZbUZbaXjydlDv+YoqDiYTQ0ruJJ/bSDCwDLwMO2YH ZBi/yaQAQknh/B3RmE7yER5rt11mVp8zqsdcmOIyCjCqRcUMoWZCp08QFRWAi/fCCbFp W2ZvP+6x683+7gHW1MP9wikXp9SJxOci9X5W4= X-Google-DKIM-Signature: v=1; a=rsa-sha256; c=relaxed/relaxed; d=1e100.net; s=20230601; t=1759314144; x=1759918944; h=references:in-reply-to:cc:to:from:subject:message-id:date :x-gm-message-state:from:to:cc:subject:date:message-id:reply-to; bh=+bwaATWxdB0S0KDSi234hUW1X8nkXg3bwSt263QUFz0=; b=o4NGdTiJZ35ro4nImAC9IYX0DVmO+VI7weweTjIISu0fAFPmn0GxHgOSR2tZmcmj20 iJhA7qRdb6MHn7D8TpIINlIgiMGO49nZDeJH1I+hjr4tVSzluh3FllrjA7wTzsT1lLs8 P510PBSpCQrpzwu5pBWhftOoKaGiBURiy1BD5IxJgrWhg4mlqudlU8rMlUYKJd5GsQij YQQAViqFvT6SwL+8jdb9Shu8ztO1VXM/lmHpY2bR8uDn36n9D7IvMDEj3ZteJXqUEB0r oGggDGkXj+4uDEseqShKKqalkufWLyGlTSXQBe9MSFiPINqKUAMj4Dj5XCxlQ8r7ccTv SMpw== X-Gm-Message-State: AOJu0YymZyYvxThqhofz5Ov92U4BW+0oK+ndcKfZIiYfzy9y4un+6jAO jjRaUurC1QvHp8jHSKTMM3FHdfTO6ibqRJAXF3VPE4jCPN+czBCtd38STAlHdET1F0s5p1ki2Xz up6XH9anXBSB4bnCaVCp8ac5FcrsQFTetIT+CHuUT0bBGjDo37aZZPMNk/vRQ X-Gm-Gg: ASbGnctfwRBB+2U3OSTUPeB5wD7FQuck/6A4B87CzsBgx5H4vJWbLra/iwLvCypL/TY 5iPawwPvTBk4K99WUo3g++U5ceh/3/7G4Os+YDxOadjblYc/1hlXuIxbKZG2xJJRViRh2DBWHJd qM8jDuDSus/002+Fsz1Yl0/WUWzOWp5xE7J0RoWaXnfVgrHfu2chvssH9rmj4BTmBvgEpo65dgJ U0PZ9dcYeAnfiI8qyg1T02fSJPf0tu/3Y0Z45TEUIboEDrVH/azzFgtfX5BKuacvrueRPj2s3HV dob8o+GbRJQ+rAOEA+sp+FHPlaeIWP1IW4C8nq4PYzXkNHzJh5bBjfk= X-Google-Smtp-Source: AGHT+IExjQvcLglmtKR9NQwFsM9N1EjdEbJil2mfXr/jyhlkoiuf6lFWHrwoy50ycgtjBqj+c+h9mClmiuIu X-Received: by 2002:a05:6e02:1a47:b0:428:e8eb:9272 with SMTP id e9e14a558f8ab-42d815a0b17mr51580405ab.4.1759314143952; Wed, 01 Oct 2025 03:22:23 -0700 (PDT) Received: from postal.iol.unh.edu (postal.iol.unh.edu. [2606:4100:3880:1234::84]) by smtp-relay.gmail.com with ESMTPS id e9e14a558f8ab-425bbacfd42sm12687325ab.8.2025.10.01.03.22.23 (version=TLS1_2 cipher=ECDHE-ECDSA-AES128-GCM-SHA256 bits=128/128); Wed, 01 Oct 2025 03:22:23 -0700 (PDT) X-Relaying-Domain: iol.unh.edu Date: Wed, 01 Oct 2025 03:22:23 -0700 (PDT) Message-ID: <68dd00df.050a0220.25e0e.b8f0SMTPIN_ADDED_MISSING@mx.google.com> Received: from [172.21.0.2] (unknown [172.18.0.240]) by postal.iol.unh.edu (Postfix) with ESMTP id 86C336051830; Wed, 1 Oct 2025 06:22:23 -0400 (EDT) Subject: |SUCCESS| pw157170 [PATCH] ci: configure Coderabbit From: dpdklab@iol.unh.edu To: Test Report Cc: dpdk-test-reports@iol.unh.edu In-Reply-To: <20251001081825.2638077-1-david.marchand@redhat.com> References: <20251001081825.2638077-1-david.marchand@redhat.com> Content-Type: text/plain X-BeenThere: test-report@dpdk.org X-Mailman-Version: 2.1.29 Precedence: list List-Id: automatic DPDK test reports List-Unsubscribe: , List-Archive: List-Post: List-Help: List-Subscribe: , Errors-To: test-report-bounces@dpdk.org Test-Label: iol-unit-amd64-testing Test-Status: SUCCESS http://dpdk.org/patch/157170 _Testing PASS_ Submitter: David Marchand Date: Wednesday, October 01 2025 08:18:25 DPDK git baseline: Repo:dpdk Branch: master CommitID:f3878b615e69a12087a6c5d212723478cfc79c31 157170 --> testing pass Upstream job id: Generic-VM-Unit-Test-DPDK#31520 Test environment and result as below: +-------------------------------+----------------+ | Environment | dpdk_unit_test | +===============================+================+ | CentOS Stream 9 | PASS | +-------------------------------+----------------+ | CentOS Stream 10 | PASS | +-------------------------------+----------------+ | Debian GNU/Linux 12 | PASS | +-------------------------------+----------------+ | Fedora Linux 40 | PASS | +-------------------------------+----------------+ | Fedora Linux 41 | PASS | +-------------------------------+----------------+ | Fedora Linux 42 | PASS | +-------------------------------+----------------+ | Red Hat Enterprise Linux 8.10 | PASS | +-------------------------------+----------------+ | Red Hat Enterprise Linux 9.5 | PASS | +-------------------------------+----------------+ | Ubuntu 22.04 | PASS | +-------------------------------+----------------+ | Ubuntu 20.04 | PASS | +-------------------------------+----------------+ | Ubuntu 24.04 | PASS | +-------------------------------+----------------+ | Windows Server 2022 | PASS | +-------------------------------+----------------+ CentOS Stream 9 Kernel: 5.15 Compiler: gcc gcc (GCC) 11.5.0 20240719 (Red Hat 11.5.0-11) CentOS Stream 10 Kernel: 5.15 Compiler: gcc gcc (GCC) 14.2.1 20250110 (Red Hat 14.2.1-8) Debian GNU/Linux 12 Kernel: 5.15 Compiler: gcc gcc (Debian 12.2.0-14+deb12u1) 12.2.0 Fedora Linux 40 Kernel: 5.15 Compiler: gcc gcc (GCC) 14.2.1 20240912 (Red Hat 14.2.1-3) Fedora Linux 41 Kernel: 5.15 Compiler: gcc gcc (GCC) 14.3.1 20250523 (Red Hat 14.3.1-1) Fedora Linux 42 Kernel: 5.15 Compiler: clang gcc (GCC) 15.2.1 20250808 (Red Hat 15.2.1-1) Red Hat Enterprise Linux 8.10 Kernel: 5.15 Compiler: gcc gcc (GCC) 8.5.0 20210514 (Red Hat 8.5.0-22) Red Hat Enterprise Linux 9.5 Kernel: 5.15 Compiler: gcc gcc (GCC) 11.5.0 20240719 (Red Hat 11.5.0-2) Ubuntu 22.04 Kernel: 5.15 Compiler: gcc gcc (Ubuntu 11.4.0-1ubuntu1~22.04) 11.4.0 Ubuntu 20.04 Kernel: 5.15 Compiler: gcc gcc (Ubuntu 9.4.0-1ubuntu1~20.04.2) 9.4.0 Ubuntu 24.04 Kernel: 5.15 Compiler: gcc gcc (Ubuntu 13.3.0-6ubuntu2~24.04) 13.3.0 Windows Server 2022 Kernel: 10.0.20348.2031 Compiler: clang 15.0.7, gcc 14.1.0 (MinGW), and MSVC VS 19.39.33521 To view detailed results, visit: https://lab.dpdk.org/results/dashboard/patchsets/34191/ UNH-IOL DPDK Community Lab To manage your email subscriptions, visit: https://lab.dpdk.org/results/dashboard/preferences/subscriptions/