From mboxrd@z Thu Jan 1 00:00:00 1970 Return-Path: Received: from mails.dpdk.org (mails.dpdk.org [217.70.189.124]) by inbox.dpdk.org (Postfix) with ESMTP id 5030348880 for ; Wed, 1 Oct 2025 12:25:18 +0200 (CEST) Received: from mails.dpdk.org (localhost [127.0.0.1]) by mails.dpdk.org (Postfix) with ESMTP id 4B39840A6E; Wed, 1 Oct 2025 12:25:18 +0200 (CEST) Received: from mail-yw1-f228.google.com (mail-yw1-f228.google.com [209.85.128.228]) by mails.dpdk.org (Postfix) with ESMTP id 73DD5406B6 for ; Wed, 1 Oct 2025 12:25:17 +0200 (CEST) Received: by mail-yw1-f228.google.com with SMTP id 00721157ae682-72ce9790aceso74064817b3.3 for ; Wed, 01 Oct 2025 03:25:17 -0700 (PDT) DKIM-Signature: v=1; a=rsa-sha256; c=relaxed/relaxed; d=iol.unh.edu; s=unh-iol; t=1759314317; x=1759919117; darn=dpdk.org; h=references:in-reply-to:cc:to:from:subject:message-id:date:from:to :cc:subject:date:message-id:reply-to; bh=sPfLmh+yoSguT3XfRjIuvcyQQD3vC30ch0Ho1GsKneI=; b=dC1ve6HKjrAbzPauO+h4/Teos54OjGlNQeJyCacPH7GAmLvIDkPrjW1fXkAgxLCDro 9NExK34PaoEd+LGSNT5RiceBYO+WSztt3PwTavGHJ5QbQSa4hhcpuePKeorU74CothrQ X+29Mq1q/Ff2ReVM2yR6I4QapH2QWGWJCD13s= X-Google-DKIM-Signature: v=1; a=rsa-sha256; c=relaxed/relaxed; d=1e100.net; s=20230601; t=1759314317; x=1759919117; h=references:in-reply-to:cc:to:from:subject:message-id:date :x-gm-message-state:from:to:cc:subject:date:message-id:reply-to; bh=sPfLmh+yoSguT3XfRjIuvcyQQD3vC30ch0Ho1GsKneI=; b=btPj8MMr15gs2fWXJhM+Dh6N5lCs0WheOBKAh9RJQd6P0E4sCd6rk9TPMt52tNRfSh 28YGAOnZLkJOJ3HB43g3LGncID3vuUPgVecYrEzTEQx1NV1I0+B9Oh6Myl4+2BbwK6wL AZn6kEUqAEPsIpxkunbfRHi8z2/wIw2m5tK8FCPIai7ul+hn6wPAByVUAgfmmEI7s8Rj KWmCoxjqk+Bg78D75kKnhvvPboFDZXNv4/Wx4OSV1L5WQtgITT1g2zX76evENtj5sfmf UFIoWBQzV+BR/9KKt96fpycrPlL3AQW2t2gqHncFezd3+ZINmBWCdh9Ge4b0TFAWUwj2 9hmQ== X-Gm-Message-State: AOJu0Yx9yKq3fbSOOKeHr5yr3Wb4Vvo5G4VGkSfeBD2K4QBOGo9w9kKG 43p/Ys7BXU/jamz1m3iiA1wfmVjvmg+vFqPL/0IxU0+Qr6/pUUXfrW1ZTGwSMHYpKfdMoPcgp6i BFy2eT2VvhEKaNXWMayk0Fw1oogDg7YL4ggYj0BsW4iLI X-Gm-Gg: ASbGncuku2UXgjWHV6VEG0qWLyoKr314wXY/je2MJy0YIhzvpYfcA53YSX6duC9URmL 9CDxSInHJ7plKoAPDzHVlKhe4xEHzxSTc1ofAMvF05eUr9gwwLwN9ElOxJgnOZNjkqbzA2UOdhZ pyAhUWKYFrPouOgkJZgSj9uJY8Uab8qA4BkUw2A4iQ8GGGvjRE4iWegXKi2YRttD5AKDJbUPFJA eEkBXFmNRk3z/A136QX+NWQ2LZbUMuMusSGS1lFmtuKVXHiRrEccL3MlAXPfmYZmwdt8p0dwH+3 5qaa2ZMu7URszajlvdkXL8vrEGaq8GmqwoV5w6PFldokGzibo0zPO+b5yvgqHmjun1VWCaKgwxf mKQ== X-Google-Smtp-Source: AGHT+IFGnlV4mmJ4SYGPOiwJj2lAuUeUz53TEKzWfCDWneFrjcGfrhxp/YBc80pbRe8rIVng2DxnuI+FiODl X-Received: by 2002:a05:690c:6909:b0:717:ca51:d781 with SMTP id 00721157ae682-77f6f2c77c8mr39579027b3.17.1759314316732; Wed, 01 Oct 2025 03:25:16 -0700 (PDT) Received: from postal.iol.unh.edu (postal.iol.unh.edu. [132.177.123.84]) by smtp-relay.gmail.com with ESMTPS id 00721157ae682-765da7c48a3sm8501507b3.37.2025.10.01.03.25.16 (version=TLS1_2 cipher=ECDHE-ECDSA-AES128-GCM-SHA256 bits=128/128); Wed, 01 Oct 2025 03:25:16 -0700 (PDT) X-Relaying-Domain: iol.unh.edu Date: Wed, 01 Oct 2025 03:25:16 -0700 (PDT) Message-ID: <68dd018c.050a0220.9b599.3f86SMTPIN_ADDED_MISSING@mx.google.com> Received: from [172.21.0.2] (unknown [172.18.0.240]) by postal.iol.unh.edu (Postfix) with ESMTP id 634196051830; Wed, 1 Oct 2025 06:25:16 -0400 (EDT) Subject: |SUCCESS| pw157170 [PATCH] ci: configure Coderabbit From: dpdklab@iol.unh.edu To: Test Report Cc: dpdk-test-reports@iol.unh.edu In-Reply-To: <20251001081825.2638077-1-david.marchand@redhat.com> References: <20251001081825.2638077-1-david.marchand@redhat.com> Content-Type: text/plain X-BeenThere: test-report@dpdk.org X-Mailman-Version: 2.1.29 Precedence: list List-Id: automatic DPDK test reports List-Unsubscribe: , List-Archive: List-Post: List-Help: List-Subscribe: , Errors-To: test-report-bounces@dpdk.org Test-Label: iol-compile-amd64-testing Test-Status: SUCCESS http://dpdk.org/patch/157170 _Testing PASS_ Submitter: David Marchand Date: Wednesday, October 01 2025 08:18:25 DPDK git baseline: Repo:dpdk Branch: master CommitID:f3878b615e69a12087a6c5d212723478cfc79c31 157170 --> testing pass Upstream job id: Windows-Compile-DPDK-Native#31351 Test environment and result as below: +---------------------+--------------------+-------------------+-------------------------+ | Environment | dpdk_meson_compile | dpdk_msvc_compile | dpdk_llvm_clang_compile | +=====================+====================+===================+=========================+ | Ubuntu 20.04 | PASS | SKIPPED | SKIPPED | +---------------------+--------------------+-------------------+-------------------------+ | FreeBSD 14.2 | PASS | SKIPPED | SKIPPED | +---------------------+--------------------+-------------------+-------------------------+ | Windows Server 2022 | SKIPPED | PASS | PASS | +---------------------+--------------------+-------------------+-------------------------+ Ubuntu 20.04 Kernel: 4.19 Compiler: gcc gcc (Ubuntu 9.4.0-1ubuntu1~20.04.2) 9.4.0 FreeBSD 14.2 Kernel: 14.2-RELEASE Compiler: clang 18.1.6 Windows Server 2022 Kernel: 10.0.20348.2031 Compiler: clang 15.0.7, gcc 14.1.0 (MinGW), and MSVC VS 19.39.33521 To view detailed results, visit: https://lab.dpdk.org/results/dashboard/patchsets/34191/ UNH-IOL DPDK Community Lab To manage your email subscriptions, visit: https://lab.dpdk.org/results/dashboard/preferences/subscriptions/