From mboxrd@z Thu Jan 1 00:00:00 1970 Return-Path: Received: from mails.dpdk.org (mails.dpdk.org [217.70.189.124]) by inbox.dpdk.org (Postfix) with ESMTP id C0EAF48880 for ; Wed, 1 Oct 2025 12:29:01 +0200 (CEST) Received: from mails.dpdk.org (localhost [127.0.0.1]) by mails.dpdk.org (Postfix) with ESMTP id 9ED70406B6; Wed, 1 Oct 2025 12:29:01 +0200 (CEST) Received: from mail-pj1-f99.google.com (mail-pj1-f99.google.com [209.85.216.99]) by mails.dpdk.org (Postfix) with ESMTP id A2508406B6 for ; Wed, 1 Oct 2025 12:29:00 +0200 (CEST) Received: by mail-pj1-f99.google.com with SMTP id 98e67ed59e1d1-33292adb180so6693166a91.3 for ; Wed, 01 Oct 2025 03:29:00 -0700 (PDT) DKIM-Signature: v=1; a=rsa-sha256; c=relaxed/relaxed; d=iol.unh.edu; s=unh-iol; t=1759314540; x=1759919340; darn=dpdk.org; h=references:in-reply-to:cc:to:from:subject:message-id:date:from:to :cc:subject:date:message-id:reply-to; bh=f+CJ1DxfVGeKCJm31qgs/PYhkZgt7iS7z/WreOzn0Wo=; b=HVbTxprdYeQgYaWxSArN0xbNRDKuEtDxVFuK/sgFIAjd6dzLiWr5+BwvpDBV7MdKHK oaXWogSDIIA4NOpkXGq2vYXQBwBgR1i8e00woRghFGJ6AkedW/tWLr9pKdO/qCr7TaQL 3ycrbWgfJz8//jGXZ2YytCxfuzXm9kJJk0l8w= X-Google-DKIM-Signature: v=1; a=rsa-sha256; c=relaxed/relaxed; d=1e100.net; s=20230601; t=1759314540; x=1759919340; h=references:in-reply-to:cc:to:from:subject:message-id:date :x-gm-message-state:from:to:cc:subject:date:message-id:reply-to; bh=f+CJ1DxfVGeKCJm31qgs/PYhkZgt7iS7z/WreOzn0Wo=; b=kPDtG9snHTy3JXpJz4WwNetieHCxkQAbwWp593WD90JZ2jTchprauPeBdrD0UMPoz9 TuiC1HLh829+ChX88IQdXwBqP6gukXkXd59KkTc7KCpPLHptQ+z4Jyc+nnZs8Inif6xs 9xtUfH/jyAv+DDdvUacevZiiM3j+x5UWG6tlvmfwFPxcEzW6ALDIUWxYAdYBEefAY9gK JYb62p5uO5KmM/IV8flk0I9z5m5HXpzQwNWkkFKHljfg3oeqY79h1Yu2g6Dd4w74iQK3 qjDs4tGUI8Zbxdnif0B0IMBNv9LKumkm4Pa9BdR7AM7MjCqYU9jDWkjqa61jIKPidZt4 nTKA== X-Gm-Message-State: AOJu0YzA3HiPImq4eJLk8merPYRNvnOq96FuKEpGLS5x/+jGOdZ+JkQi 2fh1fULpXPmHs1uWCOkjIFZPEzLHVT+IygYwtgSizzCQLCM0m2rEf8YV56lPVGIArVJFglIWC9E sNF+nf/BQC4/9OQHPW229Wi21tKTx59h69tdscLsdA9+Z X-Gm-Gg: ASbGncvVRr2NA+EtoGBZA39lnJlU2yAx47ApXNjRDDEvxz6G2AiAZhj3AWziorFWfjm QE6nySgEYEvyH3c7Pui+/xzEuYggKdhVeepFHWsPMQDmmMIZ+JIV1iCl3QODjw8ZCewkM13U7TE bW56mMjSJSgeySJJr8fUYoF5xtg+KVUfexknHPs0uKhHzzSvrMgU4SCT3hIX+/EVpGFtEAlQslb 8bGZeuKUK+WqnHRESfqJH5rsO160fOPjQF09fgQm29NfBVpix5Bx2n8Dt2j0HKsnv2zxF0pMVZB ctDYe5jBgwaSJBThUUQlEpzWX0lYT6Ray4jYr+BQxNdjKd4se6mlfVlSgWMm4v06d/LqV+eNQ/K f8A== X-Google-Smtp-Source: AGHT+IG9+qEEbCO3NyEFH0+GdLoBq51HrVf0GXb+r1lVnTJrOPstFeAOuiEw/QZxhkVthT5yh8Ts8dQk0SYM X-Received: by 2002:a17:90b:1b05:b0:338:3156:fc44 with SMTP id 98e67ed59e1d1-339a6f44fb4mr3191431a91.18.1759314539636; Wed, 01 Oct 2025 03:28:59 -0700 (PDT) Received: from postal.iol.unh.edu (postal.iol.unh.edu. [132.177.123.84]) by smtp-relay.gmail.com with ESMTPS id 98e67ed59e1d1-339a6d9c660sm175971a91.0.2025.10.01.03.28.59 (version=TLS1_2 cipher=ECDHE-ECDSA-AES128-GCM-SHA256 bits=128/128); Wed, 01 Oct 2025 03:28:59 -0700 (PDT) X-Relaying-Domain: iol.unh.edu Date: Wed, 01 Oct 2025 03:28:59 -0700 (PDT) Message-ID: <68dd026b.170a0220.187d54.a444SMTPIN_ADDED_MISSING@mx.google.com> Received: from [172.21.0.2] (unknown [172.18.0.240]) by postal.iol.unh.edu (Postfix) with ESMTP id D86A06051830; Wed, 1 Oct 2025 06:28:58 -0400 (EDT) Subject: |SUCCESS| pw157170 [PATCH] ci: configure Coderabbit From: dpdklab@iol.unh.edu To: Test Report Cc: dpdk-test-reports@iol.unh.edu In-Reply-To: <20251001081825.2638077-1-david.marchand@redhat.com> References: <20251001081825.2638077-1-david.marchand@redhat.com> Content-Type: text/plain X-BeenThere: test-report@dpdk.org X-Mailman-Version: 2.1.29 Precedence: list List-Id: automatic DPDK test reports List-Unsubscribe: , List-Archive: List-Post: List-Help: List-Subscribe: , Errors-To: test-report-bounces@dpdk.org Test-Label: iol-compile-amd64-testing Test-Status: SUCCESS http://dpdk.org/patch/157170 _Testing PASS_ Submitter: David Marchand Date: Wednesday, October 01 2025 08:18:25 DPDK git baseline: Repo:dpdk Branch: master CommitID:f3878b615e69a12087a6c5d212723478cfc79c31 157170 --> testing pass Upstream job id: Windows-Compile-DPDK-Native#31352 Test environment and result as below: +---------------------+--------------------+-------------------+-------------------------+----------------------+ | Environment | dpdk_meson_compile | dpdk_msvc_compile | dpdk_llvm_clang_compile | dpdk_mingw64_compile | +=====================+====================+===================+=========================+======================+ | Ubuntu 20.04 | PASS | SKIPPED | SKIPPED | SKIPPED | +---------------------+--------------------+-------------------+-------------------------+----------------------+ | FreeBSD 14.2 | PASS | SKIPPED | SKIPPED | SKIPPED | +---------------------+--------------------+-------------------+-------------------------+----------------------+ | Windows Server 2022 | SKIPPED | PASS | PASS | PASS | +---------------------+--------------------+-------------------+-------------------------+----------------------+ Ubuntu 20.04 Kernel: 4.19 Compiler: gcc gcc (Ubuntu 9.4.0-1ubuntu1~20.04.2) 9.4.0 FreeBSD 14.2 Kernel: 14.2-RELEASE Compiler: clang 18.1.6 Windows Server 2022 Kernel: 10.0.20348.2031 Compiler: clang 15.0.7, gcc 14.1.0 (MinGW), and MSVC VS 19.39.33521 To view detailed results, visit: https://lab.dpdk.org/results/dashboard/patchsets/34191/ UNH-IOL DPDK Community Lab To manage your email subscriptions, visit: https://lab.dpdk.org/results/dashboard/preferences/subscriptions/