From mboxrd@z Thu Jan 1 00:00:00 1970 Return-Path: Received: from mails.dpdk.org (mails.dpdk.org [217.70.189.124]) by inbox.dpdk.org (Postfix) with ESMTP id EF16948880 for ; Wed, 1 Oct 2025 12:31:05 +0200 (CEST) Received: from mails.dpdk.org (localhost [127.0.0.1]) by mails.dpdk.org (Postfix) with ESMTP id D222A406B6; Wed, 1 Oct 2025 12:31:05 +0200 (CEST) Received: from mail-pg1-f227.google.com (mail-pg1-f227.google.com [209.85.215.227]) by mails.dpdk.org (Postfix) with ESMTP id BD43A406B6 for ; Wed, 1 Oct 2025 12:31:04 +0200 (CEST) Received: by mail-pg1-f227.google.com with SMTP id 41be03b00d2f7-b555ab7fabaso6835496a12.0 for ; Wed, 01 Oct 2025 03:31:04 -0700 (PDT) DKIM-Signature: v=1; a=rsa-sha256; c=relaxed/relaxed; d=iol.unh.edu; s=unh-iol; t=1759314664; x=1759919464; darn=dpdk.org; h=references:in-reply-to:cc:to:from:subject:message-id:date:from:to :cc:subject:date:message-id:reply-to; bh=xLcvT6yz5uLcQJ7IASkt6exBrRUft3EOPQZIUt+s/j0=; b=Hpx2rtMkO5GKuqieoM4K18R8L/A50njQwVx1H9XamPhOfw/H1O7QdGjwoa2DMGNSpg 3p9RPLTiYVswfxqOY0OUpS25RsCrWYK2ccCIJltykSmsR+ctLkwT90CQ+U+Cy4FCkCzd gcH6OSrpV9Vs9SEtS6chvVtQ/w3eKnvJfO6zw= X-Google-DKIM-Signature: v=1; a=rsa-sha256; c=relaxed/relaxed; d=1e100.net; s=20230601; t=1759314664; x=1759919464; h=references:in-reply-to:cc:to:from:subject:message-id:date :x-gm-message-state:from:to:cc:subject:date:message-id:reply-to; bh=xLcvT6yz5uLcQJ7IASkt6exBrRUft3EOPQZIUt+s/j0=; b=fX8Srp208Wsv13Zjb0uQnEbhao/DMLXDRliPlp/CrhcFyJljfJiWrWr1fkS32fn8yu V5XR4s0XX4PRGgdtO7H2Ofv0KvuTNGbefIebUu5zo9BFQ70MdJhu5eGCD1l+OYHwVDeW XzKWWk3xTOSI0HUAOXB6VryKz7vlpeHhwGhtFQ0GBNgRLbtCUzoHXlUO0hKf+dcTrD3U g1/ak2keMLcj3kx4dAohFXf+DEFIMbSPciOwrow6a+oohzur9tlNuzRkTKvQlECGcvAd EiCbBPqbOr2+qi/jfaD3VULudxZ+bglffbP9EhiG1Oc9XUmNG0BY9OY6pyVgmBn9VRPR Nirg== X-Gm-Message-State: AOJu0YzpXNmYVLhdH+snj8qrYGrMmh3IFz5S7zrx62lHOo5VS+/Iz6lV br1NuTHtWJ/tzJ9qZbVmi+Mx/Qb6JLr2JUmrGPUZYmAJCp9vWa1naPGBTKH73uCV7ChfF875Zvk Of2N4nH5oMj50LgVfsWlWlanxGAjXUtYA27wccNKIsqxd X-Gm-Gg: ASbGncsCRGfL3Zbigo+BIcPTmFkVZPe7z2MAVArcDpBLsVAAFjwkEAmHXm5FAaP3XMk dHuFI6qwGhGQoJINaNvqOMLAJJNekVDfPDrQxUH5ccGlO43Utr+bfF6XzWZ9MIn8UDBTwy+nUkY pRn7pXfp1yGsjdar48kxA8nsKJqV3i1HHKPw10cQiRSmlcpup5cIVjQQi7dD4tnC3XJxOnhMBIq Dp55JDdQ3xDhlWP4HAQiB5n7xjVqIPlJi8vCqmtTgPSdRbyblu2iAzA5bATfVqqfxblqt4DHj7p cOXmz9Bin+QgDntvbUxeYw4pM/9Fp1XTHfMHuNhdS0+bBmHzqwf/TAuTlLimNHBZ0gpkKpzkKSw wvg== X-Google-Smtp-Source: AGHT+IE0b5AxZMBWlrPgBxSa2+g3d2Ghmpqlic0wAn6HWv3MY2bBICQADe9aEVuS7hsEUHtxbI74qAqvajXp X-Received: by 2002:a17:903:1446:b0:269:4741:6d33 with SMTP id d9443c01a7336-28e7f2a3064mr37277455ad.23.1759314663914; Wed, 01 Oct 2025 03:31:03 -0700 (PDT) Received: from postal.iol.unh.edu (postal.iol.unh.edu. [132.177.123.84]) by smtp-relay.gmail.com with ESMTPS id d9443c01a7336-27ed6842289sm13375645ad.68.2025.10.01.03.31.03 (version=TLS1_2 cipher=ECDHE-ECDSA-AES128-GCM-SHA256 bits=128/128); Wed, 01 Oct 2025 03:31:03 -0700 (PDT) X-Relaying-Domain: iol.unh.edu Date: Wed, 01 Oct 2025 03:31:03 -0700 (PDT) Message-ID: <68dd02e7.170a0220.26d76f.0559SMTPIN_ADDED_MISSING@mx.google.com> Received: from [172.21.0.2] (unknown [172.18.0.240]) by postal.iol.unh.edu (Postfix) with ESMTP id BC4166051830; Wed, 1 Oct 2025 06:31:02 -0400 (EDT) Subject: |SUCCESS| pw157170 [PATCH] ci: configure Coderabbit From: dpdklab@iol.unh.edu To: Test Report Cc: dpdk-test-reports@iol.unh.edu In-Reply-To: <20251001081825.2638077-1-david.marchand@redhat.com> References: <20251001081825.2638077-1-david.marchand@redhat.com> Content-Type: text/plain X-BeenThere: test-report@dpdk.org X-Mailman-Version: 2.1.29 Precedence: list List-Id: automatic DPDK test reports List-Unsubscribe: , List-Archive: List-Post: List-Help: List-Subscribe: , Errors-To: test-report-bounces@dpdk.org Test-Label: iol-unit-amd64-testing Test-Status: SUCCESS http://dpdk.org/patch/157170 _Testing PASS_ Submitter: David Marchand Date: Wednesday, October 01 2025 08:18:25 DPDK git baseline: Repo:dpdk Branch: master CommitID:f3878b615e69a12087a6c5d212723478cfc79c31 157170 --> testing pass Upstream job id: Generic-VM-Unit-Test-DPDK#31521 Test environment and result as below: +-------------------------------+----------------+ | Environment | dpdk_unit_test | +===============================+================+ | CentOS Stream 9 | PASS | +-------------------------------+----------------+ | CentOS Stream 10 | PASS | +-------------------------------+----------------+ | Debian GNU/Linux 12 | PASS | +-------------------------------+----------------+ | Fedora Linux 40 | PASS | +-------------------------------+----------------+ | Fedora Linux 41 | PASS | +-------------------------------+----------------+ | Fedora Linux 42 | PASS | +-------------------------------+----------------+ | Red Hat Enterprise Linux 8.10 | PASS | +-------------------------------+----------------+ | Red Hat Enterprise Linux 9.5 | PASS | +-------------------------------+----------------+ | Ubuntu 22.04 | PASS | +-------------------------------+----------------+ | Ubuntu 20.04 | PASS | +-------------------------------+----------------+ | Ubuntu 24.04 | PASS | +-------------------------------+----------------+ | Windows Server 2022 | PASS | +-------------------------------+----------------+ CentOS Stream 9 Kernel: 5.15 Compiler: gcc gcc (GCC) 11.5.0 20240719 (Red Hat 11.5.0-11) CentOS Stream 10 Kernel: 5.15 Compiler: gcc gcc (GCC) 14.2.1 20250110 (Red Hat 14.2.1-8) Debian GNU/Linux 12 Kernel: 5.15 Compiler: gcc gcc (Debian 12.2.0-14+deb12u1) 12.2.0 Fedora Linux 40 Kernel: 5.15 Compiler: gcc gcc (GCC) 14.2.1 20240912 (Red Hat 14.2.1-3) Fedora Linux 41 Kernel: 5.15 Compiler: gcc gcc (GCC) 14.3.1 20250523 (Red Hat 14.3.1-1) Fedora Linux 42 Kernel: 5.15 Compiler: clang gcc (GCC) 15.2.1 20250808 (Red Hat 15.2.1-1) Red Hat Enterprise Linux 8.10 Kernel: 5.15 Compiler: gcc gcc (GCC) 8.5.0 20210514 (Red Hat 8.5.0-22) Red Hat Enterprise Linux 9.5 Kernel: 5.15 Compiler: gcc gcc (GCC) 11.5.0 20240719 (Red Hat 11.5.0-2) Ubuntu 22.04 Kernel: 5.15 Compiler: gcc gcc (Ubuntu 11.4.0-1ubuntu1~22.04) 11.4.0 Ubuntu 20.04 Kernel: 5.15 Compiler: gcc gcc (Ubuntu 9.4.0-1ubuntu1~20.04.2) 9.4.0 Ubuntu 24.04 Kernel: 5.15 Compiler: gcc gcc (Ubuntu 13.3.0-6ubuntu2~24.04) 13.3.0 Windows Server 2022 Kernel: 10.0.20348.2031 Compiler: clang 15.0.7, gcc 14.1.0 (MinGW), and MSVC VS 19.39.33521 To view detailed results, visit: https://lab.dpdk.org/results/dashboard/patchsets/34191/ UNH-IOL DPDK Community Lab To manage your email subscriptions, visit: https://lab.dpdk.org/results/dashboard/preferences/subscriptions/