From mboxrd@z Thu Jan 1 00:00:00 1970 Return-Path: Received: from mails.dpdk.org (mails.dpdk.org [217.70.189.124]) by inbox.dpdk.org (Postfix) with ESMTP id 0CD4648880 for ; Wed, 1 Oct 2025 13:57:42 +0200 (CEST) Received: from mails.dpdk.org (localhost [127.0.0.1]) by mails.dpdk.org (Postfix) with ESMTP id D72DD40A71; Wed, 1 Oct 2025 13:57:41 +0200 (CEST) Received: from mail-io1-f98.google.com (mail-io1-f98.google.com [209.85.166.98]) by mails.dpdk.org (Postfix) with ESMTP id 97C3E40A71 for ; Wed, 1 Oct 2025 13:57:40 +0200 (CEST) Received: by mail-io1-f98.google.com with SMTP id ca18e2360f4ac-8b0055cbd0fso580447639f.2 for ; Wed, 01 Oct 2025 04:57:40 -0700 (PDT) DKIM-Signature: v=1; a=rsa-sha256; c=relaxed/relaxed; d=iol.unh.edu; s=unh-iol; t=1759319860; x=1759924660; darn=dpdk.org; h=references:in-reply-to:cc:to:from:subject:message-id:date:from:to :cc:subject:date:message-id:reply-to; bh=PnOBEBocT3dvl0FyZaqbU/TZ1w0arL/IHAgkGUuf8Sg=; b=AN7ra6UbMH617uxmgtsHDS8nTUcfGWDcxYbMqETUCGiEN4qRpONzS6qL8fpokfUX2u dXYOQegLX90uGGAQj2S/gAmtqaAtH3GZzMAr6MP9NLkJI+JwABhl8iTlhpHMby6PPrGQ fhQY3ecYDNFTUUrrBNVsaAMOZnVg+E/adlWsc= X-Google-DKIM-Signature: v=1; a=rsa-sha256; c=relaxed/relaxed; d=1e100.net; s=20230601; t=1759319860; x=1759924660; h=references:in-reply-to:cc:to:from:subject:message-id:date :x-gm-message-state:from:to:cc:subject:date:message-id:reply-to; bh=PnOBEBocT3dvl0FyZaqbU/TZ1w0arL/IHAgkGUuf8Sg=; b=OfGnnjkB1ELhW7S0NXt84tps5GdfRdFdPwIAXZulWLdTDjReBwXrFvYxPptnqYsGN5 kVc2f12vqDnC+BWygJ65oEMz6TDIwYM7wQI/XwdCe0jwjPTeBDOzL2IvPcXAD7xp+sGi EcIlG7vz/X0tq4/6pR84qxcFYiG7OLOGPO0fxvvgV/16ZVa7ek6hAzz+12vWtKzddjDU NAfeFi1CHt0DWzU8hBCojupNkqGzCzn6EL0PjiMloskKW0GX5aEiKByL7tX1apjxDSiY nHM2x9gSoaFDBn5z6histhIxhC82nSuPfwJBONU0WfnV9wkp97nFg8NWklkxMtak0Ue2 8Ypg== X-Gm-Message-State: AOJu0Yz5rx1t07LzCg9vDZAvfIwHnbwYuKWkk4HGpx+Mn03mk07Qc6hP jS+GKTrYYkm0dkXvR7crL9ILPVNPk/GxKOcS40ZWkfYMPW3ipLohISu5J/r9f4ebBit9qBSYrFg xIPK/4LynVxGk/ydBldW2Yx4m934xcPkUZw2GVphhpo9b X-Gm-Gg: ASbGncvVNL1UoDKQIGmhMtqIvp1ulnXRkOHE0hYbyKWD0li2gx6rjGVmczS2rg4cXvc PgqLxzZ0vps05es87qV7FYQkWR7jwRmrrC31B2tjvrcJBZn0gd5mU2I9Whm5ncQ510oAp8pkK7j 6cQg6HoBFCc6/Z2MlOONM8HKICtSNfvbCqG/g257uKQIpVZOSXOz8b5QJcaL8XPaJFflRj4+Suz 2sPciyCw9lp457DEjMYVeEgE/twVQavg8vaJAS/4QmiSx07JpnkFSnuypA4qVK0a26eU9tTae1Y 5BmS8V5hy6xjRQsjECc+IlmgFHTJbWqSBGjlTWEUFnvlRDkuz8SFcrLCSGihF20A9PEp9iLCykf hyw== X-Google-Smtp-Source: AGHT+IGeXMc0ZiiV1qvZ4xGzh41ct1aB2rcuuTui7QpYC5ySId4txHShhW1A+WFqdH0XtHVkOhEv9kvbp3uG X-Received: by 2002:a05:6602:370d:b0:887:6bcd:7471 with SMTP id ca18e2360f4ac-937acc0b87cmr472561039f.11.1759319859816; Wed, 01 Oct 2025 04:57:39 -0700 (PDT) Received: from postal.iol.unh.edu (postal.iol.unh.edu. [132.177.123.84]) by smtp-relay.gmail.com with ESMTPS id ca18e2360f4ac-903fcf16d18sm56863039f.6.2025.10.01.04.57.39 (version=TLS1_2 cipher=ECDHE-ECDSA-AES128-GCM-SHA256 bits=128/128); Wed, 01 Oct 2025 04:57:39 -0700 (PDT) X-Relaying-Domain: iol.unh.edu Date: Wed, 01 Oct 2025 04:57:39 -0700 (PDT) Message-ID: <68dd1733.050a0220.168040.237cSMTPIN_ADDED_MISSING@mx.google.com> Received: from [172.21.0.2] (unknown [172.18.0.240]) by postal.iol.unh.edu (Postfix) with ESMTP id 216A56051830; Wed, 1 Oct 2025 07:57:39 -0400 (EDT) Subject: |SUCCESS| pw157171 [PATCH] crypto/cnxk: add packet vector support From: dpdklab@iol.unh.edu To: Test Report Cc: dpdk-test-reports@iol.unh.edu In-Reply-To: <20251001103846.1130824-1-ktejasree@marvell.com> References: <20251001103846.1130824-1-ktejasree@marvell.com> Content-Type: text/plain X-BeenThere: test-report@dpdk.org X-Mailman-Version: 2.1.29 Precedence: list List-Id: automatic DPDK test reports List-Unsubscribe: , List-Archive: List-Post: List-Help: List-Subscribe: , Errors-To: test-report-bounces@dpdk.org Test-Label: iol-compile-amd64-testing Test-Status: SUCCESS http://dpdk.org/patch/157171 _Testing PASS_ Submitter: Tejasree Kondoj Date: Wednesday, October 01 2025 10:38:46 DPDK git baseline: Repo:dpdk Branch: master CommitID:f3878b615e69a12087a6c5d212723478cfc79c31 157171 --> testing pass Upstream job id: Windows-Compile-DPDK-Native#31354 Test environment and result as below: +---------------------+--------------------+-------------------------+-------------------+----------------------+ | Environment | dpdk_meson_compile | dpdk_llvm_clang_compile | dpdk_msvc_compile | dpdk_mingw64_compile | +=====================+====================+=========================+===================+======================+ | Ubuntu 20.04 | PASS | SKIPPED | SKIPPED | SKIPPED | +---------------------+--------------------+-------------------------+-------------------+----------------------+ | FreeBSD 14.2 | PASS | SKIPPED | SKIPPED | SKIPPED | +---------------------+--------------------+-------------------------+-------------------+----------------------+ | Windows Server 2022 | SKIPPED | PASS | PASS | PASS | +---------------------+--------------------+-------------------------+-------------------+----------------------+ Ubuntu 20.04 Kernel: 4.19 Compiler: gcc gcc (Ubuntu 9.4.0-1ubuntu1~20.04.2) 9.4.0 FreeBSD 14.2 Kernel: 14.2-RELEASE Compiler: clang 18.1.6 Windows Server 2022 Kernel: 10.0.20348.2031 Compiler: clang 15.0.7, gcc 14.1.0 (MinGW), and MSVC VS 19.39.33521 To view detailed results, visit: https://lab.dpdk.org/results/dashboard/patchsets/34192/ UNH-IOL DPDK Community Lab To manage your email subscriptions, visit: https://lab.dpdk.org/results/dashboard/preferences/subscriptions/