From mboxrd@z Thu Jan 1 00:00:00 1970 Return-Path: Received: from mails.dpdk.org (mails.dpdk.org [217.70.189.124]) by inbox.dpdk.org (Postfix) with ESMTP id F264048880 for ; Wed, 1 Oct 2025 13:57:55 +0200 (CEST) Received: from mails.dpdk.org (localhost [127.0.0.1]) by mails.dpdk.org (Postfix) with ESMTP id EC40540A71; Wed, 1 Oct 2025 13:57:55 +0200 (CEST) Received: from mail-il1-f228.google.com (mail-il1-f228.google.com [209.85.166.228]) by mails.dpdk.org (Postfix) with ESMTP id EA08240A71 for ; Wed, 1 Oct 2025 13:57:54 +0200 (CEST) Received: by mail-il1-f228.google.com with SMTP id e9e14a558f8ab-425911e5661so28668715ab.1 for ; Wed, 01 Oct 2025 04:57:54 -0700 (PDT) DKIM-Signature: v=1; a=rsa-sha256; c=relaxed/relaxed; d=iol.unh.edu; s=unh-iol; t=1759319874; x=1759924674; darn=dpdk.org; h=references:in-reply-to:cc:to:from:subject:message-id:date:from:to :cc:subject:date:message-id:reply-to; bh=V9JKm/KjAiM0oBAWds0LbpDK9Jq7YAbqiaGTXTFO4xI=; b=bTS8yRrhHs2j6KE7LoqJSZC+sQakJcjKIfZ0LAOlSDazIWxVm3xRJX4HKltHxXyVWE 2Xgl5VYVts5uI05smoNVRH8ByL1RbsPvkjD78tXu6GIXrd8gX5AHKbcy9Yf+wLyp++Cw VpZSw1afh25MsS6ugh5lg26NbtvPcTuYVnYt4= X-Google-DKIM-Signature: v=1; a=rsa-sha256; c=relaxed/relaxed; d=1e100.net; s=20230601; t=1759319874; x=1759924674; h=references:in-reply-to:cc:to:from:subject:message-id:date :x-gm-message-state:from:to:cc:subject:date:message-id:reply-to; bh=V9JKm/KjAiM0oBAWds0LbpDK9Jq7YAbqiaGTXTFO4xI=; b=qwarLdsPBJdw+7tWlu7savg2cJH2sZ1WjVvC1fgK0reZh4fc4a40vA35S365ppR+0Q PC/hhLDAM/0qqG7KEOQRPZRrPkNfzxUiGr9PL35a1Yi+yr+F4EsFuydLWhQEaxXZyX0r kWYGHgEcSE4LyFIDKs77KnUqynTSWGJ2BKlU64oZeYgHPy8XdIZsq6nxynq4boQsE0Bo 6ySuNZGt9lce5uDX9Bcf7FmMQDYOkXIKL2Wagk2pGamxwTYk0RrSjXOtbyn5GGhOAVYg VmAxuZazbheMugndscKEEpiog8g5sE7zvM7cG445qKh0LkyndpRum1d1P/s6MQXj84HU yHvA== X-Gm-Message-State: AOJu0Yzpdfm+Zb2ioyX7CgCSKZCSfl9ff8Xcz5T0YsEl7LK+S+Xn9y1N aEEtT50LaMCDqyvSXBiF/CvqfgW7BSgoEgp2xIxahYLLvTteaBEH45gG2vQ9tj7zSYPYXcW2OLQ 3vA7k4Rsq2XK2HnamPlzllWIpiJn7LVC4ttYYJPW8NpVD X-Gm-Gg: ASbGnctyTo267ljtpnHP9HrYcVimmRjaKqUXtxGpWMQcdiwY3gW4YMqv1viw9L0GR1z kiLwGkEF7uKYo6FZE1Q6zplaVnyGzMEQBYv6ZlslP+JSiykNT30eTch2zuTyRle3HdSJ9+JhVqJ rknT8DsgDtZSCL1G0kzHAR5c27zwrIy20KLzp8i1M5RkcPA+dFvBRDCRkD2vuJz0rZzcpiETCR2 YPJVgALGGt5MFBed2bmgqz4r7Yf8JFBIBJHJ7nbvF24lKC0278FSNp1USejNJtra1JTnyFNNBSK leuGEM/qZSorzVCc5gDUGlNvwEICzAoDlErAvoWxokedT7tpV/juoMx+W1s3fR3WuezpDt8Qrs3 l1w== X-Google-Smtp-Source: AGHT+IG7QbAvJOcFwb6OW7LMlTwKdNmrL6bV4d69qHSoGMAY2iODBZeosK6p+R4vfnu5u6oedyPVbG0QO/aR X-Received: by 2002:a05:6e02:258b:b0:425:9500:ec46 with SMTP id e9e14a558f8ab-42d815c69f9mr47978595ab.14.1759319874083; Wed, 01 Oct 2025 04:57:54 -0700 (PDT) Received: from postal.iol.unh.edu (postal.iol.unh.edu. [132.177.123.84]) by smtp-relay.gmail.com with ESMTPS id e9e14a558f8ab-425bf6d50fcsm12407835ab.21.2025.10.01.04.57.54 (version=TLS1_2 cipher=ECDHE-ECDSA-AES128-GCM-SHA256 bits=128/128); Wed, 01 Oct 2025 04:57:54 -0700 (PDT) X-Relaying-Domain: iol.unh.edu Date: Wed, 01 Oct 2025 04:57:54 -0700 (PDT) Message-ID: <68dd1742.050a0220.32eb01.a648SMTPIN_ADDED_MISSING@mx.google.com> Received: from [172.21.0.2] (unknown [172.18.0.240]) by postal.iol.unh.edu (Postfix) with ESMTP id 7058C6051830; Wed, 1 Oct 2025 07:57:53 -0400 (EDT) Subject: |SUCCESS| pw157171 [PATCH] crypto/cnxk: add packet vector support From: dpdklab@iol.unh.edu To: Test Report Cc: dpdk-test-reports@iol.unh.edu In-Reply-To: <20251001103846.1130824-1-ktejasree@marvell.com> References: <20251001103846.1130824-1-ktejasree@marvell.com> Content-Type: text/plain X-BeenThere: test-report@dpdk.org X-Mailman-Version: 2.1.29 Precedence: list List-Id: automatic DPDK test reports List-Unsubscribe: , List-Archive: List-Post: List-Help: List-Subscribe: , Errors-To: test-report-bounces@dpdk.org Test-Label: iol-unit-amd64-testing Test-Status: SUCCESS http://dpdk.org/patch/157171 _Testing PASS_ Submitter: Tejasree Kondoj Date: Wednesday, October 01 2025 10:38:46 DPDK git baseline: Repo:dpdk Branch: master CommitID:f3878b615e69a12087a6c5d212723478cfc79c31 157171 --> testing pass Upstream job id: Generic-VM-Unit-Test-DPDK#31522 Test environment and result as below: +-------------------------------+----------------+ | Environment | dpdk_unit_test | +===============================+================+ | CentOS Stream 9 | PASS | +-------------------------------+----------------+ | Windows Server 2022 | PASS | +-------------------------------+----------------+ | CentOS Stream 10 | PASS | +-------------------------------+----------------+ | Debian GNU/Linux 12 | PASS | +-------------------------------+----------------+ | Fedora Linux 40 | PASS | +-------------------------------+----------------+ | Fedora Linux 41 | PASS | +-------------------------------+----------------+ | Fedora Linux 42 | PASS | +-------------------------------+----------------+ | Red Hat Enterprise Linux 8.10 | PASS | +-------------------------------+----------------+ | Ubuntu 22.04 | PASS | +-------------------------------+----------------+ | Red Hat Enterprise Linux 9.5 | PASS | +-------------------------------+----------------+ | Ubuntu 20.04 | PASS | +-------------------------------+----------------+ | Ubuntu 24.04 | PASS | +-------------------------------+----------------+ CentOS Stream 9 Kernel: 5.15 Compiler: gcc gcc (GCC) 11.5.0 20240719 (Red Hat 11.5.0-11) Windows Server 2022 Kernel: 10.0.20348.2031 Compiler: clang 15.0.7, gcc 14.1.0 (MinGW), and MSVC VS 19.39.33521 CentOS Stream 10 Kernel: 5.15 Compiler: gcc gcc (GCC) 14.2.1 20250110 (Red Hat 14.2.1-8) Debian GNU/Linux 12 Kernel: 5.15 Compiler: gcc gcc (Debian 12.2.0-14+deb12u1) 12.2.0 Fedora Linux 40 Kernel: 5.15 Compiler: gcc gcc (GCC) 14.2.1 20240912 (Red Hat 14.2.1-3) Fedora Linux 41 Kernel: 5.15 Compiler: gcc gcc (GCC) 14.3.1 20250523 (Red Hat 14.3.1-1) Fedora Linux 42 Kernel: 5.15 Compiler: gcc gcc (GCC) 15.2.1 20250808 (Red Hat 15.2.1-1) Red Hat Enterprise Linux 8.10 Kernel: 5.15 Compiler: gcc gcc (GCC) 8.5.0 20210514 (Red Hat 8.5.0-22) Ubuntu 22.04 Kernel: 5.15 Compiler: gcc gcc (Ubuntu 11.4.0-1ubuntu1~22.04) 11.4.0 Red Hat Enterprise Linux 9.5 Kernel: 5.15 Compiler: gcc gcc (GCC) 11.5.0 20240719 (Red Hat 11.5.0-2) Ubuntu 20.04 Kernel: 5.15 Compiler: gcc gcc (Ubuntu 9.4.0-1ubuntu1~20.04.2) 9.4.0 Ubuntu 24.04 Kernel: 5.15 Compiler: gcc gcc (Ubuntu 13.3.0-6ubuntu2~24.04) 13.3.0 To view detailed results, visit: https://lab.dpdk.org/results/dashboard/patchsets/34192/ UNH-IOL DPDK Community Lab To manage your email subscriptions, visit: https://lab.dpdk.org/results/dashboard/preferences/subscriptions/