From mboxrd@z Thu Jan 1 00:00:00 1970 Return-Path: Received: from mails.dpdk.org (mails.dpdk.org [217.70.189.124]) by inbox.dpdk.org (Postfix) with ESMTP id B606248881 for ; Wed, 1 Oct 2025 14:05:09 +0200 (CEST) Received: from mails.dpdk.org (localhost [127.0.0.1]) by mails.dpdk.org (Postfix) with ESMTP id 93F8240A71; Wed, 1 Oct 2025 14:05:09 +0200 (CEST) Received: from mail-io1-f100.google.com (mail-io1-f100.google.com [209.85.166.100]) by mails.dpdk.org (Postfix) with ESMTP id CDACC40A71 for ; Wed, 1 Oct 2025 14:05:08 +0200 (CEST) Received: by mail-io1-f100.google.com with SMTP id ca18e2360f4ac-911520e43edso212376439f.0 for ; Wed, 01 Oct 2025 05:05:08 -0700 (PDT) DKIM-Signature: v=1; a=rsa-sha256; c=relaxed/relaxed; d=iol.unh.edu; s=unh-iol; t=1759320308; x=1759925108; darn=dpdk.org; h=cc:to:from:subject:message-id:date:from:to:cc:subject:date :message-id:reply-to; bh=byY7dRbCYFY6o0V1/w87Bk1tp5RuEY54CZT3qnXy22I=; b=QlBu3/uGwmBjNJGs3g9jxOBXc8pGZiC0NXh08WSrqfwgD4WypqSfwEQvDnzQrvhEuv 6jXIKeepDGB5ZdJJ31UNNwANAHtb0Xpwe3FFE3gFgRtI4kfxHVFB7EVYnNNo3T+KrY/U 4Gfth79WRiOo0Yvjz+QhcHu/GrJ466wfual/8= X-Google-DKIM-Signature: v=1; a=rsa-sha256; c=relaxed/relaxed; d=1e100.net; s=20230601; t=1759320308; x=1759925108; h=cc:to:from:subject:message-id:date:x-gm-message-state:from:to:cc :subject:date:message-id:reply-to; bh=byY7dRbCYFY6o0V1/w87Bk1tp5RuEY54CZT3qnXy22I=; b=kar0U13j99N/Vjxpd0h3RtFp7/VOEUeyQFA69OIkbQGejXC/s4ZtWZM4kAYvO2B9Ed u/C319j8owH8t4RSqbaiD/TaMOxQ1VWNksC6jxZONmKZrFg0mIGA5nkURJu3ZKu7OgIQ sZplOgEV7PLv2tJvM34n3ENaUGwLUgBofGuswD7f0ene5Xj2iDnsDYt7XOCaQ+vjL/AL H7d9X176S0aSrjmZnIRylo5zGbNfTnMuLv4PVg6QwGBexvpQ8HrArfJ9GRa8LXDB+3r7 cmF0htYPKy3/h7eTEv5qYsb3DaXOZOEj3iQZIesFuVBHiSKUCQjrBd3HSDdo1McVAbpY B3sw== X-Gm-Message-State: AOJu0YzQtMDdRSdFBSpm8e5rbzJcQvDpPl7QKfU1Pr3Qx58QMdfUSlJk DDx+9NkUWSqiXsWe6z2ZSUvKprVa3jAr9L2IkDY0StFbyTMTBMe/aKfu0x/bRjdbYZLzMUZ6h6t OLf6W4VBdc60qCuLYaiF0EBWpn0Wdi65Uf+UWyA4q+f5U X-Gm-Gg: ASbGncveEf6mghwQb0iL1VcutrJeFsPTjZBQBtu7Q4bGLY1hnemmj0X/uKIjLZDCJUn HuhOlR1QyqF4e9LVtRHJ69e3T8a1WQ9lNeCobZlA4RY+A+nQB3vckWR+pQnZna2Zo/lchUzwlFB g+d3Gz5QsR+Gy7/l0N0Iwe9FSRd7wUuxEqtx9jO0Zf44RO/bg7ySTQoxDyHwO8ya6AVSymRY89N 0AegjktWjPQz5RWRveAinDrpT+VS4Mq8ep6e7CuC4ZaEKNNJMZvtERCf9sOb32Uap4NWH3/THap nRQB8qVbmWEpW1GaSj2iVOTuPCrxplM9aWr7ggs82wKvwvEZFm0XL89vL1G9Ztr70HKh6PMKLhu EhQ== X-Google-Smtp-Source: AGHT+IEMHoIUrvLH6J6CsrhAfYhy5sj3HnUc3bFdadtYDsRH+X9FMaPViOWQ/4EDh0QWWnGnJeVDoAmrxjBh X-Received: by 2002:a05:6602:140d:b0:8b6:6784:1bb0 with SMTP id ca18e2360f4ac-937ac559449mr374722039f.10.1759320308052; Wed, 01 Oct 2025 05:05:08 -0700 (PDT) Received: from postal.iol.unh.edu (postal.iol.unh.edu. [132.177.123.84]) by smtp-relay.gmail.com with ESMTPS id 8926c6da1cb9f-572d4ddcb4esm594878173.5.2025.10.01.05.05.07 (version=TLS1_2 cipher=ECDHE-ECDSA-AES128-GCM-SHA256 bits=128/128); Wed, 01 Oct 2025 05:05:08 -0700 (PDT) X-Relaying-Domain: iol.unh.edu Date: Wed, 01 Oct 2025 05:05:08 -0700 (PDT) Message-ID: <68dd18f4.050a0220.87dc3.43abSMTPIN_ADDED_MISSING@mx.google.com> Received: from [172.21.0.2] (unknown [172.18.0.240]) by postal.iol.unh.edu (Postfix) with ESMTP id 8DCCF6051830; Wed, 1 Oct 2025 08:05:07 -0400 (EDT) Subject: |SUCCESS| [GIT MASTER] 8fafc107475f8456cf90cbb7e805236aafa6d547 From: dpdklab@iol.unh.edu To: Test Report Cc: dpdk-test-reports@iol.unh.edu, Akhil Goyal Content-Type: text/plain X-BeenThere: test-report@dpdk.org X-Mailman-Version: 2.1.29 Precedence: list List-Id: automatic DPDK test reports List-Unsubscribe: , List-Archive: List-Post: List-Help: List-Subscribe: , Errors-To: test-report-bounces@dpdk.org _Testing PASS_ Branch: dpdk-next-crypto 8fafc107475f8456cf90cbb7e805236aafa6d547 --> testing pass Upstream job id: Generic-DPDK-Compile-Meson#430284 Test environment and result as below: +-------------------------------+--------------------+-------------------+-------------------------+----------------------+-------------------+------------------+ | Environment | dpdk_meson_compile | dpdk_msvc_compile | dpdk_llvm_clang_compile | dpdk_mingw64_compile | dpdk_compile_spdk | dpdk_compile_ovs | +===============================+====================+===================+=========================+======================+===================+==================+ | Ubuntu 20.04 | PASS | SKIPPED | SKIPPED | SKIPPED | SKIPPED | SKIPPED | +-------------------------------+--------------------+-------------------+-------------------------+----------------------+-------------------+------------------+ | FreeBSD 14.2 | PASS | SKIPPED | SKIPPED | SKIPPED | SKIPPED | SKIPPED | +-------------------------------+--------------------+-------------------+-------------------------+----------------------+-------------------+------------------+ | CentOS Stream 9 | PASS | SKIPPED | SKIPPED | SKIPPED | PASS | SKIPPED | +-------------------------------+--------------------+-------------------+-------------------------+----------------------+-------------------+------------------+ | Debian GNU/Linux 12 | PASS | SKIPPED | SKIPPED | SKIPPED | PASS | SKIPPED | +-------------------------------+--------------------+-------------------+-------------------------+----------------------+-------------------+------------------+ | CentOS Stream 10 | PASS | SKIPPED | SKIPPED | SKIPPED | SKIPPED | SKIPPED | +-------------------------------+--------------------+-------------------+-------------------------+----------------------+-------------------+------------------+ | Fedora Linux 42 | PASS | SKIPPED | SKIPPED | SKIPPED | PASS | PASS | +-------------------------------+--------------------+-------------------+-------------------------+----------------------+-------------------+------------------+ | openSUSE Leap 15.6 | PASS | SKIPPED | SKIPPED | SKIPPED | SKIPPED | SKIPPED | +-------------------------------+--------------------+-------------------+-------------------------+----------------------+-------------------+------------------+ | Red Hat Enterprise Linux 8.10 | PASS | SKIPPED | SKIPPED | SKIPPED | SKIPPED | SKIPPED | +-------------------------------+--------------------+-------------------+-------------------------+----------------------+-------------------+------------------+ | Red Hat Enterprise Linux 9.5 | PASS | SKIPPED | SKIPPED | SKIPPED | SKIPPED | SKIPPED | +-------------------------------+--------------------+-------------------+-------------------------+----------------------+-------------------+------------------+ | Ubuntu 22.04 | PASS | SKIPPED | SKIPPED | SKIPPED | PASS | SKIPPED | +-------------------------------+--------------------+-------------------+-------------------------+----------------------+-------------------+------------------+ | Ubuntu 24.04 | PASS | SKIPPED | SKIPPED | SKIPPED | PASS | PASS | +-------------------------------+--------------------+-------------------+-------------------------+----------------------+-------------------+------------------+ | Alpine Linux 3.22.0 | PASS | SKIPPED | SKIPPED | SKIPPED | SKIPPED | SKIPPED | +-------------------------------+--------------------+-------------------+-------------------------+----------------------+-------------------+------------------+ | Windows Server 2022 | SKIPPED | PASS | PASS | PASS | SKIPPED | SKIPPED | +-------------------------------+--------------------+-------------------+-------------------------+----------------------+-------------------+------------------+ Ubuntu 20.04 Kernel: 4.19 Compiler: gcc gcc (Ubuntu 9.4.0-1ubuntu1~20.04.2) 9.4.0 FreeBSD 14.2 Kernel: 14.2-RELEASE Compiler: clang 18.1.6 CentOS Stream 9 Kernel: 5.15 Compiler: gcc gcc (GCC) 11.5.0 20240719 (Red Hat 11.5.0-11) Debian GNU/Linux 12 Kernel: 5.15 Compiler: gcc gcc (Debian 12.2.0-14+deb12u1) 12.2.0 CentOS Stream 10 Kernel: 5.15 Compiler: gcc gcc (GCC) 14.2.1 20250110 (Red Hat 14.2.1-8) Fedora Linux 42 Kernel: 5.15 Compiler: gcc gcc (GCC) 15.2.1 20250808 (Red Hat 15.2.1-1) openSUSE Leap 15.6 Kernel: 5.15 Compiler: gcc gcc (SUSE Linux) 7.5.0 Red Hat Enterprise Linux 8.10 Kernel: 5.15 Compiler: gcc gcc (GCC) 8.5.0 20210514 (Red Hat 8.5.0-22) Red Hat Enterprise Linux 9.5 Kernel: 5.15 Compiler: gcc gcc (GCC) 11.5.0 20240719 (Red Hat 11.5.0-2) Ubuntu 22.04 Kernel: 5.15 Compiler: gcc gcc (Ubuntu 11.4.0-1ubuntu1~22.04) 11.4.0 Ubuntu 24.04 Kernel: 5.15 Compiler: gcc gcc (Ubuntu 13.3.0-6ubuntu2~24.04) 13.3.0 Alpine Linux 3.22.0 Kernel: 5.15 Compiler: gcc gcc (Alpine 14.2.0) 14.2.0 Windows Server 2022 Kernel: 10.0.20348.2031 Compiler: clang 15.0.7, gcc 14.1.0 (MinGW), and MSVC VS 19.39.33521 To view detailed results, visit: https://lab.dpdk.org/results/dashboard/tarballs/35065/ UNH-IOL DPDK Community Lab To manage your email subscriptions, visit: https://lab.dpdk.org/results/dashboard/preferences/subscriptions/