From mboxrd@z Thu Jan 1 00:00:00 1970 Return-Path: Received: from mails.dpdk.org (mails.dpdk.org [217.70.189.124]) by inbox.dpdk.org (Postfix) with ESMTP id E3E4C48881 for ; Wed, 1 Oct 2025 14:07:22 +0200 (CEST) Received: from mails.dpdk.org (localhost [127.0.0.1]) by mails.dpdk.org (Postfix) with ESMTP id C330840A71; Wed, 1 Oct 2025 14:07:22 +0200 (CEST) Received: from mail-oo1-f100.google.com (mail-oo1-f100.google.com [209.85.161.100]) by mails.dpdk.org (Postfix) with ESMTP id A865240A71 for ; Wed, 1 Oct 2025 14:07:21 +0200 (CEST) Received: by mail-oo1-f100.google.com with SMTP id 006d021491bc7-64b8b6cc06bso214924eaf.2 for ; Wed, 01 Oct 2025 05:07:21 -0700 (PDT) DKIM-Signature: v=1; a=rsa-sha256; c=relaxed/relaxed; d=iol.unh.edu; s=unh-iol; t=1759320441; x=1759925241; darn=dpdk.org; h=references:in-reply-to:cc:to:from:subject:message-id:date:from:to :cc:subject:date:message-id:reply-to; bh=gcInKjB0temDntTGRwOYS4HAkbdncTm6WAiIHZaG6Bw=; b=UYkQFeKGJL+LiJ+Xi1zPr1NUqpCdwVOZ+FPbqQbil/XPU+m3lyhaSAF1mZ97ZF8II4 stJ0ccyGXjYUEKJsMOA9c9HD7b2Boh4xrzAQBfdsG5zWQJ6+ZWVBxWD8Vd3bag6QGPOg o++mnzc8wo8vId7AS+BqgQQ9LMWfEKPstFSBs= X-Google-DKIM-Signature: v=1; a=rsa-sha256; c=relaxed/relaxed; d=1e100.net; s=20230601; t=1759320441; x=1759925241; h=references:in-reply-to:cc:to:from:subject:message-id:date :x-gm-message-state:from:to:cc:subject:date:message-id:reply-to; bh=gcInKjB0temDntTGRwOYS4HAkbdncTm6WAiIHZaG6Bw=; b=Fsi0X6U7mivAunqBrwLmpA83NlGNc4+d/nKzzGH3kNOEUFUFpxkWFnSLdz/7B9z2go oN+wzgZnUhSphAsqy9Nv7TYGj+h5hQERQ4qX8UBnGjSizwU8eVzImNITr67jd8vzYI4d 0D122o5KoSlda0H8IaP+XW2CBrDYwdfvPcCfWIVE2EkUtn9qUbGGIBmazSrZa1yRdokB G52TbP9CEVqLWL+wQSy7PwYo0F6q9qVekiVvyWe0Or5ocragi9KkjLGxdDY4AcvgLUY3 agUF5lve2hWRa6uSaYi+jpDaP5ZW9Lw7usGZjIf8XU+kEJ1N2MCwXXovtVF/XZSCOE3/ Ougg== X-Gm-Message-State: AOJu0Yx1Q02EFMEpDvl4XwzUP+SVxY5dDsvs5iTC4QzxKoXpuaThos1a FM76/krCK+OPv550tBJmShOizZkI3VFkdjlY7WALpmyXpz1ErGf6nIto38w1HUDzT+2NH/LPK3k PQkRa707DKPkorBqfqm8y8RAX7Gzqn85+wqyq+R4hbikEZW1SQJMogdgexJyf X-Gm-Gg: ASbGncvwmMT8s4KnYSTGQH6QhMvbkfUl913Gm632SScL6VtI1g26YZ7zgS9w36ZEyax ALKiPLl/vBJuUp3B9kIBM2AdFujjZ7uNQkmtYZuJ36NwJm8EEEQIBD0XZcZy7PP02vC09CbQeS2 PGA5U7bYF/zWTADsty6drm+8V9rFczBow+UbOV7OHI0InBzPGbNcxemniiYkQbivm4KuDfFQCX5 7eDsNvHS8I3gDpJxe7nxATi6/H/XsdcUmFH/rC8n2Zti5Hf6kzp2bKczP2gDxJHf9QKJX1n+Yh8 GZn3UCpQbLm+GhaWx0SMRO9d7c2DPU/d4silhZqrDQUQksgWpPZgK4M= X-Google-Smtp-Source: AGHT+IGah0MjWJ6pn8tI1x9X8yhnTnidwsLyHhzxn++8EPHkE21B4v2YHqkSPyp+eMh6z/qfRKhRPg5jDjMa X-Received: by 2002:a05:6820:4082:b0:64d:a624:9467 with SMTP id 006d021491bc7-64da624c726mr242643eaf.1.1759320440653; Wed, 01 Oct 2025 05:07:20 -0700 (PDT) Received: from postal.iol.unh.edu (postal.iol.unh.edu. [2606:4100:3880:1234::84]) by smtp-relay.gmail.com with ESMTPS id 006d021491bc7-63b1e3495a0sm646928eaf.3.2025.10.01.05.07.20 (version=TLS1_2 cipher=ECDHE-ECDSA-AES128-GCM-SHA256 bits=128/128); Wed, 01 Oct 2025 05:07:20 -0700 (PDT) X-Relaying-Domain: iol.unh.edu Date: Wed, 01 Oct 2025 05:07:20 -0700 (PDT) Message-ID: <68dd1978.050a0220.6645e.6a4cSMTPIN_ADDED_MISSING@mx.google.com> Received: from [172.21.0.2] (unknown [172.18.0.240]) by postal.iol.unh.edu (Postfix) with ESMTP id C61B76051830; Wed, 1 Oct 2025 08:07:19 -0400 (EDT) Subject: |SUCCESS| pw157171 [PATCH] crypto/cnxk: add packet vector support From: dpdklab@iol.unh.edu To: Test Report Cc: dpdk-test-reports@iol.unh.edu In-Reply-To: <20251001103846.1130824-1-ktejasree@marvell.com> References: <20251001103846.1130824-1-ktejasree@marvell.com> Content-Type: text/plain X-BeenThere: test-report@dpdk.org X-Mailman-Version: 2.1.29 Precedence: list List-Id: automatic DPDK test reports List-Unsubscribe: , List-Archive: List-Post: List-Help: List-Subscribe: , Errors-To: test-report-bounces@dpdk.org Test-Label: iol-unit-amd64-testing Test-Status: SUCCESS http://dpdk.org/patch/157171 _Testing PASS_ Submitter: Tejasree Kondoj Date: Wednesday, October 01 2025 10:38:46 DPDK git baseline: Repo:dpdk Branch: master CommitID:f3878b615e69a12087a6c5d212723478cfc79c31 157171 --> testing pass Upstream job id: Generic-VM-Unit-Test-DPDK#31523 Test environment and result as below: +-------------------------------+----------------+ | Environment | dpdk_unit_test | +===============================+================+ | CentOS Stream 9 | PASS | +-------------------------------+----------------+ | Windows Server 2022 | PASS | +-------------------------------+----------------+ | CentOS Stream 10 | PASS | +-------------------------------+----------------+ | Debian GNU/Linux 12 | PASS | +-------------------------------+----------------+ | Fedora Linux 40 | PASS | +-------------------------------+----------------+ | Fedora Linux 41 | PASS | +-------------------------------+----------------+ | Fedora Linux 42 | PASS | +-------------------------------+----------------+ | Red Hat Enterprise Linux 8.10 | PASS | +-------------------------------+----------------+ | Ubuntu 22.04 | PASS | +-------------------------------+----------------+ | Red Hat Enterprise Linux 9.5 | PASS | +-------------------------------+----------------+ | Ubuntu 20.04 | PASS | +-------------------------------+----------------+ | Ubuntu 24.04 | PASS | +-------------------------------+----------------+ CentOS Stream 9 Kernel: 5.15 Compiler: gcc gcc (GCC) 11.5.0 20240719 (Red Hat 11.5.0-11) Windows Server 2022 Kernel: 10.0.20348.2031 Compiler: clang 15.0.7, gcc 14.1.0 (MinGW), and MSVC VS 19.39.33521 CentOS Stream 10 Kernel: 5.15 Compiler: gcc gcc (GCC) 14.2.1 20250110 (Red Hat 14.2.1-8) Debian GNU/Linux 12 Kernel: 5.15 Compiler: gcc gcc (Debian 12.2.0-14+deb12u1) 12.2.0 Fedora Linux 40 Kernel: 5.15 Compiler: gcc gcc (GCC) 14.2.1 20240912 (Red Hat 14.2.1-3) Fedora Linux 41 Kernel: 5.15 Compiler: gcc gcc (GCC) 14.3.1 20250523 (Red Hat 14.3.1-1) Fedora Linux 42 Kernel: 5.15 Compiler: gcc gcc (GCC) 15.2.1 20250808 (Red Hat 15.2.1-1) Red Hat Enterprise Linux 8.10 Kernel: 5.15 Compiler: gcc gcc (GCC) 8.5.0 20210514 (Red Hat 8.5.0-22) Ubuntu 22.04 Kernel: 5.15 Compiler: gcc gcc (Ubuntu 11.4.0-1ubuntu1~22.04) 11.4.0 Red Hat Enterprise Linux 9.5 Kernel: 5.15 Compiler: gcc gcc (GCC) 11.5.0 20240719 (Red Hat 11.5.0-2) Ubuntu 20.04 Kernel: 5.15 Compiler: gcc gcc (Ubuntu 9.4.0-1ubuntu1~20.04.2) 9.4.0 Ubuntu 24.04 Kernel: 5.15 Compiler: gcc gcc (Ubuntu 13.3.0-6ubuntu2~24.04) 13.3.0 To view detailed results, visit: https://lab.dpdk.org/results/dashboard/patchsets/34192/ UNH-IOL DPDK Community Lab To manage your email subscriptions, visit: https://lab.dpdk.org/results/dashboard/preferences/subscriptions/