From mboxrd@z Thu Jan 1 00:00:00 1970 Return-Path: Received: from mails.dpdk.org (mails.dpdk.org [217.70.189.124]) by inbox.dpdk.org (Postfix) with ESMTP id 66A2648881 for ; Wed, 1 Oct 2025 14:20:22 +0200 (CEST) Received: from mails.dpdk.org (localhost [127.0.0.1]) by mails.dpdk.org (Postfix) with ESMTP id 3F4F4406A2; Wed, 1 Oct 2025 14:20:22 +0200 (CEST) Received: from mail-yw1-f227.google.com (mail-yw1-f227.google.com [209.85.128.227]) by mails.dpdk.org (Postfix) with ESMTP id 515AB406A2 for ; Wed, 1 Oct 2025 14:20:21 +0200 (CEST) Received: by mail-yw1-f227.google.com with SMTP id 00721157ae682-71d5fb5e34cso14836897b3.0 for ; Wed, 01 Oct 2025 05:20:21 -0700 (PDT) DKIM-Signature: v=1; a=rsa-sha256; c=relaxed/relaxed; d=iol.unh.edu; s=unh-iol; t=1759321220; x=1759926020; darn=dpdk.org; h=references:in-reply-to:cc:to:from:subject:message-id:date:from:to :cc:subject:date:message-id:reply-to; bh=4Nf1IB/SN6lGcH9EuRiEXK+Yee54D8Xz9vi/a4Ydtok=; b=X4RosOSkMpN3Y6LDWO6tpaZoknSvg9gHXMrTAvS8OPPI4e7GUVhhqiggmVlyCh7OOa pVKL5G45J9xBQplsEX9kmGTjbod3L4ghXs35x9CXVu7rulr5/9ec/7gqm4mSU/afwwKS 6Wcl843E9AGDFC3chx7MeimSlpHnsCyTNZNQY= X-Google-DKIM-Signature: v=1; a=rsa-sha256; c=relaxed/relaxed; d=1e100.net; s=20230601; t=1759321220; x=1759926020; h=references:in-reply-to:cc:to:from:subject:message-id:date :x-gm-message-state:from:to:cc:subject:date:message-id:reply-to; bh=4Nf1IB/SN6lGcH9EuRiEXK+Yee54D8Xz9vi/a4Ydtok=; b=Z6+/IWatvJrYl0bEM9MAaJAGKGLMKIYC8Lq8Qw+tTTngREAeEyQ0yNBEl0QePNo3Iy Ro3PeaT2RebVS3E0oWDMCq1Ikbp5cSK9cQPNGl1OHjLo2P0k5kHv6e8+UX7NJa1Zu+W6 IylHNT6YayvFXkFr/7Bd4aJ4yh8wvMRvYdO1fvqLn6NyrE4HfNKfpM/o+lDlnEm/0k7x 849aXg+/2xXcPoMvFTN1edjTiBU085Z9MaMsuwpLCZgb52CMj8hQxYjmmK2wMMB02XAU YlgMtSPxpL+QSRNvhwK4MGrumV572dujKI2uU02Ue64W3zogqJqOxnettckDccW7y5Ec Qkwg== X-Gm-Message-State: AOJu0YzxMLvGxu7iZXP2MFlQE9Z7wWc+j5/5w1uzHIUCBfGUbEbI19Lc hgUlhfiZDg4/C0P7oxJrJG6Xex//VUS+FaHobnY5gzPGbkN+LER4tK5EPi7vl/yapv9+Rof4ll+ 9kmcrGXHuycySAlYOysXWBhNbVH7++MmpR35k57iWYsGJQnZK/YQO2ouFSD3S X-Gm-Gg: ASbGncvno+gfscoPfZWX3lYYTe0uIF0mEls0VDnkl8qcAzrs5nDOoF/BAzObpUleBAj iVCPoxh6AHmQDWa6QBC+E8eA8d9C2+a0KckMtJscW1cKmt5Nt9lsAp90I84wXcOsRuPpIgdLD5h DQXW0dp2VIgTfUxlM8q+UOnEplavffBAvO/+1c1yGKRWEb33wG5b9ZTKcohrpT2HeAC5K4zfSKQ obt2qiuEgAmcQ0otLzvBPc0LjIY51T4XIu/B9pi+0xfJVyYvZP2papBINWr7DGFOXrXbAiExNc0 jKCrOk7x5eUwH+uiYMJzmk/xFQ5VZEnU/U1u0+3YDqYbrKj8gBJw6r0= X-Google-Smtp-Source: AGHT+IGEECja7Gq2EgMzoiQKsu+yCER/Bq5Eimsunpg594fJ9sRuo1t9nZoYFWC3pukz6+c8Pon/Cb4vM9Zy X-Received: by 2002:a05:690c:56c2:b0:77f:7243:2cae with SMTP id 00721157ae682-77f72432fd6mr24497677b3.9.1759321220501; Wed, 01 Oct 2025 05:20:20 -0700 (PDT) Received: from postal.iol.unh.edu (postal.iol.unh.edu. [2606:4100:3880:1234::84]) by smtp-relay.gmail.com with ESMTPS id 00721157ae682-77f6644f56bsm2242627b3.39.2025.10.01.05.20.20 (version=TLS1_2 cipher=ECDHE-ECDSA-AES128-GCM-SHA256 bits=128/128); Wed, 01 Oct 2025 05:20:20 -0700 (PDT) X-Relaying-Domain: iol.unh.edu Date: Wed, 01 Oct 2025 05:20:20 -0700 (PDT) Message-ID: <68dd1c84.050a0220.56d93.d18dSMTPIN_ADDED_MISSING@mx.google.com> Received: from [172.21.0.2] (unknown [172.18.0.240]) by postal.iol.unh.edu (Postfix) with ESMTP id 2259760003F7; Wed, 1 Oct 2025 08:20:20 -0400 (EDT) Subject: |SUCCESS| pw157151-157155 [PATCH] [v3,5/5] usertools/mbuf: parse mbu From: dpdklab@iol.unh.edu To: Test Report Cc: dpdk-test-reports@iol.unh.edu In-Reply-To: <20250930233828.3999565-6-thomas@monjalon.net> References: <20250930233828.3999565-6-thomas@monjalon.net> Content-Type: text/plain X-BeenThere: test-report@dpdk.org X-Mailman-Version: 2.1.29 Precedence: list List-Id: automatic DPDK test reports List-Unsubscribe: , List-Archive: List-Post: List-Help: List-Subscribe: , Errors-To: test-report-bounces@dpdk.org Test-Label: iol-compile-amd64-testing Test-Status: SUCCESS http://dpdk.org/patch/157155 _Testing PASS_ Submitter: Thomas Monjalon Date: Tuesday, September 30 2025 23:25:06 DPDK git baseline: Repo:dpdk Branch: master CommitID:f3878b615e69a12087a6c5d212723478cfc79c31 157151-157155 --> testing pass Upstream job id: Generic-DPDK-Compile-Meson#430288 Test environment and result as below: +------------------------------+--------------------+-------------------------+-------------------+----------------------+ | Environment | dpdk_meson_compile | dpdk_llvm_clang_compile | dpdk_msvc_compile | dpdk_mingw64_compile | +==============================+====================+=========================+===================+======================+ | Ubuntu 20.04 | PASS | SKIPPED | SKIPPED | SKIPPED | +------------------------------+--------------------+-------------------------+-------------------+----------------------+ | FreeBSD 14.2 | PASS | SKIPPED | SKIPPED | SKIPPED | +------------------------------+--------------------+-------------------------+-------------------+----------------------+ | Red Hat Enterprise Linux 9.5 | PASS | SKIPPED | SKIPPED | SKIPPED | +------------------------------+--------------------+-------------------------+-------------------+----------------------+ | Windows Server 2022 | SKIPPED | PASS | PASS | PASS | +------------------------------+--------------------+-------------------------+-------------------+----------------------+ Ubuntu 20.04 Kernel: 4.19 Compiler: gcc gcc (Ubuntu 9.4.0-1ubuntu1~20.04.2) 9.4.0 FreeBSD 14.2 Kernel: 14.2-RELEASE Compiler: clang 18.1.6 Red Hat Enterprise Linux 9.5 Kernel: 5.15 Compiler: gcc gcc (GCC) 11.5.0 20240719 (Red Hat 11.5.0-2) Windows Server 2022 Kernel: 10.0.20348.2031 Compiler: clang 15.0.7, gcc 14.1.0 (MinGW), and MSVC VS 19.39.33521 To view detailed results, visit: https://lab.dpdk.org/results/dashboard/patchsets/34187/ UNH-IOL DPDK Community Lab To manage your email subscriptions, visit: https://lab.dpdk.org/results/dashboard/preferences/subscriptions/