From mboxrd@z Thu Jan 1 00:00:00 1970 Return-Path: Received: from mails.dpdk.org (mails.dpdk.org [217.70.189.124]) by inbox.dpdk.org (Postfix) with ESMTP id C54DE48881 for ; Wed, 1 Oct 2025 14:25:13 +0200 (CEST) Received: from mails.dpdk.org (localhost [127.0.0.1]) by mails.dpdk.org (Postfix) with ESMTP id AEA65406A2; Wed, 1 Oct 2025 14:25:13 +0200 (CEST) Received: from mail-vk1-f225.google.com (mail-vk1-f225.google.com [209.85.221.225]) by mails.dpdk.org (Postfix) with ESMTP id 22C68406A2 for ; Wed, 1 Oct 2025 14:25:12 +0200 (CEST) Received: by mail-vk1-f225.google.com with SMTP id 71dfb90a1353d-54bbc2a8586so2639333e0c.2 for ; Wed, 01 Oct 2025 05:25:12 -0700 (PDT) DKIM-Signature: v=1; a=rsa-sha256; c=relaxed/relaxed; d=iol.unh.edu; s=unh-iol; t=1759321511; x=1759926311; darn=dpdk.org; h=cc:to:from:subject:message-id:date:from:to:cc:subject:date :message-id:reply-to; bh=Y4WfJmT1F/IfIBsPYovknr1dGtes6doazAuZK28Y5m8=; b=XYE7AHOvDjM9J6I/Ve+lhB3V+tGpUNd4TTTZiqfJNsNbXtO9jbTWqGx/vL310tuxb+ wg4whrY6+pXftzhCfXWLD3sD4puC/zWMh0+jmUBUGxBbCJ0EDWyCNoDzgTWOdlTm5IgG mtycmR240Dn134LOrxADosNOgpcBVPtIAFjhM= X-Google-DKIM-Signature: v=1; a=rsa-sha256; c=relaxed/relaxed; d=1e100.net; s=20230601; t=1759321511; x=1759926311; h=cc:to:from:subject:message-id:date:x-gm-message-state:from:to:cc :subject:date:message-id:reply-to; bh=Y4WfJmT1F/IfIBsPYovknr1dGtes6doazAuZK28Y5m8=; b=W0rnEsfmh/ST8SByveo1OhHPgqm3JWmgneniI1pjYSalilmvmsc+C6A4+Am9ZQePXx ca+JnYVTSK5uvf/fvOsfx3eSRLkz5aIu4gxBtIstbCxO2M0YdRJu9ur+O/61RU33LE8V Wd7IKBFE2aPLmvoW0TEMECNW/Ki+7YsMVjqSGD1DS3X0BoixFyFxQ6lGXBHRqhCF7jC0 NLprk3g98Ez6w/pd5TAqumeNnxxLBL1OLqoExUnm6qJup5LqKxgJnbuHy0/5p79HX0ak h7cig1JfosujlPlPvF8jQK+YVu/XPeZuL9FfjnWdtoYoOkOk6YWPm1R12nWZJjqndIVZ PKSw== X-Gm-Message-State: AOJu0YypBofuxsJfbNT/xm6BZ86LOEUAP/KO13jPIrMm/ZDmR3kQyPK8 swAJtJiTEZPKeIamCG2hQmG29MNUErVB6A2SDBmSVzMNvB6BDt82C96koUkhfJrdtGL3Upvcu/Q 9LGBBwr3GI/BjJmFkb8Xukb1h0TjLq4rxer8QcduQc8G6 X-Gm-Gg: ASbGncuxuM6fknGPfAMUUfWOg/QWSowDJ8Nkc4fF6MDN37j2Rt7nh6DBIn0sJHzgurZ NqawRS7gLZnnIItyn7cnaGrF4//gQ2Kd0kZSpeGKk6TuQwjyAw/B5qGov6pY10AdixPbyor8gYk uxzbFygKHQ1ORmjcRgdwshcfXf5kIUAWe2dNano7GeCPTKfJBFpnpP5vLz/Beu0ShwnDbW1lesr W1e4sUX0W6z8Zt+tGjPTkcqL+4VpsZuFQmbTItjcYiQ4VMTAulEwVflx6fgCYlvLVU2Mc7Y1LOF xi07BXp9/OBYewdRaPeCVLmOWBcLv1M7haKNQ44au0tiCCZ9NCcezRjI6tYYGSjEQ5xo8dY/iNo Isg== X-Google-Smtp-Source: AGHT+IEffnuo02xbX4HuiL0Q5Rhf+1r48gxIwTK7u9fb/zZfLym5diZLL3aMaJs5QzvNXAi2JfSrLY4DNFA7 X-Received: by 2002:a05:6122:8c15:b0:54a:99e2:47db with SMTP id 71dfb90a1353d-5522d3efaf7mr1237304e0c.13.1759321511410; Wed, 01 Oct 2025 05:25:11 -0700 (PDT) Received: from postal.iol.unh.edu (postal.iol.unh.edu. [132.177.123.84]) by smtp-relay.gmail.com with ESMTPS id 71dfb90a1353d-54beddfb09asm974930e0c.8.2025.10.01.05.25.11 (version=TLS1_2 cipher=ECDHE-ECDSA-AES128-GCM-SHA256 bits=128/128); Wed, 01 Oct 2025 05:25:11 -0700 (PDT) X-Relaying-Domain: iol.unh.edu Date: Wed, 01 Oct 2025 05:25:11 -0700 (PDT) Message-ID: <68dd1da7.050a0220.3376a1.b2e7SMTPIN_ADDED_MISSING@mx.google.com> Received: from [172.21.0.2] (unknown [172.18.0.240]) by postal.iol.unh.edu (Postfix) with ESMTP id 1B43B6051830; Wed, 1 Oct 2025 08:25:11 -0400 (EDT) Subject: |SUCCESS| [GIT MASTER] 8fafc107475f8456cf90cbb7e805236aafa6d547 From: dpdklab@iol.unh.edu To: Test Report Cc: dpdk-test-reports@iol.unh.edu, Akhil Goyal Content-Type: text/plain X-BeenThere: test-report@dpdk.org X-Mailman-Version: 2.1.29 Precedence: list List-Id: automatic DPDK test reports List-Unsubscribe: , List-Archive: List-Post: List-Help: List-Subscribe: , Errors-To: test-report-bounces@dpdk.org _Testing PASS_ Branch: dpdk-next-crypto 8fafc107475f8456cf90cbb7e805236aafa6d547 --> testing pass Upstream job id: Generic-DPDK-Compile-Meson#430287 Test environment and result as below: +-------------------------------+--------------------+-------------------+-------------------------+----------------------+-------------------+------------------+ | Environment | dpdk_meson_compile | dpdk_msvc_compile | dpdk_llvm_clang_compile | dpdk_mingw64_compile | dpdk_compile_spdk | dpdk_compile_ovs | +===============================+====================+===================+=========================+======================+===================+==================+ | Ubuntu 20.04 | PASS | SKIPPED | SKIPPED | SKIPPED | SKIPPED | SKIPPED | +-------------------------------+--------------------+-------------------+-------------------------+----------------------+-------------------+------------------+ | FreeBSD 14.2 | PASS | SKIPPED | SKIPPED | SKIPPED | SKIPPED | SKIPPED | +-------------------------------+--------------------+-------------------+-------------------------+----------------------+-------------------+------------------+ | CentOS Stream 9 | PASS | SKIPPED | SKIPPED | SKIPPED | PASS | SKIPPED | +-------------------------------+--------------------+-------------------+-------------------------+----------------------+-------------------+------------------+ | Debian GNU/Linux 12 | PASS | SKIPPED | SKIPPED | SKIPPED | PASS | SKIPPED | +-------------------------------+--------------------+-------------------+-------------------------+----------------------+-------------------+------------------+ | CentOS Stream 10 | PASS | SKIPPED | SKIPPED | SKIPPED | SKIPPED | SKIPPED | +-------------------------------+--------------------+-------------------+-------------------------+----------------------+-------------------+------------------+ | Fedora Linux 42 | PASS | SKIPPED | SKIPPED | SKIPPED | PASS | PASS | +-------------------------------+--------------------+-------------------+-------------------------+----------------------+-------------------+------------------+ | openSUSE Leap 15.6 | PASS | SKIPPED | SKIPPED | SKIPPED | SKIPPED | SKIPPED | +-------------------------------+--------------------+-------------------+-------------------------+----------------------+-------------------+------------------+ | Red Hat Enterprise Linux 8.10 | PASS | SKIPPED | SKIPPED | SKIPPED | SKIPPED | SKIPPED | +-------------------------------+--------------------+-------------------+-------------------------+----------------------+-------------------+------------------+ | Red Hat Enterprise Linux 9.5 | PASS | SKIPPED | SKIPPED | SKIPPED | SKIPPED | SKIPPED | +-------------------------------+--------------------+-------------------+-------------------------+----------------------+-------------------+------------------+ | Ubuntu 22.04 | PASS | SKIPPED | SKIPPED | SKIPPED | PASS | SKIPPED | +-------------------------------+--------------------+-------------------+-------------------------+----------------------+-------------------+------------------+ | Ubuntu 24.04 | PASS | SKIPPED | SKIPPED | SKIPPED | PASS | PASS | +-------------------------------+--------------------+-------------------+-------------------------+----------------------+-------------------+------------------+ | Alpine Linux 3.22.0 | PASS | SKIPPED | SKIPPED | SKIPPED | SKIPPED | SKIPPED | +-------------------------------+--------------------+-------------------+-------------------------+----------------------+-------------------+------------------+ | Windows Server 2022 | SKIPPED | PASS | PASS | PASS | SKIPPED | SKIPPED | +-------------------------------+--------------------+-------------------+-------------------------+----------------------+-------------------+------------------+ Ubuntu 20.04 Kernel: 4.19 Compiler: gcc gcc (Ubuntu 9.4.0-1ubuntu1~20.04.2) 9.4.0 FreeBSD 14.2 Kernel: 14.2-RELEASE Compiler: clang 18.1.6 CentOS Stream 9 Kernel: 5.15 Compiler: gcc gcc (GCC) 11.5.0 20240719 (Red Hat 11.5.0-11) Debian GNU/Linux 12 Kernel: 5.15 Compiler: gcc gcc (Debian 12.2.0-14+deb12u1) 12.2.0 CentOS Stream 10 Kernel: 5.15 Compiler: gcc gcc (GCC) 14.2.1 20250110 (Red Hat 14.2.1-8) Fedora Linux 42 Kernel: 5.15 Compiler: gcc gcc (GCC) 15.2.1 20250808 (Red Hat 15.2.1-1) openSUSE Leap 15.6 Kernel: 5.15 Compiler: gcc gcc (SUSE Linux) 7.5.0 Red Hat Enterprise Linux 8.10 Kernel: 5.15 Compiler: gcc gcc (GCC) 8.5.0 20210514 (Red Hat 8.5.0-22) Red Hat Enterprise Linux 9.5 Kernel: 5.15 Compiler: gcc gcc (GCC) 11.5.0 20240719 (Red Hat 11.5.0-2) Ubuntu 22.04 Kernel: 5.15 Compiler: gcc gcc (Ubuntu 11.4.0-1ubuntu1~22.04) 11.4.0 Ubuntu 24.04 Kernel: 5.15 Compiler: gcc gcc (Ubuntu 13.3.0-6ubuntu2~24.04) 13.3.0 Alpine Linux 3.22.0 Kernel: 5.15 Compiler: gcc gcc (Alpine 14.2.0) 14.2.0 Windows Server 2022 Kernel: 10.0.20348.2031 Compiler: clang 15.0.7, gcc 14.1.0 (MinGW), and MSVC VS 19.39.33521 To view detailed results, visit: https://lab.dpdk.org/results/dashboard/tarballs/35065/ UNH-IOL DPDK Community Lab To manage your email subscriptions, visit: https://lab.dpdk.org/results/dashboard/preferences/subscriptions/